BEGIN:VCALENDAR
VERSION:2.0
PRODID:-//Pend Oreille Winery in Sandpoint, Idaho - ECPv6.15.20//NONSGML v1.0//EN
CALSCALE:GREGORIAN
METHOD:PUBLISH
X-ORIGINAL-URL:https://powine.com
X-WR-CALDESC:Events for Pend Oreille Winery in Sandpoint, Idaho
REFRESH-INTERVAL;VALUE=DURATION:PT1H
X-Robots-Tag:noindex
X-PUBLISHED-TTL:PT1H
BEGIN:VTIMEZONE
TZID:America/Los_Angeles
BEGIN:DAYLIGHT
TZOFFSETFROM:-0800
TZOFFSETTO:-0700
TZNAME:PDT
DTSTART:20200308T100000
END:DAYLIGHT
BEGIN:STANDARD
TZOFFSETFROM:-0700
TZOFFSETTO:-0800
TZNAME:PST
DTSTART:20201101T090000
END:STANDARD
BEGIN:DAYLIGHT
TZOFFSETFROM:-0800
TZOFFSETTO:-0700
TZNAME:PDT
DTSTART:20210314T100000
END:DAYLIGHT
BEGIN:STANDARD
TZOFFSETFROM:-0700
TZOFFSETTO:-0800
TZNAME:PST
DTSTART:20211107T090000
END:STANDARD
BEGIN:DAYLIGHT
TZOFFSETFROM:-0800
TZOFFSETTO:-0700
TZNAME:PDT
DTSTART:20220313T100000
END:DAYLIGHT
BEGIN:STANDARD
TZOFFSETFROM:-0700
TZOFFSETTO:-0800
TZNAME:PST
DTSTART:20221106T090000
END:STANDARD
END:VTIMEZONE
BEGIN:VEVENT
DTSTART;TZID=America/Los_Angeles:20210615T173000
DTEND;TZID=America/Los_Angeles:20210615T193000
DTSTAMP:20260424T054622
CREATED:20210607T172537Z
LAST-MODIFIED:20210607T172537Z
UID:10001273-1623778200-1623785400@powine.com
SUMMARY:Paint & Sip with Holly Walker
DESCRIPTION:We welcome you to a fun evening of creativity at our June Paint & Sip. Holly Walker will be back hosting this month’s Paint & Sip on June 15th. The class is from 5:30-7:30 and includes supplies\, instruction and a glass of house red or house white wine. $35+ tax per person. This class is sure to fill up fast\, call to sign up today! 208.265.8545
URL:https://powine.com/event/paint-sip-with-holly-walker/
LOCATION:Pend d’Oreille Winery\, 301 Cedar Street\, Sandpoint\, ID\, United States
CATEGORIES:Sip and Paint
END:VEVENT
END:VCALENDAR