BEGIN:VCALENDAR
VERSION:2.0
PRODID:-//Pend Oreille Winery in Sandpoint, Idaho - ECPv6.15.20//NONSGML v1.0//EN
CALSCALE:GREGORIAN
METHOD:PUBLISH
X-WR-CALNAME:Pend Oreille Winery in Sandpoint, Idaho
X-ORIGINAL-URL:https://powine.com
X-WR-CALDESC:Events for Pend Oreille Winery in Sandpoint, Idaho
REFRESH-INTERVAL;VALUE=DURATION:PT1H
X-Robots-Tag:noindex
X-PUBLISHED-TTL:PT1H
BEGIN:VTIMEZONE
TZID:America/Los_Angeles
BEGIN:DAYLIGHT
TZOFFSETFROM:-0800
TZOFFSETTO:-0700
TZNAME:PDT
DTSTART:20200308T100000
END:DAYLIGHT
BEGIN:STANDARD
TZOFFSETFROM:-0700
TZOFFSETTO:-0800
TZNAME:PST
DTSTART:20201101T090000
END:STANDARD
BEGIN:DAYLIGHT
TZOFFSETFROM:-0800
TZOFFSETTO:-0700
TZNAME:PDT
DTSTART:20210314T100000
END:DAYLIGHT
BEGIN:STANDARD
TZOFFSETFROM:-0700
TZOFFSETTO:-0800
TZNAME:PST
DTSTART:20211107T090000
END:STANDARD
BEGIN:DAYLIGHT
TZOFFSETFROM:-0800
TZOFFSETTO:-0700
TZNAME:PDT
DTSTART:20220313T100000
END:DAYLIGHT
BEGIN:STANDARD
TZOFFSETFROM:-0700
TZOFFSETTO:-0800
TZNAME:PST
DTSTART:20221106T090000
END:STANDARD
END:VTIMEZONE
BEGIN:VEVENT
DTSTART;TZID=America/Los_Angeles:20211203T160000
DTEND;TZID=America/Los_Angeles:20211203T190000
DTSTAMP:20260423T134839
CREATED:20211120T213251Z
LAST-MODIFIED:20211120T213251Z
UID:10001594-1638547200-1638558000@powine.com
SUMMARY:Artist Reception for Lynne Campbell and Ladies Night!
DESCRIPTION:Join us in welcoming Lynne Campbell as our December Artist of the Month. Meet with Lynne\nand take a moment to appreciate her photographs and giclee prints on canvas. This will be a\nfun evening of lovely art and holiday spirit as Sandpoint Shopping District hosts Ladies Night!\nExplore our unique gifts and receive 15% for Ladies Night. Pizza and wine specials as well.
URL:https://powine.com/event/artist-reception-for-lynne-campbell-and-ladies-night/
LOCATION:ID
CATEGORIES:Artist Reception
END:VEVENT
BEGIN:VEVENT
DTSTART;TZID=America/Los_Angeles:20211203T170000
DTEND;TZID=America/Los_Angeles:20211203T200000
DTSTAMP:20260423T134839
CREATED:20211120T212311Z
LAST-MODIFIED:20211120T212311Z
UID:10001593-1638550800-1638561600@powine.com
SUMMARY:Live Music with Zach Simms
DESCRIPTION:Hailing from Kansas City and one of Idaho’s new musical residents\, Zachary Simms is a\nsinger/songwriter with over 20 years of experience creating melodic folk rock\, pulling\ninspiration from classic to modern artists.
URL:https://powine.com/event/live-music-with-zach-simms/
LOCATION:ID
CATEGORIES:Music
END:VEVENT
END:VCALENDAR