BEGIN:VCALENDAR
VERSION:2.0
PRODID:-//Pend Oreille Winery in Sandpoint, Idaho - ECPv6.15.20//NONSGML v1.0//EN
CALSCALE:GREGORIAN
METHOD:PUBLISH
X-ORIGINAL-URL:https://powine.com
X-WR-CALDESC:Events for Pend Oreille Winery in Sandpoint, Idaho
REFRESH-INTERVAL;VALUE=DURATION:PT1H
X-Robots-Tag:noindex
X-PUBLISHED-TTL:PT1H
BEGIN:VTIMEZONE
TZID:America/Los_Angeles
BEGIN:DAYLIGHT
TZOFFSETFROM:-0800
TZOFFSETTO:-0700
TZNAME:PDT
DTSTART:20230312T100000
END:DAYLIGHT
BEGIN:STANDARD
TZOFFSETFROM:-0700
TZOFFSETTO:-0800
TZNAME:PST
DTSTART:20231105T090000
END:STANDARD
BEGIN:DAYLIGHT
TZOFFSETFROM:-0800
TZOFFSETTO:-0700
TZNAME:PDT
DTSTART:20240310T100000
END:DAYLIGHT
BEGIN:STANDARD
TZOFFSETFROM:-0700
TZOFFSETTO:-0800
TZNAME:PST
DTSTART:20241103T090000
END:STANDARD
BEGIN:DAYLIGHT
TZOFFSETFROM:-0800
TZOFFSETTO:-0700
TZNAME:PDT
DTSTART:20250309T100000
END:DAYLIGHT
BEGIN:STANDARD
TZOFFSETFROM:-0700
TZOFFSETTO:-0800
TZNAME:PST
DTSTART:20251102T090000
END:STANDARD
END:VTIMEZONE
BEGIN:VEVENT
DTSTART;TZID=America/Los_Angeles:20240601T080000
DTEND;TZID=America/Los_Angeles:20240630T170000
DTSTAMP:20260422T003751
CREATED:20240603T201256Z
LAST-MODIFIED:20240603T201256Z
UID:10001935-1717228800-1719766800@powine.com
SUMMARY:WINE OF THE MONTH – 2022 CHARDONNAY – JUNE 2024
DESCRIPTION:Our 2022 Chardonnay represents Chardonnay fruit from Gamache (51%)\, Coyote Canyon (27%)\, and Bacchus (22%) vineyards. The Chardonnay was fermented in both stainless steel and oak barrels\, resulting in well-integrated\, but not intrusive oak notes. The 2022 vintage is bright and very approachable. Apple blossom and winter melon aromas lead to flavors of D’Anjou pear\, lemongrass\, vanilla cream\, and an elegant minerality. This Chardonnay pairs nicely with triple cream or nutty cheeses\, lobster rolls\, and pasta primavera. \nAll month long 10% off bottles 1 – 5\, 15% off bottles 6 – 11\, and 20% off cases.\nEnjoy $8.50 glass pours through the month of June.
URL:https://powine.com/event/wine-of-the-month-2022-chardonnay-june-2024/
LOCATION:ID
END:VEVENT
BEGIN:VEVENT
DTSTART;TZID=America/Los_Angeles:20240622T170000
DTEND;TZID=America/Los_Angeles:20240622T200000
DTSTAMP:20260422T003751
CREATED:20240603T202949Z
LAST-MODIFIED:20240603T202949Z
UID:10001947-1719075600-1719086400@powine.com
SUMMARY:Live Music with Eli Lev
DESCRIPTION:We welcome Eli Lev as he adds Pend d’ Oreille Winery to his tour!  Let’s fill the space for Eli! Eli is an ambassador of good vibes\, connecting through music and soul.  Indie\, Americana\, Folk\, and Originals.  5-8:00pm.
URL:https://powine.com/event/live-music-with-eli-lev/
LOCATION:Pend d’Oreille Winery\, 301 Cedar Street\, Sandpoint\, ID\, United States
CATEGORIES:Music
END:VEVENT
END:VCALENDAR