BEGIN:VCALENDAR
VERSION:2.0
PRODID:-//Pend Oreille Winery in Sandpoint, Idaho - ECPv6.15.20//NONSGML v1.0//EN
CALSCALE:GREGORIAN
METHOD:PUBLISH
X-ORIGINAL-URL:https://powine.com
X-WR-CALDESC:Events for Pend Oreille Winery in Sandpoint, Idaho
REFRESH-INTERVAL;VALUE=DURATION:PT1H
X-Robots-Tag:noindex
X-PUBLISHED-TTL:PT1H
BEGIN:VTIMEZONE
TZID:America/Los_Angeles
BEGIN:DAYLIGHT
TZOFFSETFROM:-0800
TZOFFSETTO:-0700
TZNAME:PDT
DTSTART:20230312T100000
END:DAYLIGHT
BEGIN:STANDARD
TZOFFSETFROM:-0700
TZOFFSETTO:-0800
TZNAME:PST
DTSTART:20231105T090000
END:STANDARD
BEGIN:DAYLIGHT
TZOFFSETFROM:-0800
TZOFFSETTO:-0700
TZNAME:PDT
DTSTART:20240310T100000
END:DAYLIGHT
BEGIN:STANDARD
TZOFFSETFROM:-0700
TZOFFSETTO:-0800
TZNAME:PST
DTSTART:20241103T090000
END:STANDARD
BEGIN:DAYLIGHT
TZOFFSETFROM:-0800
TZOFFSETTO:-0700
TZNAME:PDT
DTSTART:20250309T100000
END:DAYLIGHT
BEGIN:STANDARD
TZOFFSETFROM:-0700
TZOFFSETTO:-0800
TZNAME:PST
DTSTART:20251102T090000
END:STANDARD
END:VTIMEZONE
BEGIN:VEVENT
DTSTART;VALUE=DATE:20240701
DTEND;VALUE=DATE:20240801
DTSTAMP:20260421T231334
CREATED:20240627T193137Z
LAST-MODIFIED:20240627T193542Z
UID:10001951-1719792000-1722470399@powine.com
SUMMARY:WINE OF THE MONTH – HUCKLEBERRY BLUSH – JULY 2024
DESCRIPTION:Our Huckleberry Blush is an Idaho summer in a glass.  Huckleberry Blush is a Riesling foundation with local huckleberries pressed into the wine.  Aromas of summer peaches and subtle honeysuckle.  Mildly sweet introduction followed by tart huckleberry\, fresh pear\, and crisp apple. Finishes smooth and crisp with long\, lingering huckleberry flavor. \nAll month long 10% off bottles 1 – 5\, 15% off bottles 6 – 11\, and 20% off cases. \nEnjoy $9.00 glass pours through the month of July.
URL:https://powine.com/event/wine-of-the-month-huckleberry-blush-july-2024/
LOCATION:Pend d’Oreille Winery\, 301 Cedar Street\, Sandpoint\, ID\, United States
END:VEVENT
BEGIN:VEVENT
DTSTART;VALUE=DATE:20240701
DTEND;VALUE=DATE:20240801
DTSTAMP:20260421T231334
CREATED:20240627T193224Z
LAST-MODIFIED:20240627T193530Z
UID:10001952-1719792000-1722470399@powine.com
SUMMARY:JULY ARTIST OF THE MONTH- JENNIFER BENOIT
DESCRIPTION:In collaboration with POAC\, the Pend d’ Oreille Winery is honored to host Jennifer Benoit as our July Artwalk artist.  Jenny Benoit is an acrylic painter whose work is most recognized by her realistic detail and vibrant application of color.  Jenny’s subject matter is diverse\, inspired by nature\, in motion and wildly creative. Jenny has earned a bachelor’s degree in visual communications and a minor in Art History from the University of California\, Davis.  Jenny’s bright paintings reflect serene and vibrant floral pieces\, playful modern images\, and realistic wildlife impressions.  Please join us in welcoming Jennifer Benoit to the Pend d’ Oreille Winery during the artist reception on July 11th from 5-7:00pm.
URL:https://powine.com/event/july-artist-of-the-month-jennifer-benoit/
LOCATION:Pend d’Oreille Winery\, 301 Cedar Street\, Sandpoint\, ID\, United States
END:VEVENT
BEGIN:VEVENT
DTSTART;TZID=America/Los_Angeles:20240711T170000
DTEND;TZID=America/Los_Angeles:20240711T190000
DTSTAMP:20260421T231334
CREATED:20240627T193839Z
LAST-MODIFIED:20240628T231956Z
UID:10001959-1720717200-1720724400@powine.com
SUMMARY:ARTIST RECEPTION FOR JENNIFER BENOIT
DESCRIPTION:Join us in welcoming Jenny Benoit as our July Artist of the Month. In collaboration with POAC Artwalk\, we invite you to meet Jennifer and appreciate her gallery showing at the Pend d’ Oreille Winery.  Also peruse our handmade jewelry by Mary Gayle Young.
URL:https://powine.com/event/artist-reception-for-jennifer-benoit/
LOCATION:Pend d’Oreille Winery\, 301 Cedar Street\, Sandpoint\, ID\, United States
CATEGORIES:Artist Reception
END:VEVENT
END:VCALENDAR