BEGIN:VCALENDAR
VERSION:2.0
PRODID:-//Pend Oreille Winery in Sandpoint, Idaho - ECPv6.15.20//NONSGML v1.0//EN
CALSCALE:GREGORIAN
METHOD:PUBLISH
X-WR-CALNAME:Pend Oreille Winery in Sandpoint, Idaho
X-ORIGINAL-URL:https://powine.com
X-WR-CALDESC:Events for Pend Oreille Winery in Sandpoint, Idaho
REFRESH-INTERVAL;VALUE=DURATION:PT1H
X-Robots-Tag:noindex
X-PUBLISHED-TTL:PT1H
BEGIN:VTIMEZONE
TZID:America/Los_Angeles
BEGIN:DAYLIGHT
TZOFFSETFROM:-0800
TZOFFSETTO:-0700
TZNAME:PDT
DTSTART:20240310T100000
END:DAYLIGHT
BEGIN:STANDARD
TZOFFSETFROM:-0700
TZOFFSETTO:-0800
TZNAME:PST
DTSTART:20241103T090000
END:STANDARD
BEGIN:DAYLIGHT
TZOFFSETFROM:-0800
TZOFFSETTO:-0700
TZNAME:PDT
DTSTART:20250309T100000
END:DAYLIGHT
BEGIN:STANDARD
TZOFFSETFROM:-0700
TZOFFSETTO:-0800
TZNAME:PST
DTSTART:20251102T090000
END:STANDARD
BEGIN:DAYLIGHT
TZOFFSETFROM:-0800
TZOFFSETTO:-0700
TZNAME:PDT
DTSTART:20260308T100000
END:DAYLIGHT
BEGIN:STANDARD
TZOFFSETFROM:-0700
TZOFFSETTO:-0800
TZNAME:PST
DTSTART:20261101T090000
END:STANDARD
END:VTIMEZONE
BEGIN:VEVENT
DTSTART;VALUE=DATE:20250401
DTEND;VALUE=DATE:20250501
DTSTAMP:20260421T063544
CREATED:20250321T202126Z
LAST-MODIFIED:20250321T202126Z
UID:10002125-1743465600-1746057599@powine.com
SUMMARY:April Wine of the Month- 2024 Albarino
DESCRIPTION:Orchid blossoms\, nectarine and honey aromas\, followed by guava\, lime\, pineapple\, and summer apricots. Salinity and zippy acidity bring a balance to the wine. \nThe 2024 Albariño complements seafood\, shrimp cakes\, oysters\, bright salads\, and Spanish tapas. \nAll month long 10% off bottles 1 – 5\, 15% off bottles 6 – 11\, and 20% off cases. \nEnjoy $10.50 glass pours through the month of February.
URL:https://powine.com/event/april-wine-of-the-month-2024-albarino/
LOCATION:ID
END:VEVENT
BEGIN:VEVENT
DTSTART;VALUE=DATE:20250401
DTEND;VALUE=DATE:20250501
DTSTAMP:20260421T063544
CREATED:20250321T202222Z
LAST-MODIFIED:20250321T202222Z
UID:10002126-1743465600-1746057599@powine.com
SUMMARY:April Artist of the Month- Alex Galford
DESCRIPTION:Alex Galford was born with a brush in one hand\, a throttle in the other. He paints like he lives—raw\, real\, and unapologetic. Smelling like cigarettes and mineral spirits\, he captures the traditional nuclear family straight from life—no frills\, unfiltered\, without embellishment. Rugged but refined\, with a heart as tough as his leather jacket\, Alex rides through life with one mission: to create art that means something—all with his loyal pup along for the ride. \nPlease join us for an artist’s reception on April 10th from 5-7:00.  Take time to view new artwork\, talk with Alex\, and enjoy a handcrafted meal with your glass of wine. \n 
URL:https://powine.com/event/april-artist-of-the-month-alex-galford/
LOCATION:Pend d’Oreille Winery\, 301 Cedar Street\, Sandpoint\, ID\, United States
END:VEVENT
END:VCALENDAR