BEGIN:VCALENDAR
VERSION:2.0
PRODID:-//Pend Oreille Winery in Sandpoint, Idaho - ECPv6.15.20//NONSGML v1.0//EN
CALSCALE:GREGORIAN
METHOD:PUBLISH
X-ORIGINAL-URL:https://powine.com
X-WR-CALDESC:Events for Pend Oreille Winery in Sandpoint, Idaho
REFRESH-INTERVAL;VALUE=DURATION:PT1H
X-Robots-Tag:noindex
X-PUBLISHED-TTL:PT1H
BEGIN:VTIMEZONE
TZID:America/Los_Angeles
BEGIN:DAYLIGHT
TZOFFSETFROM:-0800
TZOFFSETTO:-0700
TZNAME:PDT
DTSTART:20240310T100000
END:DAYLIGHT
BEGIN:STANDARD
TZOFFSETFROM:-0700
TZOFFSETTO:-0800
TZNAME:PST
DTSTART:20241103T090000
END:STANDARD
BEGIN:DAYLIGHT
TZOFFSETFROM:-0800
TZOFFSETTO:-0700
TZNAME:PDT
DTSTART:20250309T100000
END:DAYLIGHT
BEGIN:STANDARD
TZOFFSETFROM:-0700
TZOFFSETTO:-0800
TZNAME:PST
DTSTART:20251102T090000
END:STANDARD
BEGIN:DAYLIGHT
TZOFFSETFROM:-0800
TZOFFSETTO:-0700
TZNAME:PDT
DTSTART:20260308T100000
END:DAYLIGHT
BEGIN:STANDARD
TZOFFSETFROM:-0700
TZOFFSETTO:-0800
TZNAME:PST
DTSTART:20261101T090000
END:STANDARD
END:VTIMEZONE
BEGIN:VTIMEZONE
TZID:America/Los_Angeles
BEGIN:DAYLIGHT
TZOFFSETFROM:-0800
TZOFFSETTO:-0700
TZNAME:PDT
DTSTART:20240310T100000
END:DAYLIGHT
BEGIN:STANDARD
TZOFFSETFROM:-0700
TZOFFSETTO:-0800
TZNAME:PST
DTSTART:20241103T090000
END:STANDARD
BEGIN:DAYLIGHT
TZOFFSETFROM:-0800
TZOFFSETTO:-0700
TZNAME:PDT
DTSTART:20250309T100000
END:DAYLIGHT
BEGIN:STANDARD
TZOFFSETFROM:-0700
TZOFFSETTO:-0800
TZNAME:PST
DTSTART:20251102T090000
END:STANDARD
BEGIN:DAYLIGHT
TZOFFSETFROM:-0800
TZOFFSETTO:-0700
TZNAME:PDT
DTSTART:20260308T100000
END:DAYLIGHT
BEGIN:STANDARD
TZOFFSETFROM:-0700
TZOFFSETTO:-0800
TZNAME:PST
DTSTART:20261101T090000
END:STANDARD
END:VTIMEZONE
BEGIN:VEVENT
DTSTART;VALUE=DATE:20250501
DTEND;VALUE=DATE:20250601
DTSTAMP:20260421T110606
CREATED:20250430T215439Z
LAST-MODIFIED:20250430T215622Z
UID:10002150-1746057600-1748735999@powine.com
SUMMARY:May Artist of the Month- Capasso
DESCRIPTION:Capasso is an accomplished oil painter whose primary body of work acknowledges rust and relic Americana. These large oil pieces are nostalgic for the rich American dream. Capasso’s talent is extensive as he departs Americana and travels toward romantic Tuscan landscape paintings. He further broadens perspective through abstract images and color explorations.  Capasso’s upbringing in a mid-western town\, global travel\, and current residence in Sandpoint\, Idaho reflect his complexity in inspiration. \nPlease join us on May 8th for an artist reception in honor of Jeff Williams. 5-7:00pm.
URL:https://powine.com/event/may-artist-of-the-month-capasso/
LOCATION:ID
END:VEVENT
BEGIN:VEVENT
DTSTART;VALUE=DATE:20250501
DTEND;VALUE=DATE:20250601
DTSTAMP:20260421T110606
CREATED:20250430T215218Z
LAST-MODIFIED:20250430T215218Z
UID:10002149-1746057600-1748735999@powine.com
SUMMARY:May Wine of the Month- Rosette
DESCRIPTION:Rose’ is the promise of summer in a glass! Our Rose’ of Syrah is dry and Turkish sunset in hue. Peach blossom\, spring florals\, and subtle spice on the nose\, followed by early summer melon\, rhubarb\, and peaches. Pleasant nuttiness on the finish.  This wine is delightful when chilled and served on a warm spring day. \nRosé complements sharp cheeses\, salads\, and chutneys nicely. \nAll month long 10% off bottles 1 – 5\, 15% off bottles 6 – 11\, and 20% off cases. \nEnjoy $10.50 glass pours through the month of February.
URL:https://powine.com/event/may-wine-of-the-month-rosette/
LOCATION:ID
END:VEVENT
BEGIN:VEVENT
DTSTART;TZID=America/Los_Angeles:20250502T170000
DTEND;TZID=America/Los_Angeles:20250502T200000
DTSTAMP:20260421T110606
CREATED:20250430T220109Z
LAST-MODIFIED:20250430T220109Z
UID:10002151-1746205200-1746216000@powine.com
SUMMARY:Live Music with Nobody Famous
DESCRIPTION:Doug and Gene return to the winery for a good time of bluesy rock and groovy pop. 5-8:00pm.
URL:https://powine.com/event/live-music-with-nobody-famous-9/
LOCATION:Pend d’Oreille Winery\, 301 Cedar Street\, Sandpoint\, ID\, United States
CATEGORIES:Music
END:VEVENT
END:VCALENDAR