BEGIN:VCALENDAR
VERSION:2.0
PRODID:-//Pend Oreille Winery in Sandpoint, Idaho - ECPv6.15.20//NONSGML v1.0//EN
CALSCALE:GREGORIAN
METHOD:PUBLISH
X-WR-CALNAME:Pend Oreille Winery in Sandpoint, Idaho
X-ORIGINAL-URL:https://powine.com
X-WR-CALDESC:Events for Pend Oreille Winery in Sandpoint, Idaho
REFRESH-INTERVAL;VALUE=DURATION:PT1H
X-Robots-Tag:noindex
X-PUBLISHED-TTL:PT1H
BEGIN:VTIMEZONE
TZID:America/Los_Angeles
BEGIN:DAYLIGHT
TZOFFSETFROM:-0800
TZOFFSETTO:-0700
TZNAME:PDT
DTSTART:20230312T100000
END:DAYLIGHT
BEGIN:STANDARD
TZOFFSETFROM:-0700
TZOFFSETTO:-0800
TZNAME:PST
DTSTART:20231105T090000
END:STANDARD
BEGIN:DAYLIGHT
TZOFFSETFROM:-0800
TZOFFSETTO:-0700
TZNAME:PDT
DTSTART:20240310T100000
END:DAYLIGHT
BEGIN:STANDARD
TZOFFSETFROM:-0700
TZOFFSETTO:-0800
TZNAME:PST
DTSTART:20241103T090000
END:STANDARD
BEGIN:DAYLIGHT
TZOFFSETFROM:-0800
TZOFFSETTO:-0700
TZNAME:PDT
DTSTART:20250309T100000
END:DAYLIGHT
BEGIN:STANDARD
TZOFFSETFROM:-0700
TZOFFSETTO:-0800
TZNAME:PST
DTSTART:20251102T090000
END:STANDARD
END:VTIMEZONE
BEGIN:VEVENT
DTSTART;TZID=America/Los_Angeles:20241002T170000
DTEND;TZID=America/Los_Angeles:20241002T190000
DTSTAMP:20260420T174627
CREATED:20240930T223003Z
LAST-MODIFIED:20240930T223003Z
UID:10002012-1727888400-1727895600@powine.com
SUMMARY:Piano with Dwayne Parsons
DESCRIPTION:Dwayne connects with the grand piano as he performs originals\, inspired by history\, dreams\, and conversation.  Arrive early for a seat.
URL:https://powine.com/event/piano-with-dwayne-parsons-16/
LOCATION:Pend d’Oreille Winery\, 301 Cedar Street\, Sandpoint\, ID\, United States
CATEGORIES:Music
END:VEVENT
END:VCALENDAR