BEGIN:VCALENDAR
VERSION:2.0
PRODID:-//Pend Oreille Winery in Sandpoint, Idaho - ECPv6.15.20//NONSGML v1.0//EN
CALSCALE:GREGORIAN
METHOD:PUBLISH
X-ORIGINAL-URL:https://powine.com
X-WR-CALDESC:Events for Pend Oreille Winery in Sandpoint, Idaho
REFRESH-INTERVAL;VALUE=DURATION:PT1H
X-Robots-Tag:noindex
X-PUBLISHED-TTL:PT1H
BEGIN:VTIMEZONE
TZID:America/Los_Angeles
BEGIN:DAYLIGHT
TZOFFSETFROM:-0800
TZOFFSETTO:-0700
TZNAME:PDT
DTSTART:20240310T100000
END:DAYLIGHT
BEGIN:STANDARD
TZOFFSETFROM:-0700
TZOFFSETTO:-0800
TZNAME:PST
DTSTART:20241103T090000
END:STANDARD
BEGIN:DAYLIGHT
TZOFFSETFROM:-0800
TZOFFSETTO:-0700
TZNAME:PDT
DTSTART:20250309T100000
END:DAYLIGHT
BEGIN:STANDARD
TZOFFSETFROM:-0700
TZOFFSETTO:-0800
TZNAME:PST
DTSTART:20251102T090000
END:STANDARD
BEGIN:DAYLIGHT
TZOFFSETFROM:-0800
TZOFFSETTO:-0700
TZNAME:PDT
DTSTART:20260308T100000
END:DAYLIGHT
BEGIN:STANDARD
TZOFFSETFROM:-0700
TZOFFSETTO:-0800
TZNAME:PST
DTSTART:20261101T090000
END:STANDARD
END:VTIMEZONE
BEGIN:VTIMEZONE
TZID:America/Los_Angeles
BEGIN:DAYLIGHT
TZOFFSETFROM:-0800
TZOFFSETTO:-0700
TZNAME:PDT
DTSTART:20240310T100000
END:DAYLIGHT
BEGIN:STANDARD
TZOFFSETFROM:-0700
TZOFFSETTO:-0800
TZNAME:PST
DTSTART:20241103T090000
END:STANDARD
BEGIN:DAYLIGHT
TZOFFSETFROM:-0800
TZOFFSETTO:-0700
TZNAME:PDT
DTSTART:20250309T100000
END:DAYLIGHT
BEGIN:STANDARD
TZOFFSETFROM:-0700
TZOFFSETTO:-0800
TZNAME:PST
DTSTART:20251102T090000
END:STANDARD
BEGIN:DAYLIGHT
TZOFFSETFROM:-0800
TZOFFSETTO:-0700
TZNAME:PDT
DTSTART:20260308T100000
END:DAYLIGHT
BEGIN:STANDARD
TZOFFSETFROM:-0700
TZOFFSETTO:-0800
TZNAME:PST
DTSTART:20261101T090000
END:STANDARD
END:VTIMEZONE
BEGIN:VEVENT
DTSTART;TZID=America/Los_Angeles:20250326T170000
DTEND;TZID=America/Los_Angeles:20250326T190000
DTSTAMP:20260422T214506
CREATED:20250131T174823Z
LAST-MODIFIED:20250304T183650Z
UID:10002116-1743008400-1743015600@powine.com
SUMMARY:Piano with Malachi
DESCRIPTION:Malachi presents a refined jazz and contemporary piano performance to enhance your evening at the Pend d’ Oreille Winery.  5-7:00pm.
URL:https://powine.com/event/piano-with-malachi-2/
LOCATION:Pend d’Oreille Winery\, 301 Cedar Street\, Sandpoint\, ID\, United States
CATEGORIES:Music
END:VEVENT
BEGIN:VEVENT
DTSTART;TZID=America/Los_Angeles:20250328T170000
DTEND;TZID=America/Los_Angeles:20250328T200000
DTSTAMP:20260422T214506
CREATED:20250131T172539Z
LAST-MODIFIED:20250304T183808Z
UID:10002109-1743181200-1743192000@powine.com
SUMMARY:Live Music with The Cole Show
DESCRIPTION:The Cole Show is a one-man-band experience!  The Cole Show is an engaging night of loop\, rock and pop.  Arrive early for a pizza and a bottle of wine and stay for a great evening of music! 5-8:00pm.
URL:https://powine.com/event/live-music-with-the-cole-show-4/
LOCATION:Pend d’Oreille Winery\, 301 Cedar Street\, Sandpoint\, ID\, United States
CATEGORIES:Music
END:VEVENT
BEGIN:VEVENT
DTSTART;TZID=America/Los_Angeles:20250329T170000
DTEND;TZID=America/Los_Angeles:20250329T200000
DTSTAMP:20260422T214506
CREATED:20240730T164345Z
LAST-MODIFIED:20250304T184107Z
UID:10001986-1743267600-1743278400@powine.com
SUMMARY:Live Music with the Mike Wagoner Trio
DESCRIPTION:Mike Wagoner\, Utah John\, and Jaco know how to light up the winery every single time!  Join us for an evening of classic rock performed in their signature style.  One favorite rock song flows into another until the night is done.  5-8:00pm
URL:https://powine.com/event/mike-wagoner-and-sadie-sicilia/
LOCATION:Pend d’Oreille Winery\, 301 Cedar Street\, Sandpoint\, ID\, United States
CATEGORIES:Music
END:VEVENT
BEGIN:VEVENT
DTSTART;TZID=America/Los_Angeles:20250401T170000
DTEND;TZID=America/Los_Angeles:20250401T190000
DTSTAMP:20260422T214506
CREATED:20250321T202036Z
LAST-MODIFIED:20250321T202257Z
UID:10002127-1743526800-1743534000@powine.com
SUMMARY:Jazz Piano with Rich and Jenny
DESCRIPTION:Husband-wife duo presents a lively evening of jazz piano.  5-7:00pm
URL:https://powine.com/event/jazz-piano-with-rich-and-jenny-4/
LOCATION:Pend d’Oreille Winery\, 301 Cedar Street\, Sandpoint\, ID\, United States
CATEGORIES:Music
END:VEVENT
BEGIN:VEVENT
DTSTART;TZID=America/Los_Angeles:20250402T170000
DTEND;TZID=America/Los_Angeles:20250402T190000
DTSTAMP:20260422T214506
CREATED:20250321T202411Z
LAST-MODIFIED:20250321T202411Z
UID:10002128-1743613200-1743620400@powine.com
SUMMARY:Piano with Dwayne Parsons
DESCRIPTION:Original tunes and stories are told on the grand piano with Dwayne. 5-7:00pm.
URL:https://powine.com/event/piano-with-dwayne-parsons-21/
LOCATION:Pend d’Oreille Winery\, 301 Cedar Street\, Sandpoint\, ID\, United States
CATEGORIES:Music
END:VEVENT
BEGIN:VEVENT
DTSTART;TZID=America/Los_Angeles:20250404T170000
DTEND;TZID=America/Los_Angeles:20250404T200000
DTSTAMP:20260422T214506
CREATED:20250321T202530Z
LAST-MODIFIED:20250321T202530Z
UID:10002129-1743786000-1743796800@powine.com
SUMMARY:Live Music with the Monarch Mountain Band
DESCRIPTION:The Monarch Mountain Band will fill the night with toe-tapping Americana\, folk\, and bluegrass. 5-8:00pm.
URL:https://powine.com/event/live-music-with-the-monarch-mountain-band-4/
LOCATION:Pend d’Oreille Winery\, 301 Cedar Street\, Sandpoint\, ID\, United States
CATEGORIES:Music
END:VEVENT
BEGIN:VEVENT
DTSTART;TZID=America/Los_Angeles:20250405T170000
DTEND;TZID=America/Los_Angeles:20250405T200000
DTSTAMP:20260422T214506
CREATED:20250321T202644Z
LAST-MODIFIED:20250321T202644Z
UID:10002130-1743872400-1743883200@powine.com
SUMMARY:Live Music with Ian Newbill
DESCRIPTION:Ian Newbill fills the space with rock\, pop\, and feel-good tunes. 5-8:00pm.
URL:https://powine.com/event/live-music-with-ian-newbill-10/
LOCATION:Pend d’Oreille Winery\, 301 Cedar Street\, Sandpoint\, ID\, United States
CATEGORIES:Music
END:VEVENT
BEGIN:VEVENT
DTSTART;TZID=America/Los_Angeles:20250408T170000
DTEND;TZID=America/Los_Angeles:20250408T190000
DTSTAMP:20260422T214506
CREATED:20250321T202801Z
LAST-MODIFIED:20250321T202801Z
UID:10002131-1744131600-1744138800@powine.com
SUMMARY:Piano with Jennifer Stoehner
DESCRIPTION:Jennifer awakens the grand piano with a mix of contemporary and improvisational songs.  Jennifer often enhances her performance with vocals. 5-7:00pm.
URL:https://powine.com/event/piano-with-jennifer-stoehner-12/
LOCATION:Pend d’Oreille Winery\, 301 Cedar Street\, Sandpoint\, ID\, United States
CATEGORIES:Music
END:VEVENT
BEGIN:VEVENT
DTSTART;TZID=America/Los_Angeles:20250409T170000
DTEND;TZID=America/Los_Angeles:20250409T190000
DTSTAMP:20260422T214506
CREATED:20250321T202857Z
LAST-MODIFIED:20250321T202857Z
UID:10002132-1744218000-1744225200@powine.com
SUMMARY:Piano with Peter Lucht
DESCRIPTION:Peter presents an evening of impeccable jazz on the grand piano. 5-7:00pm. \n 
URL:https://powine.com/event/piano-with-peter-lucht-13/
LOCATION:Pend d’Oreille Winery\, 301 Cedar Street\, Sandpoint\, ID\, United States
CATEGORIES:Music
END:VEVENT
BEGIN:VEVENT
DTSTART;TZID=America/Los_Angeles:20250411T170000
DTEND;TZID=America/Los_Angeles:20250411T200000
DTSTAMP:20260422T214506
CREATED:20250321T204406Z
LAST-MODIFIED:20250321T204406Z
UID:10002134-1744390800-1744401600@powine.com
SUMMARY:Live Music with Jay Alm
DESCRIPTION:Jay is an acoustic alt-folk songwriter based in Missoula playing 6 and 12 string guitar with original music. 5-8pm.
URL:https://powine.com/event/live-music-with-jay-alm/
LOCATION:Pend d’Oreille Winery\, 301 Cedar Street\, Sandpoint\, ID\, United States
CATEGORIES:Music
END:VEVENT
BEGIN:VEVENT
DTSTART;TZID=America/Los_Angeles:20250412T170000
DTEND;TZID=America/Los_Angeles:20250412T200000
DTSTAMP:20260422T214506
CREATED:20250321T204454Z
LAST-MODIFIED:20250321T204454Z
UID:10002135-1744477200-1744488000@powine.com
SUMMARY:Live Music with Isaac Smith
DESCRIPTION:Isaac Smith warms the room with an acoustic set of indie-folk and pop tunes\, presented in his poetic rock style. 5-8:00pm.
URL:https://powine.com/event/live-music-with-isaac-smith-2/
LOCATION:Pend d’Oreille Winery\, 301 Cedar Street\, Sandpoint\, ID\, United States
CATEGORIES:Music
END:VEVENT
BEGIN:VEVENT
DTSTART;TZID=America/Los_Angeles:20250415T170000
DTEND;TZID=America/Los_Angeles:20250415T200000
DTSTAMP:20260422T214506
CREATED:20250321T204614Z
LAST-MODIFIED:20250321T204614Z
UID:10002136-1744736400-1744747200@powine.com
SUMMARY:Acoustic Guitar with Jonathan Nicholson
DESCRIPTION:Jonathan promises a pleasant evening of ambience\, improvisational tunes on the acoustic guitar. 5-7:00pm.
URL:https://powine.com/event/acoustic-guitar-with-jonathan-nicholson/
LOCATION:Pend d’Oreille Winery\, 301 Cedar Street\, Sandpoint\, ID\, United States
CATEGORIES:Music
END:VEVENT
BEGIN:VEVENT
DTSTART;TZID=America/Los_Angeles:20250416T170000
DTEND;TZID=America/Los_Angeles:20250416T190000
DTSTAMP:20260422T214506
CREATED:20250321T204706Z
LAST-MODIFIED:20250321T204706Z
UID:10002137-1744822800-1744830000@powine.com
SUMMARY:Piano with Bob Beadling
DESCRIPTION:Bob Beadling always keeps his piano performance fresh and innovative. Classic and modern selections.  5-7:00pm
URL:https://powine.com/event/piano-with-bob-beadling-15/
LOCATION:Pend d’Oreille Winery\, 301 Cedar Street\, Sandpoint\, ID\, United States
CATEGORIES:Music
END:VEVENT
BEGIN:VEVENT
DTSTART;TZID=America/Los_Angeles:20250418T170000
DTEND;TZID=America/Los_Angeles:20250418T200000
DTSTAMP:20260422T214506
CREATED:20250321T204838Z
LAST-MODIFIED:20250321T204838Z
UID:10002138-1744995600-1745006400@powine.com
SUMMARY:Live Music with Weibe Jammin'
DESCRIPTION:Nick Weibe brings a creative set of pop and rock tunes with a loop pedal vibe.  Weibe Jammin is fun and engaging.  5-8:00pm.
URL:https://powine.com/event/live-music-with-weibe-jammin-13/
LOCATION:Pend d’Oreille Winery\, 301 Cedar Street\, Sandpoint\, ID\, United States
CATEGORIES:Music
END:VEVENT
BEGIN:VEVENT
DTSTART;TZID=America/Los_Angeles:20250419T170000
DTEND;TZID=America/Los_Angeles:20250419T200000
DTSTAMP:20260422T214506
CREATED:20250321T205045Z
LAST-MODIFIED:20250321T205045Z
UID:10002139-1745082000-1745092800@powine.com
SUMMARY:Live Music with Zach Simms
DESCRIPTION:Zach Simms draws the attention of the room with enchanting vocals and a warm\, welcoming performance.  Pop\, Indie\, Soul.  5-8:00pm.
URL:https://powine.com/event/live-music-with-zach-simms-13/
LOCATION:Pend d’Oreille Winery\, 301 Cedar Street\, Sandpoint\, ID\, United States
CATEGORIES:Music
END:VEVENT
BEGIN:VEVENT
DTSTART;TZID=America/Los_Angeles:20250422T170000
DTEND;TZID=America/Los_Angeles:20250422T190000
DTSTAMP:20260422T214506
CREATED:20250321T205142Z
LAST-MODIFIED:20250321T205142Z
UID:10002140-1745341200-1745348400@powine.com
SUMMARY:Piano with Malachi
DESCRIPTION:Malachi performs a soulful set on the grand piano.  Malachi often feels the inspiration to add vocals for a complete sound.  5-7:00pm.
URL:https://powine.com/event/piano-with-malachi-3/
LOCATION:Pend d’Oreille Winery\, 301 Cedar Street\, Sandpoint\, ID\, United States
CATEGORIES:Music
END:VEVENT
BEGIN:VEVENT
DTSTART;TZID=America/Los_Angeles:20250423T170000
DTEND;TZID=America/Los_Angeles:20250423T190000
DTSTAMP:20260422T214506
CREATED:20250321T205349Z
LAST-MODIFIED:20250321T205349Z
UID:10002141-1745427600-1745434800@powine.com
SUMMARY:Piano with David Speight
DESCRIPTION:We welcome our own\, David Speight\, on the grand piano.  Improvisational\, ambient set.  5-7:00pm.
URL:https://powine.com/event/piano-with-david-speight-3/
LOCATION:Pend d’Oreille Winery\, 301 Cedar Street\, Sandpoint\, ID\, United States
CATEGORIES:Music
END:VEVENT
BEGIN:VEVENT
DTSTART;TZID=America/Los_Angeles:20250425T170000
DTEND;TZID=America/Los_Angeles:20250425T200000
DTSTAMP:20260422T214506
CREATED:20250321T205853Z
LAST-MODIFIED:20250321T205853Z
UID:10002143-1745600400-1745611200@powine.com
SUMMARY:Live Music with Tucker James
DESCRIPTION:Live Looping\, Multi-Instrumentalist\, and Life Loving music.  Tucker James is groovy and inspiring as one man with a full band sound.  5-8;00pm.
URL:https://powine.com/event/live-music-with-tucker-james/
LOCATION:Pend d’Oreille Winery\, 301 Cedar Street\, Sandpoint\, ID\, United States
CATEGORIES:Music
END:VEVENT
BEGIN:VEVENT
DTSTART;TZID=America/Los_Angeles:20250426T170000
DTEND;TZID=America/Los_Angeles:20250426T200000
DTSTAMP:20260422T214506
CREATED:20250321T210001Z
LAST-MODIFIED:20250321T210001Z
UID:10002144-1745686800-1745697600@powine.com
SUMMARY:Live Music with Mike Wagoner and Sadie Sicilia
DESCRIPTION:Arrive early for an energetic night of music with Mike Wagoner\, Sadie Sicilia\, and Jaco.  Classic rock\, pop\, and deep cut favorites.  Father-Daughter vocals are unforgettable. 5-8:00pm.
URL:https://powine.com/event/live-music-with-mike-wagoner-and-sadie-sicilia-4/
LOCATION:Pend d’Oreille Winery\, 301 Cedar Street\, Sandpoint\, ID\, United States
CATEGORIES:Music
END:VEVENT
BEGIN:VEVENT
DTSTART;TZID=America/Los_Angeles:20250430T170000
DTEND;TZID=America/Los_Angeles:20250430T190000
DTSTAMP:20260422T214506
CREATED:20250321T211041Z
LAST-MODIFIED:20250321T211041Z
UID:10002147-1746032400-1746039600@powine.com
SUMMARY:Piano with Athena Crossingham
DESCRIPTION:Athena Crossingham is a professionally trained pianist of exceptional talent. Enjoy a glass of wine and a pizza while Athena brightens the space with music.  5-7:00pm.
URL:https://powine.com/event/piano-with-athena-crossingham/
LOCATION:Pend d’Oreille Winery\, 301 Cedar Street\, Sandpoint\, ID\, United States
CATEGORIES:Music
END:VEVENT
BEGIN:VEVENT
DTSTART;TZID=America/Los_Angeles:20250502T170000
DTEND;TZID=America/Los_Angeles:20250502T200000
DTSTAMP:20260422T214506
CREATED:20250430T220109Z
LAST-MODIFIED:20250430T220109Z
UID:10002151-1746205200-1746216000@powine.com
SUMMARY:Live Music with Nobody Famous
DESCRIPTION:Doug and Gene return to the winery for a good time of bluesy rock and groovy pop. 5-8:00pm.
URL:https://powine.com/event/live-music-with-nobody-famous-9/
LOCATION:Pend d’Oreille Winery\, 301 Cedar Street\, Sandpoint\, ID\, United States
CATEGORIES:Music
END:VEVENT
BEGIN:VEVENT
DTSTART;TZID=America/Los_Angeles:20250503T170000
DTEND;TZID=America/Los_Angeles:20250503T200000
DTSTAMP:20260422T214506
CREATED:20250430T220216Z
LAST-MODIFIED:20250430T220216Z
UID:10002152-1746291600-1746302400@powine.com
SUMMARY:Live Music with Tom Catmull
DESCRIPTION:Tom Catmull\, a seasoned Missoula singer-songwriter\, returns to the winery with original tunes in a Robert Earl Keen style.  Arrive early for a seat. Americana-Rock.  5-8:00pm.
URL:https://powine.com/event/live-music-with-tom-catmull-6/
LOCATION:Pend d’Oreille Winery\, 301 Cedar Street\, Sandpoint\, ID\, United States
CATEGORIES:Music
END:VEVENT
BEGIN:VEVENT
DTSTART;TZID=America/Los_Angeles:20250506T170000
DTEND;TZID=America/Los_Angeles:20250506T190000
DTSTAMP:20260422T214506
CREATED:20250430T221014Z
LAST-MODIFIED:20250430T221014Z
UID:10002153-1746550800-1746558000@powine.com
SUMMARY:Piano with Jack Purdie
DESCRIPTION:Jack Purdie will fill the room with contemporary and classic piano favorites.  5-7:00pm.
URL:https://powine.com/event/piano-with-jack-purdie-7/
LOCATION:Pend d’Oreille Winery\, 301 Cedar Street\, Sandpoint\, ID\, United States
CATEGORIES:Music
END:VEVENT
BEGIN:VEVENT
DTSTART;TZID=America/Los_Angeles:20250507T170000
DTEND;TZID=America/Los_Angeles:20250507T190000
DTSTAMP:20260422T214506
CREATED:20250430T221305Z
LAST-MODIFIED:20250430T221305Z
UID:10002154-1746637200-1746644400@powine.com
SUMMARY:Piano with Dwayne Parsons
DESCRIPTION:Dwayne continues to tell his story with original tunes on the grand piano.  5-7:00pm.
URL:https://powine.com/event/piano-with-dwayne-parsons-22/
LOCATION:Pend d’Oreille Winery\, 301 Cedar Street\, Sandpoint\, ID\, United States
CATEGORIES:Music
END:VEVENT
BEGIN:VEVENT
DTSTART;TZID=America/Los_Angeles:20250509T170000
DTEND;TZID=America/Los_Angeles:20250509T200000
DTSTAMP:20260422T214506
CREATED:20250430T222151Z
LAST-MODIFIED:20250430T222151Z
UID:10002156-1746810000-1746820800@powine.com
SUMMARY:Live Music with Ponderay Paradox
DESCRIPTION:Ponderay Paradox\, Mike and Matt duo\, play an evening of blues\, soft rock\, and feel-good music. 5-8:00pm. \n 
URL:https://powine.com/event/live-music-with-ponderay-paradox-7/
LOCATION:Pend d’Oreille Winery\, 301 Cedar Street\, Sandpoint\, ID\, United States
CATEGORIES:Music
END:VEVENT
BEGIN:VEVENT
DTSTART;TZID=America/Los_Angeles:20250510T170000
DTEND;TZID=America/Los_Angeles:20250510T200000
DTSTAMP:20260422T214506
CREATED:20250430T222424Z
LAST-MODIFIED:20250430T222424Z
UID:10002157-1746896400-1746907200@powine.com
SUMMARY:Live Music with Ben Vogel
DESCRIPTION:Ben Vogel is a guitarist and vocalist with warm\, charming energy.  Ben is the perfect fit for the Pend d’ Oreille Winery and a glass of Rose’.  Rock and pop through the ages. 5-8:00pm.
URL:https://powine.com/event/live-music-with-ben-vogel-9/
LOCATION:Pend d’Oreille Winery\, 301 Cedar Street\, Sandpoint\, ID\, United States
CATEGORIES:Music
END:VEVENT
BEGIN:VEVENT
DTSTART;TZID=America/Los_Angeles:20250513T170000
DTEND;TZID=America/Los_Angeles:20250513T190000
DTSTAMP:20260422T214506
CREATED:20250430T222543Z
LAST-MODIFIED:20250430T222543Z
UID:10002158-1747155600-1747162800@powine.com
SUMMARY:Jazz Piano with Rich and Jenny
DESCRIPTION:Rich and Jenny fill the evening with interactive\, lively jazz. 5-7:00pm.
URL:https://powine.com/event/jazz-piano-with-rich-and-jenny-5/
LOCATION:Pend d’Oreille Winery\, 301 Cedar Street\, Sandpoint\, ID\, United States
CATEGORIES:Music
END:VEVENT
BEGIN:VEVENT
DTSTART;TZID=America/Los_Angeles:20250514T170000
DTEND;TZID=America/Los_Angeles:20250514T190000
DTSTAMP:20260422T214506
CREATED:20250430T222721Z
LAST-MODIFIED:20250430T222837Z
UID:10002159-1747242000-1747249200@powine.com
SUMMARY:Piano with Peter Lucht
DESCRIPTION:Peter plays jazz piano with elegance.  5-7:00pm. \n 
URL:https://powine.com/event/piano-with-peter-lucht-14/
LOCATION:Pend d’Oreille Winery\, 301 Cedar Street\, Sandpoint\, ID\, United States
CATEGORIES:Music
END:VEVENT
BEGIN:VEVENT
DTSTART;TZID=America/Los_Angeles:20250516T170000
DTEND;TZID=America/Los_Angeles:20250516T200000
DTSTAMP:20260422T214506
CREATED:20250501T220629Z
LAST-MODIFIED:20250501T220629Z
UID:10002160-1747414800-1747425600@powine.com
SUMMARY:Live Music with Brian Jacobs
DESCRIPTION:Arrive early for a seat\, share a pizza with a friend\, and ease into the evening as Brian Jacobs elevates all your favorite rock\, pop\, and indie songs. This is a great place to watch the Lost in the 50s Parade! 5-8:00pm.
URL:https://powine.com/event/live-music-with-brian-jacobs-18/
LOCATION:Pend d’Oreille Winery\, 301 Cedar Street\, Sandpoint\, ID\, United States
CATEGORIES:Music
END:VEVENT
BEGIN:VEVENT
DTSTART;TZID=America/Los_Angeles:20250517T170000
DTEND;TZID=America/Los_Angeles:20250517T200000
DTSTAMP:20260422T214506
CREATED:20250501T220721Z
LAST-MODIFIED:20250501T220721Z
UID:10002161-1747501200-1747512000@powine.com
SUMMARY:Live Music with The Cole Show
DESCRIPTION:The Cole Show is a multi-instrumentalist and vocalist performance as a complete one-man-band!  Loop\, Rock\, Pop.  5-8:00pm.
URL:https://powine.com/event/live-music-with-the-cole-show-5/
LOCATION:Pend d’Oreille Winery\, 301 Cedar Street\, Sandpoint\, ID\, United States
CATEGORIES:Music
END:VEVENT
END:VCALENDAR