BEGIN:VCALENDAR
VERSION:2.0
PRODID:-//Pend Oreille Winery in Sandpoint, Idaho - ECPv6.15.20//NONSGML v1.0//EN
CALSCALE:GREGORIAN
METHOD:PUBLISH
X-WR-CALNAME:Pend Oreille Winery in Sandpoint, Idaho
X-ORIGINAL-URL:https://powine.com
X-WR-CALDESC:Events for Pend Oreille Winery in Sandpoint, Idaho
REFRESH-INTERVAL;VALUE=DURATION:PT1H
X-Robots-Tag:noindex
X-PUBLISHED-TTL:PT1H
BEGIN:VTIMEZONE
TZID:America/Los_Angeles
BEGIN:DAYLIGHT
TZOFFSETFROM:-0800
TZOFFSETTO:-0700
TZNAME:PDT
DTSTART:20240310T100000
END:DAYLIGHT
BEGIN:STANDARD
TZOFFSETFROM:-0700
TZOFFSETTO:-0800
TZNAME:PST
DTSTART:20241103T090000
END:STANDARD
BEGIN:DAYLIGHT
TZOFFSETFROM:-0800
TZOFFSETTO:-0700
TZNAME:PDT
DTSTART:20250309T100000
END:DAYLIGHT
BEGIN:STANDARD
TZOFFSETFROM:-0700
TZOFFSETTO:-0800
TZNAME:PST
DTSTART:20251102T090000
END:STANDARD
BEGIN:DAYLIGHT
TZOFFSETFROM:-0800
TZOFFSETTO:-0700
TZNAME:PDT
DTSTART:20260308T100000
END:DAYLIGHT
BEGIN:STANDARD
TZOFFSETFROM:-0700
TZOFFSETTO:-0800
TZNAME:PST
DTSTART:20261101T090000
END:STANDARD
END:VTIMEZONE
BEGIN:VTIMEZONE
TZID:America/Los_Angeles
BEGIN:DAYLIGHT
TZOFFSETFROM:-0800
TZOFFSETTO:-0700
TZNAME:PDT
DTSTART:20240310T100000
END:DAYLIGHT
BEGIN:STANDARD
TZOFFSETFROM:-0700
TZOFFSETTO:-0800
TZNAME:PST
DTSTART:20241103T090000
END:STANDARD
BEGIN:DAYLIGHT
TZOFFSETFROM:-0800
TZOFFSETTO:-0700
TZNAME:PDT
DTSTART:20250309T100000
END:DAYLIGHT
BEGIN:STANDARD
TZOFFSETFROM:-0700
TZOFFSETTO:-0800
TZNAME:PST
DTSTART:20251102T090000
END:STANDARD
BEGIN:DAYLIGHT
TZOFFSETFROM:-0800
TZOFFSETTO:-0700
TZNAME:PDT
DTSTART:20260308T100000
END:DAYLIGHT
BEGIN:STANDARD
TZOFFSETFROM:-0700
TZOFFSETTO:-0800
TZNAME:PST
DTSTART:20261101T090000
END:STANDARD
END:VTIMEZONE
BEGIN:VEVENT
DTSTART;TZID=America/Los_Angeles:20250813T170000
DTEND;TZID=America/Los_Angeles:20250813T190000
DTSTAMP:20260420T103930
CREATED:20250731T223129Z
LAST-MODIFIED:20250731T223129Z
UID:10002221-1755104400-1755111600@powine.com
SUMMARY:Piano with Peter Lucht
DESCRIPTION:A local favorite\, Peter Lucht\, plays jazz and original compositions on the grand piano. 5-7:00pm. \n 
URL:https://powine.com/event/piano-with-peter-lucht-17/
LOCATION:Pend d’Oreille Winery\, 301 Cedar Street\, Sandpoint\, ID\, United States
CATEGORIES:Music
END:VEVENT
BEGIN:VEVENT
DTSTART;TZID=America/Los_Angeles:20250815T170000
DTEND;TZID=America/Los_Angeles:20250815T200000
DTSTAMP:20260420T103930
CREATED:20250731T223507Z
LAST-MODIFIED:20250731T223507Z
UID:10002223-1755277200-1755288000@powine.com
SUMMARY:Live Music with One Street Over
DESCRIPTION:Michael Lewis and One Street Over revive classic tunes through the decades. Inspired by Fleetwood Mac\, Steely Dan\, Santana and more. 5-8:00pm.
URL:https://powine.com/event/live-music-with-one-street-over-6/
LOCATION:Pend d’Oreille Winery\, 301 Cedar Street\, Sandpoint\, ID\, United States
CATEGORIES:Music
END:VEVENT
BEGIN:VEVENT
DTSTART;TZID=America/Los_Angeles:20250816T170000
DTEND;TZID=America/Los_Angeles:20250816T200000
DTSTAMP:20260420T103930
CREATED:20250731T223616Z
LAST-MODIFIED:20250731T223616Z
UID:10002224-1755363600-1755374400@powine.com
SUMMARY:Live Music with Andru Gomez
DESCRIPTION:Acoustic performance with a stripped down\, gritty\, cool vibe. 5-8:00pm
URL:https://powine.com/event/live-music-with-andru-gomez-3/
LOCATION:Pend d’Oreille Winery\, 301 Cedar Street\, Sandpoint\, ID\, United States
CATEGORIES:Music
END:VEVENT
BEGIN:VEVENT
DTSTART;TZID=America/Los_Angeles:20250819T170000
DTEND;TZID=America/Los_Angeles:20250819T190000
DTSTAMP:20260420T103930
CREATED:20250731T223719Z
LAST-MODIFIED:20250731T223719Z
UID:10002225-1755622800-1755630000@powine.com
SUMMARY:Piano with Malachi
DESCRIPTION:Malachi performs soulful\, inspirational\, melodic tunes on the grand piano.  Vocal accompaniment. 5-7:00pm.
URL:https://powine.com/event/piano-with-malachi-6/
LOCATION:Pend d’Oreille Winery\, 301 Cedar Street\, Sandpoint\, ID\, United States
CATEGORIES:Music
END:VEVENT
BEGIN:VEVENT
DTSTART;TZID=America/Los_Angeles:20250820T170000
DTEND;TZID=America/Los_Angeles:20250820T190000
DTSTAMP:20260420T103930
CREATED:20250731T224003Z
LAST-MODIFIED:20250731T224003Z
UID:10002226-1755709200-1755716400@powine.com
SUMMARY:Piano with Bob Beadling
DESCRIPTION:Bob Beadling plays contemporary and classic songs on the grand piano for a pleasant winery ambience. 5-7:00pm.
URL:https://powine.com/event/piano-with-bob-beadling-19/
LOCATION:Pend d’Oreille Winery\, 301 Cedar Street\, Sandpoint\, ID\, United States
CATEGORIES:Music
END:VEVENT
BEGIN:VEVENT
DTSTART;TZID=America/Los_Angeles:20250822T170000
DTEND;TZID=America/Los_Angeles:20250822T200000
DTSTAMP:20260420T103930
CREATED:20250731T224342Z
LAST-MODIFIED:20250912T220849Z
UID:10002227-1755882000-1755892800@powine.com
SUMMARY:Live Music with Tom Catmull
DESCRIPTION:Tom Catmull of Missoula\, Montana\, is inspired by Robert Earle Keen and Jerry Jeff Walker. Tom plays originals with a folksy\, artistic\, storyteller grit. 5-8:00pm.
URL:https://powine.com/event/live-music-with-tom-catmull-8/
LOCATION:Pend d’Oreille Winery\, 301 Cedar Street\, Sandpoint\, ID\, United States
CATEGORIES:Music
END:VEVENT
BEGIN:VEVENT
DTSTART;TZID=America/Los_Angeles:20250823T170000
DTEND;TZID=America/Los_Angeles:20250823T200000
DTSTAMP:20260420T103930
CREATED:20250731T224439Z
LAST-MODIFIED:20250731T224439Z
UID:10002228-1755968400-1755979200@powine.com
SUMMARY:Live Music with Nobody Famous
DESCRIPTION:Nobody Famous performs an evening of blues\, folk\, and rock with a carefree spin.  5-8:00pm.
URL:https://powine.com/event/live-music-with-nobody-famous-11/
LOCATION:Pend d’Oreille Winery\, 301 Cedar Street\, Sandpoint\, ID\, United States
CATEGORIES:Music
END:VEVENT
BEGIN:VEVENT
DTSTART;TZID=America/Los_Angeles:20250826T170000
DTEND;TZID=America/Los_Angeles:20250826T190000
DTSTAMP:20260420T103930
CREATED:20250731T224525Z
LAST-MODIFIED:20250731T224525Z
UID:10002229-1756227600-1756234800@powine.com
SUMMARY:Piano with Jennifer Stoehner
DESCRIPTION:Jennifer performs improvisational\, inspirational\, and contemporary songs on the grand piano. Vocal accompaniment. 5-7:00pm.
URL:https://powine.com/event/piano-with-jennifer-stoehner-16/
LOCATION:Pend d’Oreille Winery\, 301 Cedar Street\, Sandpoint\, ID\, United States
CATEGORIES:Music
END:VEVENT
BEGIN:VEVENT
DTSTART;TZID=America/Los_Angeles:20250827T170000
DTEND;TZID=America/Los_Angeles:20250827T190000
DTSTAMP:20260420T103930
CREATED:20250731T224817Z
LAST-MODIFIED:20250731T224817Z
UID:10002230-1756314000-1756321200@powine.com
SUMMARY:Piano with David Speight
DESCRIPTION:David Speight\, Pend d’ Oreille Winery’s own talent\, plays an improvisational\, contemporary set on the grand piano. 5-7:00pm.
URL:https://powine.com/event/piano-with-david-speight-6/
LOCATION:Pend d’Oreille Winery\, 301 Cedar Street\, Sandpoint\, ID\, United States
CATEGORIES:Music
END:VEVENT
BEGIN:VEVENT
DTSTART;TZID=America/Los_Angeles:20250829T170000
DTEND;TZID=America/Los_Angeles:20250829T190000
DTSTAMP:20260420T103930
CREATED:20250731T224958Z
LAST-MODIFIED:20250731T224958Z
UID:10002231-1756486800-1756494000@powine.com
SUMMARY:Live Music with Border Stones
DESCRIPTION:Inspired by John Denver\, Shawn Colvin\, and Neil Young\, we welcome the Border Stones duo from Spokane. Easy listening\, soft rock\, pop.  5-8:00pm.
URL:https://powine.com/event/live-music-with-border-stones/
LOCATION:Pend d’Oreille Winery\, 301 Cedar Street\, Sandpoint\, ID\, United States
CATEGORIES:Music
END:VEVENT
BEGIN:VEVENT
DTSTART;TZID=America/Los_Angeles:20250830T170000
DTEND;TZID=America/Los_Angeles:20250830T200000
DTSTAMP:20260420T103930
CREATED:20250731T225041Z
LAST-MODIFIED:20250731T225041Z
UID:10002232-1756573200-1756584000@powine.com
SUMMARY:Live Music with Brian Jacobs
DESCRIPTION:Brian Jacobs pulls you closer with his smooth vocals and guitar. Rock\, Pop\, Indie. 5-8:00pm.
URL:https://powine.com/event/live-music-with-brian-jacobs-20/
LOCATION:Pend d’Oreille Winery\, 301 Cedar Street\, Sandpoint\, ID\, United States
CATEGORIES:Music
END:VEVENT
BEGIN:VEVENT
DTSTART;TZID=America/Los_Angeles:20250902T170000
DTEND;TZID=America/Los_Angeles:20250902T190000
DTSTAMP:20260420T103930
CREATED:20250827T212011Z
LAST-MODIFIED:20250827T212011Z
UID:10002234-1756832400-1756839600@powine.com
SUMMARY:Piano with Jack Purdie
DESCRIPTION:Jack Purdie presents contemporary and jazz songs on the Grand Piano. 5-7:00pm
URL:https://powine.com/event/piano-with-jack-purdie-9/
LOCATION:Pend d’Oreille Winery\, 301 Cedar Street\, Sandpoint\, ID\, United States
CATEGORIES:Music
END:VEVENT
BEGIN:VEVENT
DTSTART;TZID=America/Los_Angeles:20250903T170000
DTEND;TZID=America/Los_Angeles:20250903T190000
DTSTAMP:20260420T103930
CREATED:20250827T212157Z
LAST-MODIFIED:20250827T212157Z
UID:10002235-1756918800-1756926000@powine.com
SUMMARY:Piano with Peter Lucht
DESCRIPTION:Peter presents a seamless performance of jazz and ambient music on the Grand Piano. 5-7:00pm. \n 
URL:https://powine.com/event/piano-with-peter-lucht-18/
LOCATION:Pend d’Oreille Winery\, 301 Cedar Street\, Sandpoint\, ID\, United States
CATEGORIES:Music
END:VEVENT
BEGIN:VEVENT
DTSTART;TZID=America/Los_Angeles:20250905T170000
DTEND;TZID=America/Los_Angeles:20250905T190000
DTSTAMP:20260420T103930
CREATED:20250827T212404Z
LAST-MODIFIED:20250827T212404Z
UID:10002236-1757091600-1757098800@powine.com
SUMMARY:Live Music with the Carson Rhodes Band
DESCRIPTION:The Carson Rhodes Band is piano-centered with a jazzy\, groovy\, rockin\, sweet tunes sound. 5-8:00pm.
URL:https://powine.com/event/live-music-with-the-carson-rhodes-band/
LOCATION:Pend d’Oreille Winery\, 301 Cedar Street\, Sandpoint\, ID\, United States
CATEGORIES:Music
END:VEVENT
BEGIN:VEVENT
DTSTART;TZID=America/Los_Angeles:20250906T170000
DTEND;TZID=America/Los_Angeles:20250906T200000
DTSTAMP:20260420T103930
CREATED:20250827T213521Z
LAST-MODIFIED:20250827T213521Z
UID:10002237-1757178000-1757188800@powine.com
SUMMARY:Live Music with Rhys Gerwin
DESCRIPTION:Rhys Gerwin is a solo artist\, music teacher\, and creative talent.  Rhys creates a full sound with guitar and loop system.  Rock\, Pop\, Alternative. 5-8:00pm
URL:https://powine.com/event/live-music-with-rhys-gerwin/
LOCATION:Pend d’Oreille Winery\, 301 Cedar Street\, Sandpoint\, ID\, United States
CATEGORIES:Music
END:VEVENT
BEGIN:VEVENT
DTSTART;TZID=America/Los_Angeles:20250909T170000
DTEND;TZID=America/Los_Angeles:20250909T200000
DTSTAMP:20260420T103930
CREATED:20250827T213631Z
LAST-MODIFIED:20250827T213631Z
UID:10002238-1757437200-1757448000@powine.com
SUMMARY:Acoustic Guitar with Jonathan Nicholson
DESCRIPTION:Jonathan Nicholson warms the room with acoustic guitar and ambient sound for a pleasant evening. 5-7:00pm.
URL:https://powine.com/event/acoustic-guitar-with-jonathan-nicholson-2/
LOCATION:Pend d’Oreille Winery\, 301 Cedar Street\, Sandpoint\, ID\, United States
CATEGORIES:Music
END:VEVENT
BEGIN:VEVENT
DTSTART;TZID=America/Los_Angeles:20250910T160000
DTEND;TZID=America/Los_Angeles:20250910T190000
DTSTAMP:20260420T103930
CREATED:20250827T213748Z
LAST-MODIFIED:20250827T213829Z
UID:10002239-1757520000-1757530800@powine.com
SUMMARY:Piano with Dwayne Parsons
DESCRIPTION:Dwayne Parsons fills the winery with original songs on the grand piano.  Every performance is a musical story. 4-7:00pm.
URL:https://powine.com/event/piano-with-dwayne-parsons-26/
LOCATION:Pend d’Oreille Winery\, 301 Cedar Street\, Sandpoint\, ID\, United States
CATEGORIES:Music
END:VEVENT
BEGIN:VEVENT
DTSTART;TZID=America/Los_Angeles:20250912T170000
DTEND;TZID=America/Los_Angeles:20250912T200000
DTSTAMP:20260420T103930
CREATED:20250829T203018Z
LAST-MODIFIED:20250829T203342Z
UID:10002241-1757696400-1757707200@powine.com
SUMMARY:Live Music with The Cole Show
DESCRIPTION:The Cole Show is a one-man band with a full band energy and sound.  The Cole Show is refined\, fun\, and not to be missed. 5-8:00pm.
URL:https://powine.com/event/live-music-with-the-cole-show-6/
LOCATION:Pend d’Oreille Winery\, 301 Cedar Street\, Sandpoint\, ID\, United States
CATEGORIES:Music
END:VEVENT
BEGIN:VEVENT
DTSTART;TZID=America/Los_Angeles:20250913T170000
DTEND;TZID=America/Los_Angeles:20250913T200000
DTSTAMP:20260420T103930
CREATED:20250829T203255Z
LAST-MODIFIED:20250829T203255Z
UID:10002242-1757782800-1757793600@powine.com
SUMMARY:Live Music with Bill Price
DESCRIPTION:We anticipate the Bill Price performance each year. With one foot in folk and the other in rock\, Bill Price is a singer-songwriter from Indianapolis who performs both solo and with his band— His recordings have been played on radio stations around the U.S.\, Canada and Europe. Originals\, Folk and Rock. 5-8:00pm.
URL:https://powine.com/event/live-music-with-bill-price-3/
LOCATION:Pend d’Oreille Winery\, 301 Cedar Street\, Sandpoint\, ID\, United States
CATEGORIES:Music
END:VEVENT
BEGIN:VEVENT
DTSTART;TZID=America/Los_Angeles:20250916T170000
DTEND;TZID=America/Los_Angeles:20250916T190000
DTSTAMP:20260420T103930
CREATED:20250829T203529Z
LAST-MODIFIED:20250829T203529Z
UID:10002243-1758042000-1758049200@powine.com
SUMMARY:Piano with David Speight
DESCRIPTION:David Speight steps from behind the bar and settles into his creative space at the Grand Piano. Contemporary\, improvisational. 5-7:00pm.
URL:https://powine.com/event/piano-with-david-speight-7/
LOCATION:Pend d’Oreille Winery\, 301 Cedar Street\, Sandpoint\, ID\, United States
CATEGORIES:Music
END:VEVENT
BEGIN:VEVENT
DTSTART;TZID=America/Los_Angeles:20250917T170000
DTEND;TZID=America/Los_Angeles:20250917T190000
DTSTAMP:20260420T103930
CREATED:20250829T203726Z
LAST-MODIFIED:20250829T203726Z
UID:10002244-1758128400-1758135600@powine.com
SUMMARY:Piano with Bob Beadling
DESCRIPTION:Bob returns to fill his soul and the winery space with familiar\, soothing\, and inspiring pieces on the grand piano. 5-7:00pm.
URL:https://powine.com/event/piano-with-bob-beadling-20/
LOCATION:Pend d’Oreille Winery\, 301 Cedar Street\, Sandpoint\, ID\, United States
CATEGORIES:Music
END:VEVENT
BEGIN:VEVENT
DTSTART;TZID=America/Los_Angeles:20250919T170000
DTEND;TZID=America/Los_Angeles:20250919T200000
DTSTAMP:20260420T103930
CREATED:20250829T203950Z
LAST-MODIFIED:20250829T203950Z
UID:10002245-1758301200-1758312000@powine.com
SUMMARY:Live Music with Maya\, Arthur\, and Peter
DESCRIPTION:Maya Goldblum\, Arthur Goldblum\, and Peter Lucht present an evening of easy jazz\, lounge sound and vocals. 5-8:00pm.
URL:https://powine.com/event/live-music-with-maya-arthur-and-peter/
LOCATION:Pend d’Oreille Winery\, 301 Cedar Street\, Sandpoint\, ID\, United States
CATEGORIES:Music
END:VEVENT
BEGIN:VEVENT
DTSTART;TZID=America/Los_Angeles:20250920T170000
DTEND;TZID=America/Los_Angeles:20250920T200000
DTSTAMP:20260420T103930
CREATED:20250829T204132Z
LAST-MODIFIED:20250916T190240Z
UID:10002246-1758387600-1758398400@powine.com
SUMMARY:Live Music with Picked Up Pieces
DESCRIPTION:This trio presents favorites across the generations. Easy Rock\, Pop\, Country. 5-8:00pm.
URL:https://powine.com/event/live-music-with-stephanie-and-doug-hawkins/
LOCATION:Pend d’Oreille Winery\, 301 Cedar Street\, Sandpoint\, ID\, United States
CATEGORIES:Music
END:VEVENT
BEGIN:VEVENT
DTSTART;TZID=America/Los_Angeles:20250923T170000
DTEND;TZID=America/Los_Angeles:20250923T190000
DTSTAMP:20260420T103930
CREATED:20250829T204312Z
LAST-MODIFIED:20250829T204433Z
UID:10002247-1758646800-1758654000@powine.com
SUMMARY:Piano with Rich and Jenny
DESCRIPTION:Rich and Jenny present energetic and enjoyable jazz pieces on the Grand Piano. Vocal accompaniment. 5-7:00pm.
URL:https://powine.com/event/piano-with-rich-and-jenny/
LOCATION:Pend d’Oreille Winery\, 301 Cedar Street\, Sandpoint\, ID\, United States
CATEGORIES:Music
END:VEVENT
BEGIN:VEVENT
DTSTART;TZID=America/Los_Angeles:20250924T170000
DTEND;TZID=America/Los_Angeles:20250924T190000
DTSTAMP:20260420T103930
CREATED:20250829T204720Z
LAST-MODIFIED:20250829T204720Z
UID:10002248-1758733200-1758740400@powine.com
SUMMARY:Piano and vocals with Malachi
DESCRIPTION:Malachi performs soulful\, inspiring tunes on the grand piano.  Vocal accompaniment. 5-7:00pm.
URL:https://powine.com/event/piano-and-vocals-with-malachi/
LOCATION:Pend d’Oreille Winery\, 301 Cedar Street\, Sandpoint\, ID\, United States
CATEGORIES:Music
END:VEVENT
BEGIN:VEVENT
DTSTART;TZID=America/Los_Angeles:20250926T170000
DTEND;TZID=America/Los_Angeles:20250926T200000
DTSTAMP:20260420T103930
CREATED:20250829T204911Z
LAST-MODIFIED:20250829T204911Z
UID:10002249-1758906000-1758916800@powine.com
SUMMARY:Live Music with Suspicious PKG
DESCRIPTION:The Suspicious PKG Trio engages the crowd and keeps the room swaying to rock and pop favorites. 5-8:00pm.
URL:https://powine.com/event/live-music-with-suspicious-pkg-2/
LOCATION:Pend d’Oreille Winery\, 301 Cedar Street\, Sandpoint\, ID\, United States
CATEGORIES:Music
END:VEVENT
BEGIN:VEVENT
DTSTART;TZID=America/Los_Angeles:20250927T170000
DTEND;TZID=America/Los_Angeles:20250927T200000
DTSTAMP:20260420T103930
CREATED:20250829T205050Z
LAST-MODIFIED:20250829T205050Z
UID:10002250-1758992400-1759003200@powine.com
SUMMARY:Live Music with Kosh
DESCRIPTION:Kosh has an extensive musical background as he brings his experience\, style\, and full performance to the winery! Arrive early for a seat.  Rock\, pop\, soft rock. 5-8:00pm.
URL:https://powine.com/event/live-music-with-kosh-20/
LOCATION:Pend d’Oreille Winery\, 301 Cedar Street\, Sandpoint\, ID\, United States
CATEGORIES:Music
END:VEVENT
BEGIN:VEVENT
DTSTART;TZID=America/Los_Angeles:20251001T160000
DTEND;TZID=America/Los_Angeles:20251001T190000
DTSTAMP:20260420T103930
CREATED:20250925T220059Z
LAST-MODIFIED:20250925T220059Z
UID:10002253-1759334400-1759345200@powine.com
SUMMARY:Piano with Dwayne Parsons
DESCRIPTION:Dwayne Parsons fills the winery with original songs on the grand piano.  Every performance is a musical story. 4-7:00pm.
URL:https://powine.com/event/piano-with-dwayne-parsons-27/
LOCATION:Pend d’Oreille Winery\, 301 Cedar Street\, Sandpoint\, ID\, United States
CATEGORIES:Music
END:VEVENT
BEGIN:VEVENT
DTSTART;TZID=America/Los_Angeles:20251003T170000
DTEND;TZID=America/Los_Angeles:20251003T200000
DTSTAMP:20260420T103930
CREATED:20250925T220324Z
LAST-MODIFIED:20250925T220324Z
UID:10002254-1759510800-1759521600@powine.com
SUMMARY:Live Music with Ron Keiper Trio
DESCRIPTION:The Ron Keiper Trio presents refined\, classy jazz. 5-8:00pm
URL:https://powine.com/event/live-music-with-ron-keiper-trio-3/
LOCATION:Pend d’Oreille Winery\, 301 Cedar Street\, Sandpoint\, ID\, United States
CATEGORIES:Music
END:VEVENT
BEGIN:VEVENT
DTSTART;TZID=America/Los_Angeles:20251004T170000
DTEND;TZID=America/Los_Angeles:20251004T200000
DTSTAMP:20260420T103930
CREATED:20250925T220534Z
LAST-MODIFIED:20250925T220534Z
UID:10002255-1759597200-1759608000@powine.com
SUMMARY:Live Music with Ian Newbill
DESCRIPTION:Ian Newbill generates warm\, fun\, energy with rock\, indie\, and folk songs. 5-8:00pm.
URL:https://powine.com/event/live-music-with-ian-newbill-13/
LOCATION:Pend d’Oreille Winery\, 301 Cedar Street\, Sandpoint\, ID\, United States
CATEGORIES:Music
END:VEVENT
END:VCALENDAR