BEGIN:VCALENDAR
VERSION:2.0
PRODID:-//Pend Oreille Winery in Sandpoint, Idaho - ECPv6.15.20//NONSGML v1.0//EN
CALSCALE:GREGORIAN
METHOD:PUBLISH
X-ORIGINAL-URL:https://powine.com
X-WR-CALDESC:Events for Pend Oreille Winery in Sandpoint, Idaho
REFRESH-INTERVAL;VALUE=DURATION:PT1H
X-Robots-Tag:noindex
X-PUBLISHED-TTL:PT1H
BEGIN:VTIMEZONE
TZID:America/Los_Angeles
BEGIN:DAYLIGHT
TZOFFSETFROM:-0800
TZOFFSETTO:-0700
TZNAME:PDT
DTSTART:20210314T100000
END:DAYLIGHT
BEGIN:STANDARD
TZOFFSETFROM:-0700
TZOFFSETTO:-0800
TZNAME:PST
DTSTART:20211107T090000
END:STANDARD
BEGIN:DAYLIGHT
TZOFFSETFROM:-0800
TZOFFSETTO:-0700
TZNAME:PDT
DTSTART:20220313T100000
END:DAYLIGHT
BEGIN:STANDARD
TZOFFSETFROM:-0700
TZOFFSETTO:-0800
TZNAME:PST
DTSTART:20221106T090000
END:STANDARD
BEGIN:DAYLIGHT
TZOFFSETFROM:-0800
TZOFFSETTO:-0700
TZNAME:PDT
DTSTART:20230312T100000
END:DAYLIGHT
BEGIN:STANDARD
TZOFFSETFROM:-0700
TZOFFSETTO:-0800
TZNAME:PST
DTSTART:20231105T090000
END:STANDARD
END:VTIMEZONE
BEGIN:VEVENT
DTSTART;TZID=America/Los_Angeles:20220325T170000
DTEND;TZID=America/Los_Angeles:20220325T200000
DTSTAMP:20260424T014005
CREATED:20220305T012507Z
LAST-MODIFIED:20220305T012507Z
UID:10001633-1648227600-1648238400@powine.com
SUMMARY:Live Music with Mike Wagoner and Sadie Sicilia
DESCRIPTION:Mike and Sadie pack the house! Sadie has an unforgettable voice and expression as she performs our favorites in new ways. Mike accompanies Sadie in the most balanced\, inspiring way. You will want to sit close or dance to classic rock tunes and familiar folk and country songs. These are the songs you feel.
URL:https://powine.com/event/live-music-with-mike-wagoner-and-sadie-sicilia-2/
CATEGORIES:Music
END:VEVENT
BEGIN:VEVENT
DTSTART;TZID=America/Los_Angeles:20220323T150000
DTEND;TZID=America/Los_Angeles:20220323T170000
DTSTAMP:20260424T014005
CREATED:20220305T012218Z
LAST-MODIFIED:20220305T012218Z
UID:10001341-1648047600-1648054800@powine.com
SUMMARY:Live Piano Music
DESCRIPTION:Join us for a relaxing afternoon of music on the grand piano and a glass of your favorite wine. Bring a friend and share a pizza.
URL:https://powine.com/event/live-piano-music-4/
CATEGORIES:Music
END:VEVENT
BEGIN:VEVENT
DTSTART;TZID=America/Los_Angeles:20220319T170000
DTEND;TZID=America/Los_Angeles:20220319T200000
DTSTAMP:20260424T014005
CREATED:20220305T012105Z
LAST-MODIFIED:20220305T012105Z
UID:10001339-1647709200-1647720000@powine.com
SUMMARY:Live Music with Brian Jacobs
DESCRIPTION:Brian Jacobs is a winery favorite who encompasses folk\, rock\, and soul. Brian will draw you close and keep you listening for hours. Arrive early for a seat and glass of wine.
URL:https://powine.com/event/live-music-with-brian-jacobs-3/
CATEGORIES:Music
END:VEVENT
BEGIN:VEVENT
DTSTART;TZID=America/Los_Angeles:20220318T170000
DTEND;TZID=America/Los_Angeles:20220318T200000
DTSTAMP:20260424T014005
CREATED:20220318T203156Z
LAST-MODIFIED:20220318T203156Z
UID:10001635-1647622800-1647633600@powine.com
SUMMARY:Live Music with Two Rivers Jazz
DESCRIPTION:We welcome Two Rivers Jazz ensemble for an evening of contemporary and well-known jazz\nstandards. Get a seat\, try a glass of the Syrah\, and enjoy the jazzy rhythm of the evening. 5-\n8:00pm.
URL:https://powine.com/event/live-music-with-two-rivers-jazz-2/
CATEGORIES:Music
END:VEVENT
BEGIN:VEVENT
DTSTART;TZID=America/Los_Angeles:20220317T170000
DTEND;TZID=America/Los_Angeles:20220317T200000
DTSTAMP:20260424T014005
CREATED:20220305T011417Z
LAST-MODIFIED:20220305T011417Z
UID:10001337-1647536400-1647547200@powine.com
SUMMARY:Celebrate St. Patrick’s Day with Maya Goldblum and Alex Cope
DESCRIPTION:We are excited to offer a special night of live music for Saint Patrick’s Day! Maya Goldblum and Alex Cope will play an evening of bluegrass/folk/and Celtic inspired tunes! Join us for a glass of wine and our Irish pizza special!
URL:https://powine.com/event/celebrate-st-patricks-day-with-maya-goldblum-and-alex-cope/
CATEGORIES:Music
END:VEVENT
BEGIN:VEVENT
DTSTART;TZID=America/Los_Angeles:20220312T170000
DTEND;TZID=America/Los_Angeles:20220312T200000
DTSTAMP:20260424T014005
CREATED:20220305T010955Z
LAST-MODIFIED:20220305T010955Z
UID:10001333-1647104400-1647115200@powine.com
SUMMARY:Live Music with the Scott Reid
DESCRIPTION:Scott Reid is a professional musician with impressive talent on the banjo. Scott will play a selection of bluegrass and folk songs to keep you happy and dancing all evening!
URL:https://powine.com/event/live-music-with-the-scott-reid/
CATEGORIES:Music
END:VEVENT
BEGIN:VEVENT
DTSTART;TZID=America/Los_Angeles:20220311T170000
DTEND;TZID=America/Los_Angeles:20220311T200000
DTSTAMP:20260424T014005
CREATED:20220305T010835Z
LAST-MODIFIED:20220305T010835Z
UID:10001331-1647018000-1647028800@powine.com
SUMMARY:Live Music with Bright Moments
DESCRIPTION:Bright Moments is an energetic Jazz band featuring veteran players. “Specializing in stylish music that covers a wide era\, we cover classics\, cool and swing jazz.” Bright Moments pairs well with a glass of Syrah and winery appetizers.
URL:https://powine.com/event/live-music-with-bright-moments-3/
CATEGORIES:Music
END:VEVENT
BEGIN:VEVENT
DTSTART;TZID=America/Los_Angeles:20220309T150000
DTEND;TZID=America/Los_Angeles:20220309T170000
DTSTAMP:20260424T014005
CREATED:20220305T010226Z
LAST-MODIFIED:20220305T010226Z
UID:10001329-1646838000-1646845200@powine.com
SUMMARY:Live Piano with Dwayne Parsons
DESCRIPTION:Dwayne Parsons will be telling stories through his original works on the Grand Piano. This is a perfect afternoon for a glass of Syrah and a winery pizza. Dwayne always draws a crowd\, arrive early to settle into a comfortable seat. 3-5:00pm. Winery will be closing at 5:00pm for a private Wine Club event.
URL:https://powine.com/event/live-piano-with-dwayne-parsons-2/
CATEGORIES:Music
END:VEVENT
BEGIN:VEVENT
DTSTART;TZID=America/Los_Angeles:20220305T170000
DTEND;TZID=America/Los_Angeles:20220305T200000
DTSTAMP:20260424T014005
CREATED:20220305T010015Z
LAST-MODIFIED:20220305T010015Z
UID:10001327-1646499600-1646510400@powine.com
SUMMARY:Live Music with Wiebe Jammin
DESCRIPTION:Nick Weibe perfoms songs that appeal to a wide range of listening tastes\, across the genres. Nick offers a fun mix of musical flavors with vocals\, acoustic guitar and loop pedal for a full musical experience.
URL:https://powine.com/event/live-music-with-wiebe-jammin/
CATEGORIES:Music
END:VEVENT
BEGIN:VEVENT
DTSTART;TZID=America/Los_Angeles:20220304T170000
DTEND;TZID=America/Los_Angeles:20220304T200000
DTSTAMP:20260424T014005
CREATED:20220305T005525Z
LAST-MODIFIED:20220305T005525Z
UID:10001325-1646413200-1646424000@powine.com
SUMMARY:Live Music with Kosh
DESCRIPTION:Kosh returns to the winery to entertain us with his unique vocal-acoustic\, soulful\, energetic sound. Kosh fills the spaces between jazz\, pop\, and rock. He has shared the stage with Bret Micheals and Cheap Trick\, and brings a lifetime of musical experience to his solo performance at the winery. 5-8:00pm.
URL:https://powine.com/event/live-music-with-kosh-3/
CATEGORIES:Music
END:VEVENT
BEGIN:VEVENT
DTSTART;TZID=America/Los_Angeles:20220226T170000
DTEND;TZID=America/Los_Angeles:20220226T200000
DTSTAMP:20260424T014005
CREATED:20220201T065456Z
LAST-MODIFIED:20220201T065456Z
UID:10001630-1645894800-1645905600@powine.com
SUMMARY:Live Music with Mike Wagoner and Sadie Sicilia
DESCRIPTION:Mike and Sadie pack the house! Sadie has an unforgettable voice and expression as she\nperforms our favorites in new ways. Mike accompanies Sadie in the most balanced\, inspiring\nway. You will want to sit close or dance to classic rock tunes and familiar folk songs. These are\nthe songs you feel.
URL:https://powine.com/event/live-music-with-mike-wagoner-and-sadie-sicilia/
CATEGORIES:Music
END:VEVENT
BEGIN:VEVENT
DTSTART;TZID=America/Los_Angeles:20220225T170000
DTEND;TZID=America/Los_Angeles:20220225T200000
DTSTAMP:20260424T014005
CREATED:20220201T065030Z
LAST-MODIFIED:20220201T065030Z
UID:10001629-1645808400-1645819200@powine.com
SUMMARY:Live Music with Bright Moments
DESCRIPTION:Bright Moments is an energetic Jazz band featuring veteran players. “Specializing in stylish\nmusic that covers a wide era\, we cover classics\, cool and swing jazz.” Bright Moments pairs well\nwith a glass of Cabernet Franc and winery appetizers.
URL:https://powine.com/event/live-music-with-bright-moments-2/
CATEGORIES:Music
END:VEVENT
BEGIN:VEVENT
DTSTART;TZID=America/Los_Angeles:20220223T150000
DTEND;TZID=America/Los_Angeles:20220223T170000
DTSTAMP:20260424T014005
CREATED:20220201T064807Z
LAST-MODIFIED:20220201T064807Z
UID:10001628-1645628400-1645635600@powine.com
SUMMARY:Live Piano Music
DESCRIPTION:Join us for a relaxing afternoon of music on the grand piano and a glass of your favorite wine.\nBring a friend and share a pizza.
URL:https://powine.com/event/live-piano-music-3/
CATEGORIES:Music
END:VEVENT
BEGIN:VEVENT
DTSTART;TZID=America/Los_Angeles:20220219T170000
DTEND;TZID=America/Los_Angeles:20220219T200000
DTSTAMP:20260424T014005
CREATED:20220201T064549Z
LAST-MODIFIED:20220201T064549Z
UID:10001627-1645290000-1645300800@powine.com
SUMMARY:Live Music with Brad Keeler
DESCRIPTION:Brad Keeler will perform covers from the past 10 decades as well as original works from a\nlifetime of creative music. Join us for a strong solo performance by Brad Keeler.
URL:https://powine.com/event/live-music-with-brad-keeler/
CATEGORIES:Music
END:VEVENT
BEGIN:VEVENT
DTSTART;TZID=America/Los_Angeles:20220218T170000
DTEND;TZID=America/Los_Angeles:20220218T200000
DTSTAMP:20260424T014005
CREATED:20220201T064311Z
LAST-MODIFIED:20220201T064311Z
UID:10001626-1645203600-1645214400@powine.com
SUMMARY:Live Music with Doug and Marty
DESCRIPTION:Doug and Marty are Sandpoint locals who will bring you back to the good old days with classic\nrock favorites from a wide and varied range of artists. Doug and Marty style their music with an\nacoustic guitar and a mandolin. Doug and Marty are talented\, interesting\, and a natural duo.\nLimited seating. First come\, first served.
URL:https://powine.com/event/live-music-with-doug-and-marty-2/
CATEGORIES:Music
END:VEVENT
BEGIN:VEVENT
DTSTART;TZID=America/Los_Angeles:20220212T170000
DTEND;TZID=America/Los_Angeles:20220212T200000
DTSTAMP:20260424T014006
CREATED:20220201T063858Z
LAST-MODIFIED:20220201T063858Z
UID:10001625-1644685200-1644696000@powine.com
SUMMARY:Live Music with the Chris Lynch Duo
DESCRIPTION:Chris Lynch is a talented guitarist and instrumentalist\, making magic as he plays. Enjoy a fun\nevening of professional\, fun\, and talented entertainment.
URL:https://powine.com/event/live-music-with-the-chris-lynch-duo/
CATEGORIES:Music
END:VEVENT
BEGIN:VEVENT
DTSTART;TZID=America/Los_Angeles:20220211T170000
DTEND;TZID=America/Los_Angeles:20220211T200000
DTSTAMP:20260424T014006
CREATED:20220201T061626Z
LAST-MODIFIED:20220201T061626Z
UID:10001623-1644598800-1644609600@powine.com
SUMMARY:Live Music with Mike Wagoner
DESCRIPTION:Mike Wagoner will fill the room with his solo performance. Mike has an unforgettable voice and\na stage presence that promises a perfect evening at the winery. Mike plays traditional folk\nsongs\, classic rock\, and Americana. Arrive early to get a seat. \nMike Wagoner
URL:https://powine.com/event/live-music-with-mike-wagoner-2/
CATEGORIES:Music
END:VEVENT
BEGIN:VEVENT
DTSTART;TZID=America/Los_Angeles:20220209T150000
DTEND;TZID=America/Los_Angeles:20220209T170000
DTSTAMP:20260424T014006
CREATED:20220201T061322Z
LAST-MODIFIED:20220201T061322Z
UID:10001622-1644418800-1644426000@powine.com
SUMMARY:Live Piano with Dwayne Parsons
DESCRIPTION:Dwayne Parsons will be telling stories through his original works on the Grand Piano. This is a\nperfect afternoon for a glass of Cabernet Franc and a winery pizza. Dwayne always draws a\ncrowd\, arrive early to settle into a comfortable seat.
URL:https://powine.com/event/live-piano-with-dwayne-parsons/
CATEGORIES:Music
END:VEVENT
BEGIN:VEVENT
DTSTART;TZID=America/Los_Angeles:20220205T170000
DTEND;TZID=America/Los_Angeles:20220205T200000
DTSTAMP:20260424T014006
CREATED:20220201T054821Z
LAST-MODIFIED:20220201T054821Z
UID:10001620-1644080400-1644091200@powine.com
SUMMARY:Live Music with Brian Jacobs
DESCRIPTION:Brian Jacobs is playing solo at the Pend d’Oreille Winery this Saturday. You don’t want to miss\nan evening of great wine and Brian Jacobs. Brian’s vocals with his acoustic melodies are a\nwinery favorite. Come early\, enjoy a glass of wine\, and grab a seat!
URL:https://powine.com/event/live-music-with-brian-jacobs-2/
CATEGORIES:Music
END:VEVENT
BEGIN:VEVENT
DTSTART;TZID=America/Los_Angeles:20220204T170000
DTEND;TZID=America/Los_Angeles:20220204T200000
DTSTAMP:20260424T014006
CREATED:20220201T053537Z
LAST-MODIFIED:20220201T053537Z
UID:10001619-1643994000-1644004800@powine.com
SUMMARY:Live Music with the Earl Berkley Duo
DESCRIPTION:Come in for a glass of wine and relax with the Earl Berkley Duo. Earl Berkley is a\nsinger/songwriter/guitarist who will keep you entertained all evening. Folk\, Americana and\nfamiliar songs played with intention and connection to the audience.
URL:https://powine.com/event/live-music-with-the-earl-berkley-duo/
CATEGORIES:Music
END:VEVENT
BEGIN:VEVENT
DTSTART;TZID=America/Los_Angeles:20220129T170000
DTEND;TZID=America/Los_Angeles:20220129T200000
DTSTAMP:20260424T014006
CREATED:20220101T015548Z
LAST-MODIFIED:20220101T015548Z
UID:10001614-1643475600-1643486400@powine.com
SUMMARY:Live Music with Doug and Marty
DESCRIPTION:Doug and Marty are Sandpoint locals who will bring you back to the good old days with classic\nrock favorites from a wild range of artists. Doug and Marty style their music with an acoustic\nguitar and a mandolin. Limited seating\, first come\, first served.
URL:https://powine.com/event/live-music-with-doug-and-marty/
CATEGORIES:Music
END:VEVENT
BEGIN:VEVENT
DTSTART;TZID=America/Los_Angeles:20220128T170000
DTEND;TZID=America/Los_Angeles:20220128T200000
DTSTAMP:20260424T014006
CREATED:20220101T015221Z
LAST-MODIFIED:20220101T015221Z
UID:10001612-1643389200-1643400000@powine.com
SUMMARY:Live Music with Mike Wagoner
DESCRIPTION:Mike Wagoner packs the house! Mike has an unforgettable voice and style as he plays our\nfavorites in new ways. You will want to sit close or dance to classic rock tunes and familiar folk\nsongs. These are the songs you feel.
URL:https://powine.com/event/live-music-with-mike-wagoner/
CATEGORIES:Music
END:VEVENT
BEGIN:VEVENT
DTSTART;TZID=America/Los_Angeles:20220122T170000
DTEND;TZID=America/Los_Angeles:20220122T200000
DTSTAMP:20260424T014006
CREATED:20220101T014912Z
LAST-MODIFIED:20220101T014912Z
UID:10001610-1642870800-1642881600@powine.com
SUMMARY:Live Music with Chris Paradis
DESCRIPTION:Chris is an impressive instrumentalist and vocalist. Chris elevates his songs with the banjo\,\nmandolin\, and bass. Come in for a glass of wine and a hot dinner to warm up on this January\nnight!
URL:https://powine.com/event/live-music-with-chris-paradis/
CATEGORIES:Music
END:VEVENT
BEGIN:VEVENT
DTSTART;TZID=America/Los_Angeles:20220121T170000
DTEND;TZID=America/Los_Angeles:20220121T200000
DTSTAMP:20260424T014006
CREATED:20220101T013607Z
LAST-MODIFIED:20220101T013607Z
UID:10001608-1642784400-1642795200@powine.com
SUMMARY:Live Music with Kosh
DESCRIPTION:KOSH has become a favorite at the winery. Enjoy his contemporary and classic music from\nacross generations. Kosh is an acoustic vocalist/soloist with an enchanting style. Come early for\na seat\, a glass of Rose’ and a pizza! You don’t want to miss this evening of music!
URL:https://powine.com/event/live-music-with-kosh-2/
CATEGORIES:Music
END:VEVENT
BEGIN:VEVENT
DTSTART;TZID=America/Los_Angeles:20220119T120000
DTEND;TZID=America/Los_Angeles:20220119T200000
DTSTAMP:20260424T014006
CREATED:20220101T012606Z
LAST-MODIFIED:20220101T012606Z
UID:10001606-1642593600-1642622400@powine.com
SUMMARY:Live Piano Music
DESCRIPTION:
URL:https://powine.com/event/live-piano-music-2/
CATEGORIES:Music
END:VEVENT
BEGIN:VEVENT
DTSTART;TZID=America/Los_Angeles:20220115T170000
DTEND;TZID=America/Los_Angeles:20220115T200000
DTSTAMP:20260424T014006
CREATED:20220101T012119Z
LAST-MODIFIED:20220101T012119Z
UID:10001604-1642266000-1642276800@powine.com
SUMMARY:Live Music with Mobius Riff
DESCRIPTION:Schooled in classical\, jazz\, folk and rock\, Mobius Riff presents a unique blend of instrumental\nmusic as it races at the speed of sound and hums through the soul. Intertwining melodies\,\nrhythms\, time changes and tantalizing harmonies  form the basis for their arrangements of\noriginal compositions and standards.
URL:https://powine.com/event/live-music-with-mobius-riff/
CATEGORIES:Music
END:VEVENT
BEGIN:VEVENT
DTSTART;TZID=America/Los_Angeles:20220114T170000
DTEND;TZID=America/Los_Angeles:20220114T200000
DTSTAMP:20260424T014006
CREATED:20220101T011551Z
LAST-MODIFIED:20220101T011551Z
UID:10001602-1642179600-1642190400@powine.com
SUMMARY:Live Music with Scott Taylor
DESCRIPTION:Scott is a singer-songwriter\, multi-instrumentalist\, who takes his inspiration from nature\,\nspirituality\, and “crusty old gamblers who like to drink whisky and shoot guns.” You’ll hear\ninfluences from the likes of Neil Young\, James Taylor\, Grateful Dead\, Townes Van Zandt\, and\nBeck! Join us for wine and the soulful tunes of Scott Taylor and the Endless Switchbacks.
URL:https://powine.com/event/live-music-with-scott-taylor/
CATEGORIES:Music
END:VEVENT
BEGIN:VEVENT
DTSTART;TZID=America/Los_Angeles:20220108T170000
DTEND;TZID=America/Los_Angeles:20220108T200000
DTSTAMP:20260424T014006
CREATED:20220101T011102Z
LAST-MODIFIED:20220101T011102Z
UID:10001315-1641661200-1641672000@powine.com
SUMMARY:Live Music with Weibe Jammin’
DESCRIPTION:Wiebe Jammin is passionate about arranging music & performing songs that appeal to a wide\nrange of listening tastes. Nick blends a unique mix of musical flavors with the skillful use of the\nacoustic guitar & loop pedal for a full-sound live music experience. Welcome back to the\nWinery Weibe Jammin! \nNick Wiebe
URL:https://powine.com/event/live-music-with-weibe-jammin/
CATEGORIES:Music
END:VEVENT
BEGIN:VEVENT
DTSTART;TZID=America/Los_Angeles:20220107T170000
DTEND;TZID=America/Los_Angeles:20220107T200000
DTSTAMP:20260424T014006
CREATED:20220101T010743Z
LAST-MODIFIED:20220101T010743Z
UID:10001314-1641574800-1641585600@powine.com
SUMMARY:Live Music with Brian Jacobs
DESCRIPTION:Brian Jacobs is playing solo at the Pend d’Oreille Winery this Friday. You don’t want to miss an\nevening of great wine and Brian Jacobs. Brian’s vocals with his acoustic melodies are a winery\nfavorite. Come early enjoy a glass of wine and grab a seat!
URL:https://powine.com/event/live-music-with-brian-jacobs/
CATEGORIES:Music
END:VEVENT
BEGIN:VEVENT
DTSTART;TZID=America/Los_Angeles:20220105T120000
DTEND;TZID=America/Los_Angeles:20220105T200000
DTSTAMP:20260424T014006
CREATED:20220101T010446Z
LAST-MODIFIED:20220101T010446Z
UID:10001313-1641384000-1641412800@powine.com
SUMMARY:Live Piano Music
DESCRIPTION:
URL:https://powine.com/event/live-piano-music/
CATEGORIES:Music
END:VEVENT
END:VCALENDAR