BEGIN:VCALENDAR
VERSION:2.0
PRODID:-//Pend Oreille Winery in Sandpoint, Idaho - ECPv6.15.20//NONSGML v1.0//EN
CALSCALE:GREGORIAN
METHOD:PUBLISH
X-ORIGINAL-URL:https://powine.com
X-WR-CALDESC:Events for Pend Oreille Winery in Sandpoint, Idaho
REFRESH-INTERVAL;VALUE=DURATION:PT1H
X-Robots-Tag:noindex
X-PUBLISHED-TTL:PT1H
BEGIN:VTIMEZONE
TZID:America/Los_Angeles
BEGIN:DAYLIGHT
TZOFFSETFROM:-0800
TZOFFSETTO:-0700
TZNAME:PDT
DTSTART:20180311T100000
END:DAYLIGHT
BEGIN:STANDARD
TZOFFSETFROM:-0700
TZOFFSETTO:-0800
TZNAME:PST
DTSTART:20181104T090000
END:STANDARD
BEGIN:DAYLIGHT
TZOFFSETFROM:-0800
TZOFFSETTO:-0700
TZNAME:PDT
DTSTART:20190310T100000
END:DAYLIGHT
BEGIN:STANDARD
TZOFFSETFROM:-0700
TZOFFSETTO:-0800
TZNAME:PST
DTSTART:20191103T090000
END:STANDARD
BEGIN:DAYLIGHT
TZOFFSETFROM:-0800
TZOFFSETTO:-0700
TZNAME:PDT
DTSTART:20200308T100000
END:DAYLIGHT
BEGIN:STANDARD
TZOFFSETFROM:-0700
TZOFFSETTO:-0800
TZNAME:PST
DTSTART:20201101T090000
END:STANDARD
BEGIN:DAYLIGHT
TZOFFSETFROM:-0800
TZOFFSETTO:-0700
TZNAME:PDT
DTSTART:20210314T100000
END:DAYLIGHT
BEGIN:STANDARD
TZOFFSETFROM:-0700
TZOFFSETTO:-0800
TZNAME:PST
DTSTART:20211107T090000
END:STANDARD
END:VTIMEZONE
BEGIN:VEVENT
DTSTART;TZID=America/Los_Angeles:20191222T150000
DTEND;TZID=America/Los_Angeles:20191222T170000
DTSTAMP:20260423T055415
CREATED:20191212T233638Z
LAST-MODIFIED:20191212T233638Z
UID:10001156-1577026800-1577034000@powine.com
SUMMARY:Special Christmas Piano Sunday with Bob Beadling
DESCRIPTION:With the Holidays right around the corner\, Bob Beadling puts together a special performance of your favorite Holiday Tunes. Don’t miss your chance to enjoy this wonderful performance on the Grand Piano. 3-5 pm. Free and Open to the Public.
URL:https://powine.com/event/christmas-bob-beadling/
LOCATION:Pend d’Oreille Winery\, 301 Cedar Street\, Sandpoint\, ID\, United States
END:VEVENT
BEGIN:VEVENT
DTSTART;TZID=America/Los_Angeles:20191227T170000
DTEND;TZID=America/Los_Angeles:20191227T200000
DTSTAMP:20260423T055415
CREATED:20191212T234009Z
LAST-MODIFIED:20191212T234009Z
UID:10001158-1577466000-1577476800@powine.com
SUMMARY:Ben Baker and Ali Thomas Duo at the Pend d' Oreille Winery
DESCRIPTION:The Benny Baker and Ali Thomas Duo combine local talents Benny Baker and Ali Thomas. With 60 years of professional music both playing in both local and bands abroad such as Baker Thomas & Packwood\, The Other White Meat\,Mostly Harmless and High Trees & Ammunition. With sounds of softer classic rock ballads\, you will be sure to have a good time. Music is from 5 to 8 pm. Free and Open to the Public.
URL:https://powine.com/event/ben-baker-ali-thomas-duo-pend-d-oreille-winery/
LOCATION:Pend d’Oreille Winery\, 301 Cedar Street\, Sandpoint\, ID\, United States
CATEGORIES:Music
END:VEVENT
BEGIN:VEVENT
DTSTART;TZID=America/Los_Angeles:20191228T170000
DTEND;TZID=America/Los_Angeles:20191228T200000
DTSTAMP:20260423T055415
CREATED:20191212T234658Z
LAST-MODIFIED:20191212T234658Z
UID:10001160-1577552400-1577563200@powine.com
SUMMARY:Brian Jacobs at the Pend d'Oreille Winery
DESCRIPTION:The Mixture of Brian Jacobs performances at the Pend d’ Oreille Winery and his ability to play such a wide variety of great music make his sets both entertaining\, enjoyable\, and fun. Don’t miss your chance for another great experience with Brian. Come early grab a seat! Music is from 5-8 pm. Free and Open to the Public. 
URL:https://powine.com/event/brian-jacobs/
LOCATION:Pend d’Oreille Winery\, 301 Cedar Street\, Sandpoint\, ID\, United States
CATEGORIES:Music
END:VEVENT
BEGIN:VEVENT
DTSTART;TZID=America/Los_Angeles:20191229T080000
DTEND;TZID=America/Los_Angeles:20191229T170000
DTSTAMP:20260423T055415
CREATED:20191212T235418Z
LAST-MODIFIED:20191212T235418Z
UID:10001162-1577606400-1577638800@powine.com
SUMMARY:Piano Sunday with Dwayne Parsons
DESCRIPTION:Piano Sunday with Dwayne Parsons is always both entertaining and peaceful. Sounds of Jazz and Freestyle favorites fill the air on Sunday afternoon. Join us from 3 – 5 pm. Free and Open to the Public.
URL:https://powine.com/event/dwayne-parsons-2/
LOCATION:Pend d’Oreille Winery\, 301 Cedar Street\, Sandpoint\, ID\, United States
CATEGORIES:Music
END:VEVENT
BEGIN:VEVENT
DTSTART;TZID=America/Los_Angeles:20200110T170000
DTEND;TZID=America/Los_Angeles:20200110T200000
DTSTAMP:20260423T055415
CREATED:20200110T002934Z
LAST-MODIFIED:20200110T002934Z
UID:10001343-1578675600-1578686400@powine.com
SUMMARY:Cris Lucas at the Pend d'Oreille Winery
DESCRIPTION:Cris Lucas\, singer songwriter from popular Spokane based band\, The Rub\, Cris will perform a solo set at the Pend d’ Oreille Winery. Performing a wide variety of genre’s including Pop\, Alternative\, Rock originals and favorites. Come early for a seat\, this is sure to be a great performance!
URL:https://powine.com/event/cris-lucas/
LOCATION:Pend d’Oreille Winery\, 301 Cedar Street\, Sandpoint\, ID\, United States
CATEGORIES:Music
END:VEVENT
BEGIN:VEVENT
DTSTART;TZID=America/Los_Angeles:20200111T170000
DTEND;TZID=America/Los_Angeles:20200111T200000
DTSTAMP:20260423T055415
CREATED:20200110T003753Z
LAST-MODIFIED:20200110T003753Z
UID:10001344-1578762000-1578772800@powine.com
SUMMARY:Baker\, Thomas & Packard
DESCRIPTION:Join us for the Baker\, Thomas & Packard trio. We are extremely excited to have Benny Baker\, Ali Thomas and Sheldon Packard back at the winery for a great Trio that will play all of your favorites! Join us for a great Saturday evening of music and entertainment. Free and Open to the Public. 5-8pm
URL:https://powine.com/event/baker-thomas-packard/
LOCATION:Pend d’Oreille Winery\, 301 Cedar Street\, Sandpoint\, ID\, United States
END:VEVENT
BEGIN:VEVENT
DTSTART;TZID=America/Los_Angeles:20200112T150000
DTEND;TZID=America/Los_Angeles:20200112T170000
DTSTAMP:20260423T055415
CREATED:20200110T004001Z
LAST-MODIFIED:20200110T004001Z
UID:10001345-1578841200-1578848400@powine.com
SUMMARY:Piano Sunday with Bob Beadling
DESCRIPTION:Order a glass of Cabernet Franc and a cup of soup while enjoying traditional and contemporary songs played by Bob Beadling. Bob is an incredibly talented pianist who always presents a memorable performance. Free and Open to the Public. 3-5:00pm
URL:https://powine.com/event/piano-sunday-bob-beadling-4/
LOCATION:Pend d’Oreille Winery\, 301 Cedar Street\, Sandpoint\, ID\, United States
CATEGORIES:Music
END:VEVENT
BEGIN:VEVENT
DTSTART;TZID=America/Los_Angeles:20200115T160000
DTEND;TZID=America/Los_Angeles:20200115T180000
DTSTAMP:20260423T055415
CREATED:20200111T225442Z
LAST-MODIFIED:20200111T225442Z
UID:10001361-1579104000-1579111200@powine.com
SUMMARY:Casual Piano Wednesdays
DESCRIPTION:We are adding another evening of Piano music to the weekly schedule\, Casual Piano Wednesdays! Dwayne Parsons will be coming in from 4-6pm every Wednesday night through February. Winter time is the perfect time to come down to the Winery and enjoy some live music on the Grand Piano accompanied with a glass of wine.  Free and Open to the Public. \n 
URL:https://powine.com/event/casual-piano-wednesdays/
LOCATION:Pend d’Oreille Winery\, 301 Cedar Street\, Sandpoint\, ID\, United States
CATEGORIES:Music
END:VEVENT
BEGIN:VEVENT
DTSTART;TZID=America/Los_Angeles:20200116T180000
DTEND;TZID=America/Los_Angeles:20200116T200000
DTSTAMP:20260423T055415
CREATED:20190718T013406Z
LAST-MODIFIED:20190718T013406Z
UID:10001366-1579197600-1579204800@powine.com
SUMMARY:Pop-Up Open Mic with Sandpoint Literary Collective
DESCRIPTION:Join us for Sandpoint Literary Collective’s Pop-Up Open Mic! Whet your palette with an immersive pairing of your favorite Pend d’Oreille wine and a mélange of fiction\, poetry\, storytelling\, and creative nonfiction readings! Pour out your own pieces or simply revel in those crafted by your friends and neighbors. Each writer will have 5 minutes to muse the masses. 6:00 – 8:00 pm. Free and open to the public.
URL:https://powine.com/event/pop-up-open-mic-with-sandpoint-literary-collective/
LOCATION:Pend d’Oreille Winery\, 301 Cedar Street\, Sandpoint\, ID\, United States
CATEGORIES:PDO Event
ATTACH;FMTTYPE=:
END:VEVENT
BEGIN:VEVENT
DTSTART;TZID=America/Los_Angeles:20200117T170000
DTEND;TZID=America/Los_Angeles:20200117T200000
DTSTAMP:20260423T055415
CREATED:20200110T012724Z
LAST-MODIFIED:20200110T012724Z
UID:10001346-1579280400-1579291200@powine.com
SUMMARY:Truck Mills and Carl Rey at the Pend d'Oreille Winery
DESCRIPTION:Local blues musicians\, Truck Mills and Carl Rey\, perform at Pend d’Oreille Winery! The foundation of Truck Mills’ and Carl Rey’s music lies in the blues\, specifically the country blues\, but they are not afraid to rework and rebuild the classics of the genre. Truck Mills’ guitar work and vocals are accompanied by Carl Rey’s harmonica and vocals\, together honoring American roots music. One fan wrote\, “It’s like Afro-Latin barrelhouse blues being played by Irish immigrants in a Turkish restaurant on Bourbon Street.” 5-8:00pm. Free and Open to the Public. (Blues\, American Roots)
URL:https://powine.com/event/truck-mills-carl-rey/
LOCATION:Pend d’Oreille Winery\, 301 Cedar Street\, Sandpoint\, ID\, United States
END:VEVENT
BEGIN:VEVENT
DTSTART;TZID=America/Los_Angeles:20200118T170000
DTEND;TZID=America/Los_Angeles:20200118T200000
DTSTAMP:20260423T055415
CREATED:20200110T014407Z
LAST-MODIFIED:20200110T014407Z
UID:10001347-1579366800-1579377600@powine.com
SUMMARY:Justin Lantrip at the Pend d'Oreille Winery
DESCRIPTION:Justin Lantrip is back at the Winery to perform his original music as well as your favorite indie and alternative songs. His soulful sound is the perfect accompaniment to a glass of wine. Arrive early for a seat\, glass of wine\, and a Farmer’s Board! 5-8:00pm. Free and Open to the Public. (Indie\, Alternative\,  Folk)
URL:https://powine.com/event/justin-lantrip-2/
LOCATION:Pend d’Oreille Winery\, 301 Cedar Street\, Sandpoint\, ID\, United States
CATEGORIES:Music
END:VEVENT
BEGIN:VEVENT
DTSTART;TZID=America/Los_Angeles:20200119T150000
DTEND;TZID=America/Los_Angeles:20200119T170000
DTSTAMP:20260423T055415
CREATED:20200110T014710Z
LAST-MODIFIED:20200110T014710Z
UID:10001348-1579446000-1579453200@powine.com
SUMMARY:Piano Sunday with Peter Lucht
DESCRIPTION:Jazz and Blues will be filling the Tasting Room on Sunday afternoon as Peter Lucht plays on the Grand Piano. Always entertaining and relaxing\, join us from 3 – 5:00 pm. Free and Open to the Public. \nApres’ Ski Special. Show us your ski pass and receive a $5/glass of house wine or $6/glass of reserve wine! Every Sunday through Ski Season. \n  \nPeter Lucht
URL:https://powine.com/event/peter-lucht-3/
LOCATION:Pend d’Oreille Winery\, 301 Cedar Street\, Sandpoint\, ID\, United States
CATEGORIES:Music
END:VEVENT
BEGIN:VEVENT
DTSTART;TZID=America/Los_Angeles:20200121T173000
DTEND;TZID=America/Los_Angeles:20200121T200000
DTSTAMP:20260423T055415
CREATED:20200112T001848Z
LAST-MODIFIED:20200112T001848Z
UID:10001367-1579627800-1579636800@powine.com
SUMMARY:Paint and Sip with Holly Walker
DESCRIPTION:The 3rd Tuesday of the month Holly Walker will be back with Live instruction of a beautiful Acrylic image of Lake Pend Oreille at the Winery for our ever popular Paint and Sip night. Cost is $35 per person and includes supplies\, instruction and a glass of house wine! Please call or stop by the Winery to sign up today!
URL:https://powine.com/event/paint-and-sip/
LOCATION:Pend d’Oreille Winery\, 301 Cedar Street\, Sandpoint\, ID\, United States
CATEGORIES:Sip and Paint
END:VEVENT
BEGIN:VEVENT
DTSTART;TZID=America/Los_Angeles:20200122T160000
DTEND;TZID=America/Los_Angeles:20200122T180000
DTSTAMP:20260423T055415
CREATED:20200111T225442Z
LAST-MODIFIED:20200111T225442Z
UID:10001363-1579708800-1579716000@powine.com
SUMMARY:Casual Piano Wednesdays
DESCRIPTION:We are adding another evening of Piano music to the weekly schedule\, Casual Piano Wednesdays! Dwayne Parsons will be coming in from 4-6pm every Wednesday night through February. Winter time is the perfect time to come down to the Winery and enjoy some live music on the Grand Piano accompanied with a glass of wine.  Free and Open to the Public. \n 
URL:https://powine.com/event/casual-piano-wednesdays-2/
LOCATION:Pend d’Oreille Winery\, 301 Cedar Street\, Sandpoint\, ID\, United States
CATEGORIES:Music
END:VEVENT
BEGIN:VEVENT
DTSTART;TZID=America/Los_Angeles:20200124T170000
DTEND;TZID=America/Los_Angeles:20200124T200000
DTSTAMP:20260423T055415
CREATED:20200110T015709Z
LAST-MODIFIED:20200110T015709Z
UID:10001349-1579885200-1579896000@powine.com
SUMMARY:Mike Wagoner and Utah John
DESCRIPTION:Mike Wagoner and Utah John are back at the Winery! A little bit of Country\, a little bit of Soul & a little bit ‘o Rock & Roll with these two! Come on down & enjoy a fun night of music paired with you favorite wine! \nMike Wagoner & Utah John
URL:https://powine.com/event/mike-wagoner-utah-john-3/
LOCATION:Pend d’Oreille Winery\, 301 Cedar Street\, Sandpoint\, ID\, United States
CATEGORIES:Music
END:VEVENT
BEGIN:VEVENT
DTSTART;TZID=America/Los_Angeles:20200125T170000
DTEND;TZID=America/Los_Angeles:20200125T200000
DTSTAMP:20260423T055415
CREATED:20200110T020318Z
LAST-MODIFIED:20200110T020318Z
UID:10001350-1579971600-1579982400@powine.com
SUMMARY:Echo Elysium at the Pend D'Oreille Winery
DESCRIPTION:Spokane based acoustic and electric guitarist and singer/songwriter Echo Elysium will be playing for us live at the Pend d’Oreille Winery. Echo Elysium has been “transporting audiences to alternate dimensions” for over ten years in the Pacific Northwest. His performances have been described as a “magical and ethereal” experience. Echo Elysium is influenced by a wide range of genres from Rhythm & Blues to Prince and Pink Floyd to Southern Gospel. 5-8:00pm.  Free and Open to the Public. (Blues\,Rock)
URL:https://powine.com/event/echo-elysium-3/
LOCATION:Pend d’Oreille Winery\, 301 Cedar Street\, Sandpoint\, ID\, United States
CATEGORIES:Music
END:VEVENT
BEGIN:VEVENT
DTSTART;TZID=America/Los_Angeles:20200126T150000
DTEND;TZID=America/Los_Angeles:20200126T170000
DTSTAMP:20260423T055415
CREATED:20200110T020619Z
LAST-MODIFIED:20200110T020619Z
UID:10001351-1580050800-1580058000@powine.com
SUMMARY:Piano Sunday with Dwayne Parsons
DESCRIPTION:The 4th Sunday of the Month welcomes back local favorite pianist Dwayne Parsons. Jazz\, Freestyle and favorites fill the Tasting Room as Dwayne shares his talent on our Grand Piano. 3-5:00pm.  Free and Open to the Public. \nApres Ski Special every Sunday!  Show us your ski pass and receive a $5 glass of house wine or $6 glass of reserve wine! \n  \nDwayne Parsons
URL:https://powine.com/event/piano-sunday-dwayne-parsons-9/
LOCATION:Pend d’Oreille Winery\, 301 Cedar Street\, Sandpoint\, ID\, United States
CATEGORIES:Music
END:VEVENT
BEGIN:VEVENT
DTSTART;TZID=America/Los_Angeles:20200129T160000
DTEND;TZID=America/Los_Angeles:20200129T180000
DTSTAMP:20260423T055415
CREATED:20200111T225442Z
LAST-MODIFIED:20200111T225442Z
UID:10001365-1580313600-1580320800@powine.com
SUMMARY:Casual Piano Wednesdays
DESCRIPTION:We are adding another evening of Piano music to the weekly schedule\, Casual Piano Wednesdays! Dwayne Parsons will be coming in from 4-6pm every Wednesday night through February. Winter time is the perfect time to come down to the Winery and enjoy some live music on the Grand Piano accompanied with a glass of wine.  Free and Open to the Public. \n 
URL:https://powine.com/event/casual-piano-wednesdays-3/
LOCATION:Pend d’Oreille Winery\, 301 Cedar Street\, Sandpoint\, ID\, United States
CATEGORIES:Music
END:VEVENT
BEGIN:VEVENT
DTSTART;TZID=America/Los_Angeles:20200130T180000
DTEND;TZID=America/Los_Angeles:20200130T200000
DTSTAMP:20260423T055415
CREATED:20190911T225113Z
LAST-MODIFIED:20190911T225113Z
UID:10001369-1580407200-1580414400@powine.com
SUMMARY:Trivia Takeover Live at the Pend d'Oreille Winery
DESCRIPTION:Create a team with friends and family or play solo and join us for a fun few rounds of Trivia Takeover Live.  Questions are fun and challenging and always new.  Prizes awarded for winning teams. 6-8:00 pm.  Free and Open to the Public.
URL:https://powine.com/event/trivia-takeover-live-at-the-pend-doreille-winery/
LOCATION:Pend d’Oreille Winery\, 301 Cedar Street\, Sandpoint\, ID\, United States
CATEGORIES:Trivia
END:VEVENT
BEGIN:VEVENT
DTSTART;TZID=America/Los_Angeles:20200131T170000
DTEND;TZID=America/Los_Angeles:20200131T200000
DTSTAMP:20260423T055415
CREATED:20200110T021246Z
LAST-MODIFIED:20200110T021246Z
UID:10001359-1580490000-1580500800@powine.com
SUMMARY:Winery Winter White Out Party
DESCRIPTION:Join us for some winter fun!  We are hosting our 1st ever Winter White Out Party!  We encourage themed costumes (white\, snowy\, themed winter attire\, etc) and of course good times.  Nick Wiebe with his Wiebe Jammin’ solo performance will be sure to kick the party off right!  Join us for Friday Night Fun\, drink specials and more! \nWe will crown a Winter White Out King and Queen – Best costumes win!
URL:https://powine.com/event/winery-winter-white-party/
LOCATION:Pend d’Oreille Winery\, 301 Cedar Street\, Sandpoint\, ID\, United States
CATEGORIES:Music
END:VEVENT
BEGIN:VEVENT
DTSTART;TZID=America/Los_Angeles:20200201T170000
DTEND;TZID=America/Los_Angeles:20200201T200000
DTSTAMP:20260423T055415
CREATED:20200116T190832Z
LAST-MODIFIED:20200116T190832Z
UID:10001368-1580576400-1580587200@powine.com
SUMMARY:Truck Mills at the Pend d'Oreille Winery
DESCRIPTION:The foundation of Truck Mills’ music lies in the blues\, specifically the country blues\, but he’s not afraid to rework and rebuild the classics of the genre. His guitar work and vocals are infused both with a deep knowledge and a deep love of American roots music\, but he roves far and wide from this grounding. One fan wrote\, “It’s like Afro-Latin barrelhouse blues being played by Irish immigrants in a Turkish restaurant on Bourbon Street.” \nTruck Mills\n5-8:00pm.  Free and Open to the Public. (Blues\, Folk\, Americana\, Rock)
URL:https://powine.com/event/truck-mills-pend-doreille-winery/
LOCATION:Pend d’Oreille Winery\, 301 Cedar Street\, Sandpoint\, ID\, United States
CATEGORIES:Music
END:VEVENT
BEGIN:VEVENT
DTSTART;TZID=America/Los_Angeles:20200205T160000
DTEND;TZID=America/Los_Angeles:20200205T180000
DTSTAMP:20260423T055415
CREATED:20200123T003218Z
LAST-MODIFIED:20200123T003218Z
UID:10001370-1580918400-1580925600@powine.com
SUMMARY:Casual Piano with Dwayne Parsons
DESCRIPTION:We will be hosting a weekly evening of music on the Grand Piano at the Winery.  Dwayne Parsons\, sometimes along with special guests will play each Wednesday from 4-6pm. Dwayne is a local pianist and songwriter.  When not playing at the Winery\, he performs regionally. Free and Open to the Public. (Jazz\, Freestyle\, and Favorites) \nDwayne Parsons
URL:https://powine.com/event/casual-piano/
LOCATION:Pend d’Oreille Winery\, 301 Cedar Street\, Sandpoint\, ID\, United States
CATEGORIES:Music
END:VEVENT
BEGIN:VEVENT
DTSTART;TZID=America/Los_Angeles:20200207T170000
DTEND;TZID=America/Los_Angeles:20200207T200000
DTSTAMP:20260423T055415
CREATED:20200123T004604Z
LAST-MODIFIED:20200123T004604Z
UID:10001371-1581094800-1581105600@powine.com
SUMMARY:Pamela Benton at the Pend d'Oreille Winery
DESCRIPTION:Pamela Benton is dynamic\, versatile and one of the finest soloists originating from the San Francisco Bay Area.  She now resides in beautiful Coeur d’Alene\, Idaho.  She is a singer/songwriter\, producer\, recording engineer and multi-talented instrumentalist. \nPamela sings and plays live on both the electric violin and lead guitar.  Her first CD\, Living by the Lake\, is an all-original\, all-instrumental CD that has “smooth and easy” instrumentals.  It has been described as relaxing and easy on the ears. Categories are Smooth Jazz/Light Jazz\, Indie Folk Rock and New Age.  The main solo instruments are electric violin\, acoustic\, or electric guitar.  Her second CD is Give Me Wings\, featuring more Indie Folk Rock and Smooth Jazz songs that showcase Pamela’s vocals. \nPamela’s violin is an extension of her soul.   She delights audiences wherever she performs\, whether singing\, playing the violin or guitar.  The music from her first CD is inspired by the gentle serenity of Lake Coeur d’Alene and the beauty that surrounds it.  This is truly beautiful music! \nPamela was classically trained on the violin and studied classical piano\, which she uses to record keyboard sequenced arrangements.  She has performed in more than 10 western states.  For more than 10 years\, she delighted audiences at the Coeur d’Alene Resort. \nPamela performs on five instruments including electric violin\, acoustic violin (for classical projects)\, guitar lead\, rhythm\, slide\, and finger picking; and mandolin.  As well\, she teaches violin\, mandolin\, and guitar \n 
URL:https://powine.com/event/pamela-benton/
LOCATION:Pend d’Oreille Winery\, 301 Cedar Street\, Sandpoint\, ID\, United States
CATEGORIES:Music
END:VEVENT
BEGIN:VEVENT
DTSTART;TZID=America/Los_Angeles:20200208T170000
DTEND;TZID=America/Los_Angeles:20200208T200000
DTSTAMP:20260423T055415
CREATED:20200123T004947Z
LAST-MODIFIED:20200123T004947Z
UID:10001372-1581181200-1581192000@powine.com
SUMMARY:Bright Moments at the Pend d'Oreille Winery
DESCRIPTION:Bright Moments Duo with Arthur Goldblum and Peter Lucht bring great jazz to the Winery.  Sure to be a fun night\, join us for some Saturday night jams.  5-8pm.  Free and open to the Public.  (Jazz) \n 
URL:https://powine.com/event/bright-moments-2/
LOCATION:Pend d’Oreille Winery\, 301 Cedar Street\, Sandpoint\, ID\, United States
CATEGORIES:Music
END:VEVENT
BEGIN:VEVENT
DTSTART;TZID=America/Los_Angeles:20200214T170000
DTEND;TZID=America/Los_Angeles:20200214T200000
DTSTAMP:20260423T055415
CREATED:20200212T203537Z
LAST-MODIFIED:20200212T203537Z
UID:10001373-1581699600-1581710400@powine.com
SUMMARY:Lucas Brookbank Brown and Melissa Landrus
DESCRIPTION:Valentines Day with Lucas Brookbank Brown and Melissa Landrus\nThe talented Lucas Brookbank Brown returns to Sandpoint paired up with another one of the areas musically gifted Melissa Landrus. Playing Folk Blues\, and Soul this performance will be a great place to enjoy your evening along with our wine and cheese Special for the night\, a pairing of artisan cheeses and wine of the Month\, L’Oeuvre.
URL:https://powine.com/event/lucas-brookbank-brown-melissa-landrus/
LOCATION:Pend d’Oreille Winery\, 301 Cedar Street\, Sandpoint\, ID\, United States
CATEGORIES:Music
END:VEVENT
BEGIN:VEVENT
DTSTART;TZID=America/Los_Angeles:20200215T170000
DTEND;TZID=America/Los_Angeles:20200215T200000
DTSTAMP:20260423T055415
CREATED:20200212T203823Z
LAST-MODIFIED:20200212T203823Z
UID:10001374-1581786000-1581796800@powine.com
SUMMARY:Mike Wagoner Trio at the Pend d'Oreille Winery
DESCRIPTION:Mike Wagoner Trio \nPopular local trio Mike Wagoner\, Utah John and Jack-O are back at the winery to perform your favorite Blues and Rock n’ Roll sure to have you singing in your seat\, or swinging on the dance floor! Come early for a seat. First come\, first served. Free and Open to the Public 5-8pm.
URL:https://powine.com/event/mike-wagoner-trio-2/
LOCATION:Pend d’Oreille Winery\, 301 Cedar Street\, Sandpoint\, ID\, United States
CATEGORIES:Music
END:VEVENT
BEGIN:VEVENT
DTSTART;TZID=America/Los_Angeles:20200216T150000
DTEND;TZID=America/Los_Angeles:20200216T170000
DTSTAMP:20260423T055415
CREATED:20200212T204214Z
LAST-MODIFIED:20200212T204214Z
UID:10001375-1581865200-1581872400@powine.com
SUMMARY:Piano Sunday with Peter Lucht
DESCRIPTION:Piano Sunday with Peter Lucht \nJazz and Blues fill the Tasting Room on the 3rd Sunday of the month with Peter Lucht on the Grand Piano. Join us from 3-5pm and enjoy great music along with a glass of wine. Free and Open to the Public.
URL:https://powine.com/event/piano-sunday-peter-lucht-8/
LOCATION:Pend d’Oreille Winery\, 301 Cedar Street\, Sandpoint\, ID\, United States
CATEGORIES:Music
END:VEVENT
BEGIN:VEVENT
DTSTART;TZID=America/Los_Angeles:20200218T173000
DTEND;TZID=America/Los_Angeles:20200218T200000
DTSTAMP:20260423T055415
CREATED:20200212T204617Z
LAST-MODIFIED:20200212T204617Z
UID:10001376-1582047000-1582056000@powine.com
SUMMARY:Paint and Sip with Holly Walker
DESCRIPTION:Paint and Sip with Holly Walker back for the 3rd Tuesday of the Month. Join Holly Walker and Pend d’Oreille Winery for a night of painting\, sipping and snacking! \nThis will be an watercolor Paint & Sip! \nPrice: $35 + tax/person \n*Ticket includes: art supplies and instruction by local artist Holly Walker and a glass select wine. \nSEATS ARE LIMITED · RESERVATIONS REQUIRED\nCall 208.265.8545 to make reservations
URL:https://powine.com/event/paint-sip/
LOCATION:Pend d’Oreille Winery\, 301 Cedar Street\, Sandpoint\, ID\, United States
CATEGORIES:Sip and Paint
END:VEVENT
BEGIN:VEVENT
DTSTART;TZID=America/Los_Angeles:20200221T170000
DTEND;TZID=America/Los_Angeles:20200221T200000
DTSTAMP:20260423T055415
CREATED:20200212T205021Z
LAST-MODIFIED:20200212T205021Z
UID:10001378-1582304400-1582315200@powine.com
SUMMARY:Ron Kieper Duo at the Pend d'Oreille Winery
DESCRIPTION:Saxophonist Ron Kieper with his sax/bass jazz duo will be back at the Winery to fill your Friday with soothing Jazz. Join us from 5-8pm with Friday night wine specials. Free and Open to the Public. \n 
URL:https://powine.com/event/ron-kieper/
LOCATION:Pend d’Oreille Winery\, 301 Cedar Street\, Sandpoint\, ID\, United States
CATEGORIES:Music
END:VEVENT
BEGIN:VEVENT
DTSTART;TZID=America/Los_Angeles:20200222T170000
DTEND;TZID=America/Los_Angeles:20200222T200000
DTSTAMP:20260423T055415
CREATED:20200212T205302Z
LAST-MODIFIED:20200212T205302Z
UID:10001380-1582390800-1582401600@powine.com
SUMMARY:Spare Parts at the Pend d'Oreille Winery
DESCRIPTION:Back by popular demand this Spokane based group will be performing on Saturday night. Fun energetic and will surely fill the Winery\, so come early grab a seat and a glass of wine. Music from 5-8pm. Free and Open to the Public.
URL:https://powine.com/event/spare-parts-trio-pend-doreille-winery/
LOCATION:Pend d’Oreille Winery\, 301 Cedar Street\, Sandpoint\, ID\, United States
CATEGORIES:Music
END:VEVENT
END:VCALENDAR