BEGIN:VCALENDAR
VERSION:2.0
PRODID:-//Pend Oreille Winery in Sandpoint, Idaho - ECPv6.15.20//NONSGML v1.0//EN
CALSCALE:GREGORIAN
METHOD:PUBLISH
X-WR-CALNAME:Pend Oreille Winery in Sandpoint, Idaho
X-ORIGINAL-URL:https://powine.com
X-WR-CALDESC:Events for Pend Oreille Winery in Sandpoint, Idaho
REFRESH-INTERVAL;VALUE=DURATION:PT1H
X-Robots-Tag:noindex
X-PUBLISHED-TTL:PT1H
BEGIN:VTIMEZONE
TZID:America/Los_Angeles
BEGIN:DAYLIGHT
TZOFFSETFROM:-0800
TZOFFSETTO:-0700
TZNAME:PDT
DTSTART:20230312T100000
END:DAYLIGHT
BEGIN:STANDARD
TZOFFSETFROM:-0700
TZOFFSETTO:-0800
TZNAME:PST
DTSTART:20231105T090000
END:STANDARD
BEGIN:DAYLIGHT
TZOFFSETFROM:-0800
TZOFFSETTO:-0700
TZNAME:PDT
DTSTART:20240310T100000
END:DAYLIGHT
BEGIN:STANDARD
TZOFFSETFROM:-0700
TZOFFSETTO:-0800
TZNAME:PST
DTSTART:20241103T090000
END:STANDARD
BEGIN:DAYLIGHT
TZOFFSETFROM:-0800
TZOFFSETTO:-0700
TZNAME:PDT
DTSTART:20250309T100000
END:DAYLIGHT
BEGIN:STANDARD
TZOFFSETFROM:-0700
TZOFFSETTO:-0800
TZNAME:PST
DTSTART:20251102T090000
END:STANDARD
END:VTIMEZONE
BEGIN:VEVENT
DTSTART;TZID=America/Los_Angeles:20240124T080000
DTEND;TZID=America/Los_Angeles:20240124T170000
DTSTAMP:20260425T080748
CREATED:20240125T002646Z
LAST-MODIFIED:20240125T002646Z
UID:10001896-1706083200-1706115600@powine.com
SUMMARY:Closed for a Private Event
DESCRIPTION:The Pend d’ Oreille Winery will be open for lunch from 12:00-2:00pm.  Closed the remainder of the day for a private event.
URL:https://powine.com/event/closed-for-a-private-event/
LOCATION:ID
END:VEVENT
BEGIN:VEVENT
DTSTART;TZID=America/Los_Angeles:20240124T170000
DTEND;TZID=America/Los_Angeles:20240124T190000
DTSTAMP:20260425T080748
CREATED:20240102T191920Z
LAST-MODIFIED:20240102T191920Z
UID:10001582-1706115600-1706122800@powine.com
SUMMARY:Piano with Bob Beadling
DESCRIPTION:Bob Beadling knows how to draw the most beautiful sound from the grand piano.  Bob has extensive experience as a pianist and musician\, resulting in a creative performance of pop\, classic\, and jazz inspired songs. 5-7:00pm
URL:https://powine.com/event/piano-with-bob-beadling-3/
LOCATION:Pend d’Oreille Winery\, 301 Cedar Street\, Sandpoint\, ID\, United States
CATEGORIES:Music
END:VEVENT
BEGIN:VEVENT
DTSTART;TZID=America/Los_Angeles:20240126T170000
DTEND;TZID=America/Los_Angeles:20240126T200000
DTSTAMP:20260425T080748
CREATED:20240102T192015Z
LAST-MODIFIED:20240102T192015Z
UID:10001583-1706288400-1706299200@powine.com
SUMMARY:The Ronaldos
DESCRIPTION:The Ronaldos bring a positive\, sophisticated sound to the tasting room.  Blues\, Jazz\, Rock originals and favorites.  5-8:00pm.
URL:https://powine.com/event/the-ronaldos/
LOCATION:Pend d’Oreille Winery\, 301 Cedar Street\, Sandpoint\, ID\, United States
CATEGORIES:Music
END:VEVENT
BEGIN:VEVENT
DTSTART;TZID=America/Los_Angeles:20240127T170000
DTEND;TZID=America/Los_Angeles:20240127T200000
DTSTAMP:20260425T080748
CREATED:20240102T192103Z
LAST-MODIFIED:20240102T192103Z
UID:10001584-1706374800-1706385600@powine.com
SUMMARY:Live Music with Ben Vogel
DESCRIPTION:Acoustic guitarist/songwriter/vocalist Ben Vogel has a background in classical music and an instinct in rock and pop. 5-8:00pm.
URL:https://powine.com/event/live-music-with-ben-vogel-5/
LOCATION:Pend d’Oreille Winery\, 301 Cedar Street\, Sandpoint\, ID\, United States
CATEGORIES:Music
END:VEVENT
BEGIN:VEVENT
DTSTART;TZID=America/Los_Angeles:20240131T170000
DTEND;TZID=America/Los_Angeles:20240131T200000
DTSTAMP:20260425T080748
CREATED:20240102T192154Z
LAST-MODIFIED:20240102T192154Z
UID:10001585-1706720400-1706731200@powine.com
SUMMARY:Candlelight Concert with the Suzuki String Academy
DESCRIPTION:The Suzuki String Academy will fill the winery with music and light.  Join us for a special candlelight concert and a meal.  Tickets will include a performance\, wine\, and food. 5:00-8:00pm. \nPurchase your Tickets…Click Here!\n  \n \n 
URL:https://powine.com/event/candlelight-concert-with-the-suzuki-string-academy/
LOCATION:Pend d’Oreille Winery\, 301 Cedar Street\, Sandpoint\, ID\, United States
CATEGORIES:Music
END:VEVENT
BEGIN:VEVENT
DTSTART;VALUE=DATE:20240201
DTEND;VALUE=DATE:20240301
DTSTAMP:20260425T080748
CREATED:20240125T001930Z
LAST-MODIFIED:20240125T001930Z
UID:10001588-1706745600-1709251199@powine.com
SUMMARY:February Wine of the Month – 2021 L’Oeuvre
DESCRIPTION:Nasturtium\, clove\, and vanilla aromas\, followed by blueberry\, rhubarb\, strawberry jam\, cinnamon\, basil\, baker’s chocolate.  Coconut woodiness on the nose. Serve with grilled meats\, rich pasta dishes\, sharp cheeses\, and decadent desserts. \nAll month long 10% off bottles 1 – 5\, 15% off bottles 6 – 11\, and 20% off cases. \nEnjoy $10.50 glass pours through the month of February.
URL:https://powine.com/event/february-wine-of-the-month-2021-loeuvre/
LOCATION:Pend d’Oreille Winery\, 301 Cedar Street\, Sandpoint\, ID\, United States
END:VEVENT
BEGIN:VEVENT
DTSTART;VALUE=DATE:20240201
DTEND;VALUE=DATE:20240301
DTSTAMP:20260425T080748
CREATED:20240125T002036Z
LAST-MODIFIED:20240125T002036Z
UID:10001889-1706745600-1709251199@powine.com
SUMMARY:February Artist of the Month – Bruce Duykers
DESCRIPTION:The Pend d’ Oreille Winery is delighted to welcome Bruce Duykers as our February artist of the month. Bruce Duykers initially got his start in art at the American Academy of Art in Chicago where he studied realism\, watercolors\, and technique. Bruce has extensive talent and presents oil paintings and watercolors in both realism and abstract style.  Please join us on February 8th from 5-7:00 for a reception honoring Bruce Duykers.
URL:https://powine.com/event/february-artist-of-the-month-bruce-duykers/
LOCATION:Pend d’Oreille Winery\, 301 Cedar Street\, Sandpoint\, ID\, United States
END:VEVENT
BEGIN:VEVENT
DTSTART;TZID=America/Los_Angeles:20240202T170000
DTEND;TZID=America/Los_Angeles:20240202T200000
DTSTAMP:20260425T080748
CREATED:20240125T002142Z
LAST-MODIFIED:20240125T002142Z
UID:10001890-1706893200-1706904000@powine.com
SUMMARY:Live Music with Nobody Famous
DESCRIPTION:Nobody Famous is becoming a winery favorite duo!  Nobody Famous presents a fun performance of carefree favorites.  Rock\, pop\, blues.  5-8:00pm.
URL:https://powine.com/event/live-music-with-nobody-famous-3/
LOCATION:Pend d’Oreille Winery\, 301 Cedar Street\, Sandpoint\, ID\, United States
CATEGORIES:Music
END:VEVENT
BEGIN:VEVENT
DTSTART;TZID=America/Los_Angeles:20240203T170000
DTEND;TZID=America/Los_Angeles:20240203T200000
DTSTAMP:20260425T080748
CREATED:20240125T002231Z
LAST-MODIFIED:20240125T002231Z
UID:10001891-1706979600-1706990400@powine.com
SUMMARY:Live Music with AP Collective
DESCRIPTION:AP Collective is a singer-songwriter acoustic duo\, harmonizing vocals and guitar.  5-8:00pm.
URL:https://powine.com/event/live-music-with-ap-collective/
LOCATION:Pend d’Oreille Winery\, 301 Cedar Street\, Sandpoint\, ID\, United States
CATEGORIES:Music
END:VEVENT
BEGIN:VEVENT
DTSTART;TZID=America/Los_Angeles:20240207T170000
DTEND;TZID=America/Los_Angeles:20240207T190000
DTSTAMP:20260425T080748
CREATED:20240125T002322Z
LAST-MODIFIED:20240125T002322Z
UID:10001892-1707325200-1707332400@powine.com
SUMMARY:Piano with Dwayne Parsons
DESCRIPTION:Dwayne fills the room with stories through music.  Arrive early for a bite to eat and a glass of wine as you are treated to an extraordinary performance on the grand piano. 5-7:00pm.
URL:https://powine.com/event/piano-with-dwayne-parsons-9/
LOCATION:Pend d’Oreille Winery\, 301 Cedar Street\, Sandpoint\, ID\, United States
CATEGORIES:Music
END:VEVENT
BEGIN:VEVENT
DTSTART;TZID=America/Los_Angeles:20240208T170000
DTEND;TZID=America/Los_Angeles:20240208T190000
DTSTAMP:20260425T080748
CREATED:20240125T002412Z
LAST-MODIFIED:20240125T002412Z
UID:10001893-1707411600-1707418800@powine.com
SUMMARY:Artist Reception for Bruce Duykers
DESCRIPTION:Please join us in welcoming Bruce Duykers as our February Artist of the Month. Bruce presents an extensive collection of watercolors\, oil paintings\, realism and abstract.  5-7:00pm.
URL:https://powine.com/event/artist-reception-for-bruce-duykers/
LOCATION:Pend d’Oreille Winery\, 301 Cedar Street\, Sandpoint\, ID\, United States
CATEGORIES:Artist Reception
END:VEVENT
BEGIN:VEVENT
DTSTART;TZID=America/Los_Angeles:20240209T170000
DTEND;TZID=America/Los_Angeles:20240209T200000
DTSTAMP:20260425T080748
CREATED:20240125T002503Z
LAST-MODIFIED:20240125T002503Z
UID:10001894-1707498000-1707508800@powine.com
SUMMARY:Live Music with the Ron Keiper Trio
DESCRIPTION:Professional and smooth jazz by the Ron Keiper Trio.  5-8:00pm
URL:https://powine.com/event/live-music-with-the-ron-keiper-trio-2/
LOCATION:Pend d’Oreille Winery\, 301 Cedar Street\, Sandpoint\, ID\, United States
CATEGORIES:Music
END:VEVENT
BEGIN:VEVENT
DTSTART;TZID=America/Los_Angeles:20240210T170000
DTEND;TZID=America/Los_Angeles:20240210T200000
DTSTAMP:20260425T080748
CREATED:20240125T002558Z
LAST-MODIFIED:20240125T002558Z
UID:10001895-1707584400-1707595200@powine.com
SUMMARY:Live Music with Mike and Shanna
DESCRIPTION:Mike and Shanna present a harmonized evening of folk\, early rock\, and indie music.  5-8:00pm.
URL:https://powine.com/event/live-music-with-mike-and-shanna-2/
LOCATION:Pend d’Oreille Winery\, 301 Cedar Street\, Sandpoint\, ID\, United States
CATEGORIES:Music
END:VEVENT
BEGIN:VEVENT
DTSTART;TZID=America/Los_Angeles:20240216T170000
DTEND;TZID=America/Los_Angeles:20240216T200000
DTSTAMP:20260425T080748
CREATED:20240125T002746Z
LAST-MODIFIED:20240125T002746Z
UID:10001897-1708102800-1708113600@powine.com
SUMMARY:Live Music with Bright Moments
DESCRIPTION:Bright Moments performs energetic\, eclectic jazz.  Bright Moments musicians have been playing jazz together for decades.  5-8:00pm.
URL:https://powine.com/event/live-music-with-bright-moments-10/
LOCATION:Pend d’Oreille Winery\, 301 Cedar Street\, Sandpoint\, ID\, United States
CATEGORIES:Music
END:VEVENT
BEGIN:VEVENT
DTSTART;TZID=America/Los_Angeles:20240217T170000
DTEND;TZID=America/Los_Angeles:20240217T200000
DTSTAMP:20260425T080748
CREATED:20240125T002830Z
LAST-MODIFIED:20240125T002830Z
UID:10001898-1708189200-1708200000@powine.com
SUMMARY:Live Music with Weibe Jammin
DESCRIPTION:Weibe Jammin’ sparks up the winery with a creative selection of songs and a loop pedal sound.  Weibe Jammin’ is fun and energetic.  Enjoy a glass of L’Oeuvre and an artisan pizza for a complete night of good food\, good wine\, good music.  5-8:00pm.
URL:https://powine.com/event/live-music-with-weibe-jammin-6/
LOCATION:Pend d’Oreille Winery\, 301 Cedar Street\, Sandpoint\, ID\, United States
CATEGORIES:Music
END:VEVENT
BEGIN:VEVENT
DTSTART;TZID=America/Los_Angeles:20240220T170000
DTEND;TZID=America/Los_Angeles:20240220T190000
DTSTAMP:20260425T080748
CREATED:20240125T002916Z
LAST-MODIFIED:20240125T002916Z
UID:10001899-1708448400-1708455600@powine.com
SUMMARY:Piano with Jennifer Stoehner
DESCRIPTION:Jennifer Stoehner returns to play classical and contemporary tunes on the grand piano. Arrive early for a seat and a glass of L’Oeuve. 5-7:00 pm.
URL:https://powine.com/event/piano-with-jennifer-stoehner-2/
LOCATION:Pend d’Oreille Winery\, 301 Cedar Street\, Sandpoint\, ID\, United States
CATEGORIES:Music
END:VEVENT
BEGIN:VEVENT
DTSTART;TZID=America/Los_Angeles:20240221T170000
DTEND;TZID=America/Los_Angeles:20240221T190000
DTSTAMP:20260425T080748
CREATED:20240125T003009Z
LAST-MODIFIED:20240125T003009Z
UID:10001900-1708534800-1708542000@powine.com
SUMMARY:Piano with Peter Lucht
DESCRIPTION:Artful\, refined jazz piano. 5-7:00pm.
URL:https://powine.com/event/piano-with-peter-lucht-2/
LOCATION:Pend d’Oreille Winery\, 301 Cedar Street\, Sandpoint\, ID\, United States
CATEGORIES:Music
END:VEVENT
BEGIN:VEVENT
DTSTART;TZID=America/Los_Angeles:20240223T170000
DTEND;TZID=America/Los_Angeles:20240223T200000
DTSTAMP:20260425T080748
CREATED:20240125T003057Z
LAST-MODIFIED:20240125T003057Z
UID:10001901-1708707600-1708718400@powine.com
SUMMARY:The Ronaldos Trio
DESCRIPTION:The Ronaldos bring a positive\, sophisticated sound to the tasting room.  Blues\, Jazz\, Rock originals and favorites.  5-8:00pm.
URL:https://powine.com/event/the-ronaldos-trio/
LOCATION:Pend d’Oreille Winery\, 301 Cedar Street\, Sandpoint\, ID\, United States
CATEGORIES:Music
END:VEVENT
BEGIN:VEVENT
DTSTART;TZID=America/Los_Angeles:20240224T170000
DTEND;TZID=America/Los_Angeles:20240224T200000
DTSTAMP:20260425T080748
CREATED:20240125T003151Z
LAST-MODIFIED:20240125T003151Z
UID:10001902-1708794000-1708804800@powine.com
SUMMARY:Live Music with Ponderay Paradox
DESCRIPTION:Ponderay Paradox jams and strums through our favorite folk\, blues and 70s-80s tunes.  5-8:00pm
URL:https://powine.com/event/live-music-with-ponderay-paradox-4/
LOCATION:Pend d’Oreille Winery\, 301 Cedar Street\, Sandpoint\, ID\, United States
CATEGORIES:Music
END:VEVENT
BEGIN:VEVENT
DTSTART;TZID=America/Los_Angeles:20240228T170000
DTEND;TZID=America/Los_Angeles:20240228T190000
DTSTAMP:20260425T080748
CREATED:20240125T003237Z
LAST-MODIFIED:20240125T003237Z
UID:10001903-1709139600-1709146800@powine.com
SUMMARY:Piano with Bob Beadling
DESCRIPTION:Bob Beadling plays contemporary music with style and flair on the grand piano.  5-7:00pm
URL:https://powine.com/event/piano-with-bob-beadling-4/
LOCATION:Pend d’Oreille Winery\, 301 Cedar Street\, Sandpoint\, ID\, United States
CATEGORIES:Music
END:VEVENT
BEGIN:VEVENT
DTSTART;TZID=America/Los_Angeles:20240229T180000
DTEND;TZID=America/Los_Angeles:20240229T220000
DTSTAMP:20260425T080748
CREATED:20240213T213033Z
LAST-MODIFIED:20240213T213033Z
UID:10001904-1709229600-1709244000@powine.com
SUMMARY:Taste of Indonesia
DESCRIPTION:Join us for a night of global cuisine! This is the first of our international dinner We are offering a three course meal of authentic Indonesian cuisine. Each reservation includes an appetizer\, meal\, and dessert. Wine and Gratuity not included. Dinner service begins at 6:00pm\, February 29th\, 2024. \n  \nTo purchase your ticket online\, click here!
URL:https://powine.com/event/taste-of-indonesia/
LOCATION:Pend d’Oreille Winery\, 301 Cedar Street\, Sandpoint\, ID\, United States
END:VEVENT
BEGIN:VEVENT
DTSTART;TZID=America/Los_Angeles:20240301T080000
DTEND;TZID=America/Los_Angeles:20240331T170000
DTSTAMP:20260425T080748
CREATED:20240301T160421Z
LAST-MODIFIED:20240301T160421Z
UID:10001905-1709280000-1711904400@powine.com
SUMMARY:March Wine of the Month – 2022 Chardonnay
DESCRIPTION:Our 2022 Chardonnay is perfectly balanced with vibrant acidity and medium body structure. The 2022 vintage is bright and very approachable.  Apple blossom and winter melon aromas open the palate to Asian pear\, lemongrass\, vanilla cream\, and an elegant minerality. This Chardonnay pairs nicely with triple cream or nutty cheeses\, lobster rolls\, and pasta primavera. \nAll month long 10% off bottles 1 – 5\, 15% off bottles 6 – 11\, and 20% off cases. \nEnjoy $8.00 glass pours through the month of March.
URL:https://powine.com/event/march-wine-of-the-month-2022-chardonnay/
LOCATION:Pend d’Oreille Winery\, 301 Cedar Street\, Sandpoint\, ID\, United States
END:VEVENT
BEGIN:VEVENT
DTSTART;TZID=America/Los_Angeles:20240301T080000
DTEND;TZID=America/Los_Angeles:20240331T170000
DTSTAMP:20260425T080748
CREATED:20240301T160513Z
LAST-MODIFIED:20240301T160513Z
UID:10001906-1709280000-1711904400@powine.com
SUMMARY:March Artist of the Month – Joseph Brunelli
DESCRIPTION:As our March Artist of the Month\, Jospeh Brunelli presents large landscape and wildlife oil paintings.  Joseph’s style merges impressionism and realism.  He creates a sense of movement yet also a sense of mindful quiet.  We invite you visit the winery and take time to appreciate the artwork of Joseph Brunelli.
URL:https://powine.com/event/march-artist-of-the-month-joseph-brunelli/
LOCATION:Pend d’Oreille Winery\, 301 Cedar Street\, Sandpoint\, ID\, United States
END:VEVENT
BEGIN:VEVENT
DTSTART;TZID=America/Los_Angeles:20240301T170000
DTEND;TZID=America/Los_Angeles:20240301T200000
DTSTAMP:20260425T080748
CREATED:20240301T160611Z
LAST-MODIFIED:20240301T160611Z
UID:10001907-1709312400-1709323200@powine.com
SUMMARY:Live Music with Brian Jacobs
DESCRIPTION:Brian Jacobs returns to his seat at the winery!  Brian is an acoustic soloist who plays all  the songs you want to hear in new ways.  5-8:00pm.  Indie/Pop/Rock
URL:https://powine.com/event/live-music-with-brian-jacobs-12/
LOCATION:Pend d’Oreille Winery\, 301 Cedar Street\, Sandpoint\, ID\, United States
CATEGORIES:Music
END:VEVENT
BEGIN:VEVENT
DTSTART;TZID=America/Los_Angeles:20240302T170000
DTEND;TZID=America/Los_Angeles:20240302T200000
DTSTAMP:20260425T080748
CREATED:20240301T160648Z
LAST-MODIFIED:20240301T160648Z
UID:10001599-1709398800-1709409600@powine.com
SUMMARY:Live Music with Ben Vogel
DESCRIPTION:Ben Vogel is fun and engaging as he plays from the heart.  Join us for a glass of wine and a pizza for a perfect Saturday night at the winery.  5-8:00pm.  Pop/Rock
URL:https://powine.com/event/live-music-with-ben-vogel-6/
LOCATION:Pend d’Oreille Winery\, 301 Cedar Street\, Sandpoint\, ID\, United States
CATEGORIES:Music
END:VEVENT
BEGIN:VEVENT
DTSTART;TZID=America/Los_Angeles:20240306T170000
DTEND;TZID=America/Los_Angeles:20240306T190000
DTSTAMP:20260425T080748
CREATED:20240301T160738Z
LAST-MODIFIED:20240301T160738Z
UID:10001601-1709744400-1709751600@powine.com
SUMMARY:Piano with Dwayne Parsons
DESCRIPTION:Dwayne fills the room with stories through music.  Arrive early for a bite to eat and a glass of wine as you are treated to an extraordinary performance on the grand piano. 5-7:00pm.
URL:https://powine.com/event/piano-with-dwayne-parsons-10/
LOCATION:Pend d’Oreille Winery\, 301 Cedar Street\, Sandpoint\, ID\, United States
CATEGORIES:Music
END:VEVENT
BEGIN:VEVENT
DTSTART;TZID=America/Los_Angeles:20240308T170000
DTEND;TZID=America/Los_Angeles:20240308T200000
DTSTAMP:20260425T080748
CREATED:20240301T160921Z
LAST-MODIFIED:20240301T160921Z
UID:10001603-1709917200-1709928000@powine.com
SUMMARY:Live Music with Mike Wagoner Trio
DESCRIPTION:Mike Wagoner fills the winery!  Arrive early for a seat and a glass of wine. Mike fuses a wide range of musical influences in his style and performance while he energizes the room!  Country/Rock/Americana   5-8:00pm.
URL:https://powine.com/event/live-music-with-mike-wagoner-trio/
LOCATION:Pend d’Oreille Winery\, 301 Cedar Street\, Sandpoint\, ID\, United States
CATEGORIES:Music
END:VEVENT
BEGIN:VEVENT
DTSTART;TZID=America/Los_Angeles:20240309T170000
DTEND;TZID=America/Los_Angeles:20240309T200000
DTSTAMP:20260425T080748
CREATED:20240301T161014Z
LAST-MODIFIED:20240301T161014Z
UID:10001605-1710003600-1710014400@powine.com
SUMMARY:Live Music with Zach Simms
DESCRIPTION:Zach Simms will pull you in with his harmony and vocals. Zach has Nashville roots and soulful sound. 5-8:00 pm   Pop/Spiritual/ Rock
URL:https://powine.com/event/live-music-with-zach-simms-8/
LOCATION:Pend d’Oreille Winery\, 301 Cedar Street\, Sandpoint\, ID\, United States
CATEGORIES:Music
END:VEVENT
BEGIN:VEVENT
DTSTART;TZID=America/Los_Angeles:20240313T170000
DTEND;TZID=America/Los_Angeles:20240313T190000
DTSTAMP:20260425T080748
CREATED:20240301T161227Z
LAST-MODIFIED:20240301T161227Z
UID:10001609-1710349200-1710356400@powine.com
SUMMARY:Piano with Jason Evans
DESCRIPTION:We are pleased to welcome Jason Evans back to the winery.  Jason plays contemporary\, soulful music on the grand piano.  5-7:00pm.
URL:https://powine.com/event/piano-with-jason-evans-5/
LOCATION:Pend d’Oreille Winery\, 301 Cedar Street\, Sandpoint\, ID\, United States
CATEGORIES:Music
END:VEVENT
BEGIN:VEVENT
DTSTART;TZID=America/Los_Angeles:20240315T170000
DTEND;TZID=America/Los_Angeles:20240315T200000
DTSTAMP:20260425T080748
CREATED:20240301T161319Z
LAST-MODIFIED:20240301T161319Z
UID:10001611-1710522000-1710532800@powine.com
SUMMARY:Live Music with Bright Moments
DESCRIPTION:Bright Moments performs energetic\, eclectic jazz.  Bright Moments musicians have been playing jazz together for decades.  5-8:00pm.
URL:https://powine.com/event/live-music-with-bright-moments-11/
LOCATION:Pend d’Oreille Winery\, 301 Cedar Street\, Sandpoint\, ID\, United States
CATEGORIES:Music
END:VEVENT
END:VCALENDAR