BEGIN:VCALENDAR
VERSION:2.0
PRODID:-//Pend Oreille Winery in Sandpoint, Idaho - ECPv6.15.20//NONSGML v1.0//EN
CALSCALE:GREGORIAN
METHOD:PUBLISH
X-WR-CALNAME:Pend Oreille Winery in Sandpoint, Idaho
X-ORIGINAL-URL:https://powine.com
X-WR-CALDESC:Events for Pend Oreille Winery in Sandpoint, Idaho
REFRESH-INTERVAL;VALUE=DURATION:PT1H
X-Robots-Tag:noindex
X-PUBLISHED-TTL:PT1H
BEGIN:VTIMEZONE
TZID:America/Los_Angeles
BEGIN:DAYLIGHT
TZOFFSETFROM:-0800
TZOFFSETTO:-0700
TZNAME:PDT
DTSTART:20230312T100000
END:DAYLIGHT
BEGIN:STANDARD
TZOFFSETFROM:-0700
TZOFFSETTO:-0800
TZNAME:PST
DTSTART:20231105T090000
END:STANDARD
BEGIN:DAYLIGHT
TZOFFSETFROM:-0800
TZOFFSETTO:-0700
TZNAME:PDT
DTSTART:20240310T100000
END:DAYLIGHT
BEGIN:STANDARD
TZOFFSETFROM:-0700
TZOFFSETTO:-0800
TZNAME:PST
DTSTART:20241103T090000
END:STANDARD
BEGIN:DAYLIGHT
TZOFFSETFROM:-0800
TZOFFSETTO:-0700
TZNAME:PDT
DTSTART:20250309T100000
END:DAYLIGHT
BEGIN:STANDARD
TZOFFSETFROM:-0700
TZOFFSETTO:-0800
TZNAME:PST
DTSTART:20251102T090000
END:STANDARD
END:VTIMEZONE
BEGIN:VEVENT
DTSTART;TZID=America/Los_Angeles:20240409T173000
DTEND;TZID=America/Los_Angeles:20240409T193000
DTSTAMP:20260422T110041
CREATED:20240325T162035Z
LAST-MODIFIED:20240325T162035Z
UID:10001921-1712683800-1712691000@powine.com
SUMMARY:Winemaker’s Tasting Course
DESCRIPTION:Join us for this special evening with our winemakers as they take you on a journey of four Pend d’Oreille wines. This intimate course will provide knowledge of the winemaking process\, the stories of our wines\, and wine tasting techniques.  Four wines will be paired with a perfect bite to enhance the experience of the wine. $40/person. Purchase tickets at www.powine.com. 5:30-7:30pm.
URL:https://powine.com/event/winemakers-tasting-course/
LOCATION:Pend d’Oreille Winery\, 301 Cedar Street\, Sandpoint\, ID\, United States
END:VEVENT
BEGIN:VEVENT
DTSTART;TZID=America/Los_Angeles:20240409T170000
DTEND;TZID=America/Los_Angeles:20240409T190000
DTSTAMP:20260422T110041
CREATED:20240301T161134Z
LAST-MODIFIED:20240301T161134Z
UID:10001607-1712682000-1712689200@powine.com
SUMMARY:Winemakers Education and Tasting Class
DESCRIPTION:Join us for this special evening with our winemakers as they take you on a journey of our wines. This intimate course will provide knowledge of the winemaking process\, the stories of our wines\, and new perspectives on tasting wine.  Price includes an evening with our Winemakers as they guide each guest through 4 wines\, 4 small bites paired with the wine\, tasting notes\, and winemaking education.  $40/person. The event will be from 5-7:00pm. TO PURCHASE YOUR TICKET ONLINE\, CLICK ON “FIND OUT MORE”. Or for more information\, call 208-265-8545.  5-7:00pm \nTO PURCHASE YOUR TICKET ONLINE\, CLICK HERE!
URL:https://powine.com/event/winemakers-education-and-tasting/
LOCATION:Pend d’Oreille Winery\, 301 Cedar Street\, Sandpoint\, ID\, United States
END:VEVENT
BEGIN:VEVENT
DTSTART;TZID=America/Los_Angeles:20240406T170000
DTEND;TZID=America/Los_Angeles:20240406T200000
DTSTAMP:20260422T110041
CREATED:20240325T161852Z
LAST-MODIFIED:20240325T161852Z
UID:10001920-1712422800-1712433600@powine.com
SUMMARY:Live Music with Mike and Shanna
DESCRIPTION:Mike and Shanna Thompson return for a fun night of 70’s\, 80’s and 90’s tunes.  Join us for a glass of Albarino and shrimp cakes and enjoy the music! 5-8:00pm.
URL:https://powine.com/event/live-music-with-mike-and-shanna-3/
LOCATION:Pend d’Oreille Winery\, 301 Cedar Street\, Sandpoint\, ID\, United States
CATEGORIES:Music
END:VEVENT
BEGIN:VEVENT
DTSTART;TZID=America/Los_Angeles:20240405T170000
DTEND;TZID=America/Los_Angeles:20240405T200000
DTSTAMP:20260422T110041
CREATED:20240325T161748Z
LAST-MODIFIED:20240325T161748Z
UID:10001919-1712336400-1712347200@powine.com
SUMMARY:Live Music with Mike Wagoner and Utah John
DESCRIPTION:Mike Wagoner and Utah John fill the winery!  Arrive early for a seat and a glass of wine. Mike fuses a wide range of musical influences in his style and performance while he energizes the room!  Country/Rock/Americana   5-8:00pm.
URL:https://powine.com/event/live-music-with-mike-wagoner-and-utah-john-2/
LOCATION:Pend d’Oreille Winery\, 301 Cedar Street\, Sandpoint\, ID\, United States
CATEGORIES:Music
END:VEVENT
BEGIN:VEVENT
DTSTART;TZID=America/Los_Angeles:20240403T170000
DTEND;TZID=America/Los_Angeles:20240403T190000
DTSTAMP:20260422T110041
CREATED:20240325T161651Z
LAST-MODIFIED:20240325T161651Z
UID:10001918-1712163600-1712170800@powine.com
SUMMARY:Piano with Annie Welle
DESCRIPTION:Lively\, professional Jazz Piano.  5-7:00pm
URL:https://powine.com/event/piano-with-annie-welle/
LOCATION:Pend d’Oreille Winery\, 301 Cedar Street\, Sandpoint\, ID\, United States
CATEGORIES:Music
END:VEVENT
BEGIN:VEVENT
DTSTART;TZID=America/Los_Angeles:20240402T170000
DTEND;TZID=America/Los_Angeles:20240402T190000
DTSTAMP:20260422T110041
CREATED:20240325T155917Z
LAST-MODIFIED:20240325T155917Z
UID:10001915-1712077200-1712084400@powine.com
SUMMARY:Piano with Sean Bostrom
DESCRIPTION:Sean Bostrom is an accomplished pianist and music educator who teaches all over Idaho’s Panhandle. He grew up near Chico\, California studying piano at 8 years old. In 2011 he began performing in chamber ensembles with string instruments and studied with professional musicians from all over (including Japan\, Poland\, Ukraine\, China\, and Australia). He quickly fell in love with the art of music and soon after\, pursued a degree in Music Education to inspire and share his passion with others. His Alma Mater is the quaint Minot State University in North Dakota\, and his favorite composers are Mendelssohn\, Chopin\, and Rachmaninoff. Sean resides in Bonners Ferry\, is the owner of Sandpoint Piano\, and is currently fundraising for his participation at the International Music Festival of the Adriatic in Italy. He is always accepting new piano students\, so check him out at: sandpointpiano.com!  Join us for a glass of wine and a pleasant evening of piano from 5-7:00pm.
URL:https://powine.com/event/piano-with-sean-bostrom/
LOCATION:Pend d’Oreille Winery\, 301 Cedar Street\, Sandpoint\, ID\, United States
CATEGORIES:Music
END:VEVENT
BEGIN:VEVENT
DTSTART;TZID=America/Los_Angeles:20240401T080000
DTEND;TZID=America/Los_Angeles:20240430T170000
DTSTAMP:20260422T110041
CREATED:20240325T161549Z
LAST-MODIFIED:20240325T161549Z
UID:10001917-1711958400-1714496400@powine.com
SUMMARY:April Artist of the Month - Matt Lome
DESCRIPTION:Matt Lome is an illustrative\, folk-style artist. His whimsical\, colorful pieces invite joy and wonder.  Matt creates with oils\, pastels\, and watercolors.  His art extends outside of the painting through music\, storytelling\, and teaching.  Join us in welcoming Matt as our April artist of the month. An artist reception for Matt Lome will be April 11th from 5-7:00pm.  Plan an evening to meet the artist.
URL:https://powine.com/event/april-artist-of-the-month-matt-lome/
LOCATION:Pend d’Oreille Winery\, 301 Cedar Street\, Sandpoint\, ID\, United States
END:VEVENT
BEGIN:VEVENT
DTSTART;TZID=America/Los_Angeles:20240401T080000
DTEND;TZID=America/Los_Angeles:20240430T170000
DTSTAMP:20260422T110041
CREATED:20240325T161431Z
LAST-MODIFIED:20240325T161431Z
UID:10001916-1711958400-1714496400@powine.com
SUMMARY:Wine of the Month – 2023 Albarino
DESCRIPTION:Spring is the perfect time to introduce the 2023 Albarino! This wine is gorgeously clear and inviting. Orchid and apricot blossom aromatics followed by passionfruit\, lime\, pineapple\, and summer apricots. Minerality and wet stone bring a balance to the wine. \nThe 2023 Albariño complements the winery shrimp cakes perfectly! Or enjoy with salted almonds\, spring salads\, or seafood dishes. \nAll month long 10% off bottles 1 – 5\, 15% off bottles 6 – 11\, and 20% off cases. \nEnjoy $8.00 glass pours through the month of March. \n 
URL:https://powine.com/event/wine-of-the-month-2023-albarino/
LOCATION:Pend d’Oreille Winery\, 301 Cedar Street\, Sandpoint\, ID\, United States
END:VEVENT
BEGIN:VEVENT
DTSTART;TZID=America/Los_Angeles:20240330T170000
DTEND;TZID=America/Los_Angeles:20240330T200000
DTSTAMP:20260422T110041
CREATED:20240301T162003Z
LAST-MODIFIED:20240301T162003Z
UID:10001912-1711818000-1711828800@powine.com
SUMMARY:Live Music with Tom Catmull
DESCRIPTION:Tom Catmull arrives from Missoula\, Montana to warm the winery with a sound resembling Robert Earle Keen.  Tom Catmull is Americana dressed in rock\, pop and country.  5-8:00pm
URL:https://powine.com/event/live-music-with-tom-catmull-3/
LOCATION:Pend d’Oreille Winery\, 301 Cedar Street\, Sandpoint\, ID\, United States
CATEGORIES:Music
END:VEVENT
BEGIN:VEVENT
DTSTART;TZID=America/Los_Angeles:20240329T170000
DTEND;TZID=America/Los_Angeles:20240329T200000
DTSTAMP:20260422T110041
CREATED:20240301T161919Z
LAST-MODIFIED:20240301T161919Z
UID:10001911-1711731600-1711742400@powine.com
SUMMARY:Live Music with Pamela Benton
DESCRIPTION:An energetic performance with the electric violin.  Pamela is magnetic and magnificent! 5-8:00pm.
URL:https://powine.com/event/live-music-with-pamela-benton-3/
LOCATION:Pend d’Oreille Winery\, 301 Cedar Street\, Sandpoint\, ID\, United States
CATEGORIES:Music
END:VEVENT
BEGIN:VEVENT
DTSTART;TZID=America/Los_Angeles:20240327T170000
DTEND;TZID=America/Los_Angeles:20240327T190000
DTSTAMP:20260422T110041
CREATED:20240301T161833Z
LAST-MODIFIED:20240328T212813Z
UID:10001910-1711558800-1711566000@powine.com
SUMMARY:Piano with Bob Beadling
DESCRIPTION:Bob Beadling knows the grand piano like a longtime friend.  Contemporary and popular music.  5-7:00pm.
URL:https://powine.com/event/piano-with-bob-beadling-5/
LOCATION:Pend d’Oreille Winery\, 301 Cedar Street\, Sandpoint\, ID\, United States
CATEGORIES:Music
ATTACH;FMTTYPE=image/jpeg:https://powine.com/wp-content/uploads/2024/03/Bob-Beadling-2-27-24.jpg
END:VEVENT
BEGIN:VEVENT
DTSTART;TZID=America/Los_Angeles:20240326T170000
DTEND;TZID=America/Los_Angeles:20240326T190000
DTSTAMP:20260422T110041
CREATED:20240301T161747Z
LAST-MODIFIED:20240301T161747Z
UID:10001909-1711472400-1711479600@powine.com
SUMMARY:Piano with Jennifer Stoehner
DESCRIPTION:We welcome Jennifer Stoehner back to the winery as our guest pianist.  Jennifer awakens the grand piano with classical to modern tunes.  5-7:00pm.
URL:https://powine.com/event/piano-with-jennifer-stoehner-3/
LOCATION:ID
CATEGORIES:Music
END:VEVENT
BEGIN:VEVENT
DTSTART;TZID=America/Los_Angeles:20240323T170000
DTEND;TZID=America/Los_Angeles:20240323T200000
DTSTAMP:20260422T110041
CREATED:20240301T161704Z
LAST-MODIFIED:20240301T161704Z
UID:10001908-1711213200-1711224000@powine.com
SUMMARY:Live Music with Kosh
DESCRIPTION:Kosh is a memorable presence.  Kosh\, an acoustic soloist\, performs and captivates the room with his style and vocals.  Rock/Pop   5-8:00pm
URL:https://powine.com/event/live-music-with-kosh-12/
LOCATION:Pend d’Oreille Winery\, 301 Cedar Street\, Sandpoint\, ID\, United States
CATEGORIES:Music
END:VEVENT
BEGIN:VEVENT
DTSTART;TZID=America/Los_Angeles:20240322T170000
DTEND;TZID=America/Los_Angeles:20240322T200000
DTSTAMP:20260422T110041
CREATED:20240312T180415Z
LAST-MODIFIED:20240312T180415Z
UID:10001914-1711126800-1711137600@powine.com
SUMMARY:Live Music will be Oak Street Connection
DESCRIPTION:Chrystle & Sam will perform jazzy\, pop\, groovy songs from 5-8:00pm.
URL:https://powine.com/event/live-music-will-be-oak-street-connection/
LOCATION:Pend d’Oreille Winery\, 301 Cedar Street\, Sandpoint\, ID\, United States
CATEGORIES:Music
END:VEVENT
BEGIN:VEVENT
DTSTART;TZID=America/Los_Angeles:20240320T170000
DTEND;TZID=America/Los_Angeles:20240320T200000
DTSTAMP:20260422T110041
CREATED:20240301T161612Z
LAST-MODIFIED:20240301T161612Z
UID:10001617-1710954000-1710964800@powine.com
SUMMARY:Piano with Peter Lucht
DESCRIPTION:Sarah Edmonds leads Larson Gardens with enchanting\, vibrant vocals.  You do not want to miss this talented performance.  5-8:00pm.
URL:https://powine.com/event/piano-with-peter-lucht-3/
LOCATION:Pend d’Oreille Winery\, 301 Cedar Street\, Sandpoint\, ID\, United States
CATEGORIES:Music
END:VEVENT
BEGIN:VEVENT
DTSTART;TZID=America/Los_Angeles:20240319T173000
DTEND;TZID=America/Los_Angeles:20240319T190000
DTSTAMP:20260422T110041
CREATED:20240301T161512Z
LAST-MODIFIED:20240301T161512Z
UID:10001615-1710869400-1710874800@powine.com
SUMMARY:Paint and Sip with Lisa Maus
DESCRIPTION:Join us for a Paint and Sip with Lisa Maus.  Paint a full moon sky over the lake.  Price is $40/person.  Class includes instruction\, supplies\, and first glass of wine.  Purchase tickets here: \nhttps://www.lisavfineart.com/copy-of-sandpoint-paint-sip.   This is a great space to be creative with friends!  5:30-7:00pm
URL:https://powine.com/event/paint-and-sip-with-lisa-maus-2/
LOCATION:Pend d’Oreille Winery\, 301 Cedar Street\, Sandpoint\, ID\, United States
CATEGORIES:Sip and Paint
END:VEVENT
BEGIN:VEVENT
DTSTART;TZID=America/Los_Angeles:20240316T170000
DTEND;TZID=America/Los_Angeles:20240316T200000
DTSTAMP:20260422T110041
CREATED:20240301T161414Z
LAST-MODIFIED:20240301T161414Z
UID:10001613-1710608400-1710619200@powine.com
SUMMARY:Live Music with Ian Newbill
DESCRIPTION:Ian Newbill has a cool style and grit.  Ian performs favorite rock\, pop\, and surf songs.  5-8:00pm.
URL:https://powine.com/event/live-music-with-ian-newbill-5/
LOCATION:Pend d’Oreille Winery\, 301 Cedar Street\, Sandpoint\, ID\, United States
CATEGORIES:Music
END:VEVENT
BEGIN:VEVENT
DTSTART;TZID=America/Los_Angeles:20240315T170000
DTEND;TZID=America/Los_Angeles:20240315T200000
DTSTAMP:20260422T110041
CREATED:20240301T161319Z
LAST-MODIFIED:20240301T161319Z
UID:10001611-1710522000-1710532800@powine.com
SUMMARY:Live Music with Bright Moments
DESCRIPTION:Bright Moments performs energetic\, eclectic jazz.  Bright Moments musicians have been playing jazz together for decades.  5-8:00pm.
URL:https://powine.com/event/live-music-with-bright-moments-11/
LOCATION:Pend d’Oreille Winery\, 301 Cedar Street\, Sandpoint\, ID\, United States
CATEGORIES:Music
END:VEVENT
BEGIN:VEVENT
DTSTART;TZID=America/Los_Angeles:20240313T170000
DTEND;TZID=America/Los_Angeles:20240313T190000
DTSTAMP:20260422T110041
CREATED:20240301T161227Z
LAST-MODIFIED:20240301T161227Z
UID:10001609-1710349200-1710356400@powine.com
SUMMARY:Piano with Jason Evans
DESCRIPTION:We are pleased to welcome Jason Evans back to the winery.  Jason plays contemporary\, soulful music on the grand piano.  5-7:00pm.
URL:https://powine.com/event/piano-with-jason-evans-5/
LOCATION:Pend d’Oreille Winery\, 301 Cedar Street\, Sandpoint\, ID\, United States
CATEGORIES:Music
END:VEVENT
BEGIN:VEVENT
DTSTART;TZID=America/Los_Angeles:20240309T170000
DTEND;TZID=America/Los_Angeles:20240309T200000
DTSTAMP:20260422T110041
CREATED:20240301T161014Z
LAST-MODIFIED:20240301T161014Z
UID:10001605-1710003600-1710014400@powine.com
SUMMARY:Live Music with Zach Simms
DESCRIPTION:Zach Simms will pull you in with his harmony and vocals. Zach has Nashville roots and soulful sound. 5-8:00 pm   Pop/Spiritual/ Rock
URL:https://powine.com/event/live-music-with-zach-simms-8/
LOCATION:Pend d’Oreille Winery\, 301 Cedar Street\, Sandpoint\, ID\, United States
CATEGORIES:Music
END:VEVENT
BEGIN:VEVENT
DTSTART;TZID=America/Los_Angeles:20240308T170000
DTEND;TZID=America/Los_Angeles:20240308T200000
DTSTAMP:20260422T110041
CREATED:20240301T160921Z
LAST-MODIFIED:20240301T160921Z
UID:10001603-1709917200-1709928000@powine.com
SUMMARY:Live Music with Mike Wagoner Trio
DESCRIPTION:Mike Wagoner fills the winery!  Arrive early for a seat and a glass of wine. Mike fuses a wide range of musical influences in his style and performance while he energizes the room!  Country/Rock/Americana   5-8:00pm.
URL:https://powine.com/event/live-music-with-mike-wagoner-trio/
LOCATION:Pend d’Oreille Winery\, 301 Cedar Street\, Sandpoint\, ID\, United States
CATEGORIES:Music
END:VEVENT
BEGIN:VEVENT
DTSTART;TZID=America/Los_Angeles:20240306T170000
DTEND;TZID=America/Los_Angeles:20240306T190000
DTSTAMP:20260422T110041
CREATED:20240301T160738Z
LAST-MODIFIED:20240301T160738Z
UID:10001601-1709744400-1709751600@powine.com
SUMMARY:Piano with Dwayne Parsons
DESCRIPTION:Dwayne fills the room with stories through music.  Arrive early for a bite to eat and a glass of wine as you are treated to an extraordinary performance on the grand piano. 5-7:00pm.
URL:https://powine.com/event/piano-with-dwayne-parsons-10/
LOCATION:Pend d’Oreille Winery\, 301 Cedar Street\, Sandpoint\, ID\, United States
CATEGORIES:Music
END:VEVENT
BEGIN:VEVENT
DTSTART;TZID=America/Los_Angeles:20240302T170000
DTEND;TZID=America/Los_Angeles:20240302T200000
DTSTAMP:20260422T110041
CREATED:20240301T160648Z
LAST-MODIFIED:20240301T160648Z
UID:10001599-1709398800-1709409600@powine.com
SUMMARY:Live Music with Ben Vogel
DESCRIPTION:Ben Vogel is fun and engaging as he plays from the heart.  Join us for a glass of wine and a pizza for a perfect Saturday night at the winery.  5-8:00pm.  Pop/Rock
URL:https://powine.com/event/live-music-with-ben-vogel-6/
LOCATION:Pend d’Oreille Winery\, 301 Cedar Street\, Sandpoint\, ID\, United States
CATEGORIES:Music
END:VEVENT
BEGIN:VEVENT
DTSTART;TZID=America/Los_Angeles:20240301T170000
DTEND;TZID=America/Los_Angeles:20240301T200000
DTSTAMP:20260422T110041
CREATED:20240301T160611Z
LAST-MODIFIED:20240301T160611Z
UID:10001907-1709312400-1709323200@powine.com
SUMMARY:Live Music with Brian Jacobs
DESCRIPTION:Brian Jacobs returns to his seat at the winery!  Brian is an acoustic soloist who plays all  the songs you want to hear in new ways.  5-8:00pm.  Indie/Pop/Rock
URL:https://powine.com/event/live-music-with-brian-jacobs-12/
LOCATION:Pend d’Oreille Winery\, 301 Cedar Street\, Sandpoint\, ID\, United States
CATEGORIES:Music
END:VEVENT
BEGIN:VEVENT
DTSTART;TZID=America/Los_Angeles:20240301T080000
DTEND;TZID=America/Los_Angeles:20240331T170000
DTSTAMP:20260422T110041
CREATED:20240301T160513Z
LAST-MODIFIED:20240301T160513Z
UID:10001906-1709280000-1711904400@powine.com
SUMMARY:March Artist of the Month – Joseph Brunelli
DESCRIPTION:As our March Artist of the Month\, Jospeh Brunelli presents large landscape and wildlife oil paintings.  Joseph’s style merges impressionism and realism.  He creates a sense of movement yet also a sense of mindful quiet.  We invite you visit the winery and take time to appreciate the artwork of Joseph Brunelli.
URL:https://powine.com/event/march-artist-of-the-month-joseph-brunelli/
LOCATION:Pend d’Oreille Winery\, 301 Cedar Street\, Sandpoint\, ID\, United States
END:VEVENT
BEGIN:VEVENT
DTSTART;TZID=America/Los_Angeles:20240301T080000
DTEND;TZID=America/Los_Angeles:20240331T170000
DTSTAMP:20260422T110041
CREATED:20240301T160421Z
LAST-MODIFIED:20240301T160421Z
UID:10001905-1709280000-1711904400@powine.com
SUMMARY:March Wine of the Month – 2022 Chardonnay
DESCRIPTION:Our 2022 Chardonnay is perfectly balanced with vibrant acidity and medium body structure. The 2022 vintage is bright and very approachable.  Apple blossom and winter melon aromas open the palate to Asian pear\, lemongrass\, vanilla cream\, and an elegant minerality. This Chardonnay pairs nicely with triple cream or nutty cheeses\, lobster rolls\, and pasta primavera. \nAll month long 10% off bottles 1 – 5\, 15% off bottles 6 – 11\, and 20% off cases. \nEnjoy $8.00 glass pours through the month of March.
URL:https://powine.com/event/march-wine-of-the-month-2022-chardonnay/
LOCATION:Pend d’Oreille Winery\, 301 Cedar Street\, Sandpoint\, ID\, United States
END:VEVENT
BEGIN:VEVENT
DTSTART;TZID=America/Los_Angeles:20240229T180000
DTEND;TZID=America/Los_Angeles:20240229T220000
DTSTAMP:20260422T110041
CREATED:20240213T213033Z
LAST-MODIFIED:20240213T213033Z
UID:10001904-1709229600-1709244000@powine.com
SUMMARY:Taste of Indonesia
DESCRIPTION:Join us for a night of global cuisine! This is the first of our international dinner We are offering a three course meal of authentic Indonesian cuisine. Each reservation includes an appetizer\, meal\, and dessert. Wine and Gratuity not included. Dinner service begins at 6:00pm\, February 29th\, 2024. \n  \nTo purchase your ticket online\, click here!
URL:https://powine.com/event/taste-of-indonesia/
LOCATION:Pend d’Oreille Winery\, 301 Cedar Street\, Sandpoint\, ID\, United States
END:VEVENT
BEGIN:VEVENT
DTSTART;TZID=America/Los_Angeles:20240228T170000
DTEND;TZID=America/Los_Angeles:20240228T190000
DTSTAMP:20260422T110041
CREATED:20240125T003237Z
LAST-MODIFIED:20240125T003237Z
UID:10001903-1709139600-1709146800@powine.com
SUMMARY:Piano with Bob Beadling
DESCRIPTION:Bob Beadling plays contemporary music with style and flair on the grand piano.  5-7:00pm
URL:https://powine.com/event/piano-with-bob-beadling-4/
LOCATION:Pend d’Oreille Winery\, 301 Cedar Street\, Sandpoint\, ID\, United States
CATEGORIES:Music
END:VEVENT
BEGIN:VEVENT
DTSTART;TZID=America/Los_Angeles:20240224T170000
DTEND;TZID=America/Los_Angeles:20240224T200000
DTSTAMP:20260422T110041
CREATED:20240125T003151Z
LAST-MODIFIED:20240125T003151Z
UID:10001902-1708794000-1708804800@powine.com
SUMMARY:Live Music with Ponderay Paradox
DESCRIPTION:Ponderay Paradox jams and strums through our favorite folk\, blues and 70s-80s tunes.  5-8:00pm
URL:https://powine.com/event/live-music-with-ponderay-paradox-4/
LOCATION:Pend d’Oreille Winery\, 301 Cedar Street\, Sandpoint\, ID\, United States
CATEGORIES:Music
END:VEVENT
BEGIN:VEVENT
DTSTART;TZID=America/Los_Angeles:20240223T170000
DTEND;TZID=America/Los_Angeles:20240223T200000
DTSTAMP:20260422T110041
CREATED:20240125T003057Z
LAST-MODIFIED:20240125T003057Z
UID:10001901-1708707600-1708718400@powine.com
SUMMARY:The Ronaldos Trio
DESCRIPTION:The Ronaldos bring a positive\, sophisticated sound to the tasting room.  Blues\, Jazz\, Rock originals and favorites.  5-8:00pm.
URL:https://powine.com/event/the-ronaldos-trio/
LOCATION:Pend d’Oreille Winery\, 301 Cedar Street\, Sandpoint\, ID\, United States
CATEGORIES:Music
END:VEVENT
END:VCALENDAR