BEGIN:VCALENDAR
VERSION:2.0
PRODID:-//Pend Oreille Winery in Sandpoint, Idaho - ECPv6.15.20//NONSGML v1.0//EN
CALSCALE:GREGORIAN
METHOD:PUBLISH
X-WR-CALNAME:Pend Oreille Winery in Sandpoint, Idaho
X-ORIGINAL-URL:https://powine.com
X-WR-CALDESC:Events for Pend Oreille Winery in Sandpoint, Idaho
REFRESH-INTERVAL;VALUE=DURATION:PT1H
X-Robots-Tag:noindex
X-PUBLISHED-TTL:PT1H
BEGIN:VTIMEZONE
TZID:America/Los_Angeles
BEGIN:DAYLIGHT
TZOFFSETFROM:-0800
TZOFFSETTO:-0700
TZNAME:PDT
DTSTART:20240310T100000
END:DAYLIGHT
BEGIN:STANDARD
TZOFFSETFROM:-0700
TZOFFSETTO:-0800
TZNAME:PST
DTSTART:20241103T090000
END:STANDARD
BEGIN:DAYLIGHT
TZOFFSETFROM:-0800
TZOFFSETTO:-0700
TZNAME:PDT
DTSTART:20250309T100000
END:DAYLIGHT
BEGIN:STANDARD
TZOFFSETFROM:-0700
TZOFFSETTO:-0800
TZNAME:PST
DTSTART:20251102T090000
END:STANDARD
BEGIN:DAYLIGHT
TZOFFSETFROM:-0800
TZOFFSETTO:-0700
TZNAME:PDT
DTSTART:20260308T100000
END:DAYLIGHT
BEGIN:STANDARD
TZOFFSETFROM:-0700
TZOFFSETTO:-0800
TZNAME:PST
DTSTART:20261101T090000
END:STANDARD
BEGIN:DAYLIGHT
TZOFFSETFROM:-0800
TZOFFSETTO:-0700
TZNAME:PDT
DTSTART:20270314T100000
END:DAYLIGHT
BEGIN:STANDARD
TZOFFSETFROM:-0700
TZOFFSETTO:-0800
TZNAME:PST
DTSTART:20271107T090000
END:STANDARD
END:VTIMEZONE
BEGIN:VTIMEZONE
TZID:America/Los_Angeles
BEGIN:DAYLIGHT
TZOFFSETFROM:-0800
TZOFFSETTO:-0700
TZNAME:PDT
DTSTART:20240310T100000
END:DAYLIGHT
BEGIN:STANDARD
TZOFFSETFROM:-0700
TZOFFSETTO:-0800
TZNAME:PST
DTSTART:20241103T090000
END:STANDARD
BEGIN:DAYLIGHT
TZOFFSETFROM:-0800
TZOFFSETTO:-0700
TZNAME:PDT
DTSTART:20250309T100000
END:DAYLIGHT
BEGIN:STANDARD
TZOFFSETFROM:-0700
TZOFFSETTO:-0800
TZNAME:PST
DTSTART:20251102T090000
END:STANDARD
BEGIN:DAYLIGHT
TZOFFSETFROM:-0800
TZOFFSETTO:-0700
TZNAME:PDT
DTSTART:20260308T100000
END:DAYLIGHT
BEGIN:STANDARD
TZOFFSETFROM:-0700
TZOFFSETTO:-0800
TZNAME:PST
DTSTART:20261101T090000
END:STANDARD
BEGIN:DAYLIGHT
TZOFFSETFROM:-0800
TZOFFSETTO:-0700
TZNAME:PDT
DTSTART:20270314T100000
END:DAYLIGHT
BEGIN:STANDARD
TZOFFSETFROM:-0700
TZOFFSETTO:-0800
TZNAME:PST
DTSTART:20271107T090000
END:STANDARD
END:VTIMEZONE
BEGIN:VEVENT
DTSTART;TZID=America/Los_Angeles:20260131T170000
DTEND;TZID=America/Los_Angeles:20260131T200000
DTSTAMP:20260421T075634
CREATED:20251226T213758Z
LAST-MODIFIED:20260129T225708Z
UID:10002337-1769878800-1769889600@powine.com
SUMMARY:Live Music with Scotty Dodson
DESCRIPTION:Scotty delivers a relaxed\, engaging live show built around classic songs from the 60s\, 70s\, and beyond\, alongside original material rooted in Americana\, folk\, and acoustic rock. 5-8:00pm.
URL:https://powine.com/event/live-music-with-rhys-gerwin-2/
LOCATION:Pend d’Oreille Winery\, 301 Cedar Street\, Sandpoint\, ID\, United States
CATEGORIES:Music
END:VEVENT
BEGIN:VEVENT
DTSTART;TZID=America/Los_Angeles:20260130T170000
DTEND;TZID=America/Los_Angeles:20260130T200000
DTSTAMP:20260421T075634
CREATED:20251226T213633Z
LAST-MODIFIED:20251226T213633Z
UID:10002336-1769792400-1769803200@powine.com
SUMMARY:Live Music with Bright Moments
DESCRIPTION:Bright Moments has been playing eclectic jazz together for decades\, yet each performance feels new. 5-8:00pm.
URL:https://powine.com/event/live-music-with-bright-moments-17/
LOCATION:Pend d’Oreille Winery\, 301 Cedar Street\, Sandpoint\, ID\, United States
CATEGORIES:Music
END:VEVENT
BEGIN:VEVENT
DTSTART;TZID=America/Los_Angeles:20260128T170000
DTEND;TZID=America/Los_Angeles:20260128T190000
DTSTAMP:20260421T075634
CREATED:20260121T204333Z
LAST-MODIFIED:20260121T205018Z
UID:10002340-1769619600-1769626800@powine.com
SUMMARY:Live Music with Jennifer Stoehner
DESCRIPTION:Traditional\, Inspirational\, Contemporary Piano with Vocals. 5-7:00pm
URL:https://powine.com/event/live-music-with-jennifer-stoehner/
LOCATION:Pend d’Oreille Winery\, 301 Cedar Street\, Sandpoint\, ID\, United States
END:VEVENT
BEGIN:VEVENT
DTSTART;TZID=America/Los_Angeles:20260127T170000
DTEND;TZID=America/Los_Angeles:20260127T190000
DTSTAMP:20260421T075634
CREATED:20251226T213529Z
LAST-MODIFIED:20251226T213529Z
UID:10002335-1769533200-1769540400@powine.com
SUMMARY:Piano with Jack Purdie
DESCRIPTION:Jack Purdie creates a pleasant evening of ambient jazz and improvisational piano. 5-7:00pm.
URL:https://powine.com/event/piano-with-jack-purdie-12/
LOCATION:Pend d’Oreille Winery\, 301 Cedar Street\, Sandpoint\, ID\, United States
CATEGORIES:Music
END:VEVENT
BEGIN:VEVENT
DTSTART;TZID=America/Los_Angeles:20260124T170000
DTEND;TZID=America/Los_Angeles:20260124T200000
DTSTAMP:20260421T075634
CREATED:20251226T213418Z
LAST-MODIFIED:20251226T213418Z
UID:10002334-1769274000-1769284800@powine.com
SUMMARY:Live Music with Zach Simms
DESCRIPTION:Singer-songwriter\, Zach Simms\, warms the winery with charming vocals and an acoustic set of easy rock and indie songs. 5-8:00pm
URL:https://powine.com/event/live-music-with-zach-simms-14/
LOCATION:Pend d’Oreille Winery\, 301 Cedar Street\, Sandpoint\, ID\, United States
CATEGORIES:Music
END:VEVENT
BEGIN:VEVENT
DTSTART;TZID=America/Los_Angeles:20260123T170000
DTEND;TZID=America/Los_Angeles:20260123T200000
DTSTAMP:20260421T075634
CREATED:20251226T213320Z
LAST-MODIFIED:20251226T213320Z
UID:10002333-1769187600-1769198400@powine.com
SUMMARY:Live Music with Wiebe Jammin'
DESCRIPTION:Wiebe Jammin’ performs a fresh setlist of favorite pop tunes each time.  Loop pedal\, pop. 5-8:00pm.
URL:https://powine.com/event/live-music-with-wiebe-jammin-3/
LOCATION:Pend d’Oreille Winery\, 301 Cedar Street\, Sandpoint\, ID\, United States
CATEGORIES:Music
END:VEVENT
BEGIN:VEVENT
DTSTART;TZID=America/Los_Angeles:20260121T170000
DTEND;TZID=America/Los_Angeles:20260121T190000
DTSTAMP:20260421T075634
CREATED:20251226T213149Z
LAST-MODIFIED:20251226T213149Z
UID:10002332-1769014800-1769022000@powine.com
SUMMARY:Piano with Peter Lucht
DESCRIPTION:Jazz and contemporary piano. 5-7:00pm. \n 
URL:https://powine.com/event/piano-with-peter-lucht-23/
LOCATION:Pend d’Oreille Winery\, 301 Cedar Street\, Sandpoint\, ID\, United States
CATEGORIES:Music
END:VEVENT
BEGIN:VEVENT
DTSTART;TZID=America/Los_Angeles:20260117T170000
DTEND;TZID=America/Los_Angeles:20260117T200000
DTSTAMP:20260421T075634
CREATED:20251226T212812Z
LAST-MODIFIED:20251226T212812Z
UID:10002331-1768669200-1768680000@powine.com
SUMMARY:Live Music with Pamela Benton
DESCRIPTION:Pamela Benton rocks the house with stunning vocals and an electric violin!  Arrive early for a seat and a glass of wine. 5-8:00pm.
URL:https://powine.com/event/live-music-with-pamela-benton-11/
LOCATION:Pend d’Oreille Winery\, 301 Cedar Street\, Sandpoint\, ID\, United States
CATEGORIES:Music
END:VEVENT
BEGIN:VEVENT
DTSTART;TZID=America/Los_Angeles:20260116T170000
DTEND;TZID=America/Los_Angeles:20260116T200000
DTSTAMP:20260421T075634
CREATED:20251226T212716Z
LAST-MODIFIED:20251226T212716Z
UID:10002330-1768582800-1768593600@powine.com
SUMMARY:Live Music with the Carson Rhodes Band
DESCRIPTION:The Carson Rhodes Band is piano-centered with a jazzy\, groovy\, rockin\, sweet tunes sound. 5-8:00pm
URL:https://powine.com/event/live-music-with-the-carson-rhodes-band-2/
LOCATION:Pend d’Oreille Winery\, 301 Cedar Street\, Sandpoint\, ID\, United States
CATEGORIES:Music
END:VEVENT
BEGIN:VEVENT
DTSTART;TZID=America/Los_Angeles:20260114T170000
DTEND;TZID=America/Los_Angeles:20260114T190000
DTSTAMP:20260421T075634
CREATED:20251226T212536Z
LAST-MODIFIED:20251226T212536Z
UID:10002329-1768410000-1768417200@powine.com
SUMMARY:Piano with Bob Beadling
DESCRIPTION:Bob Beadling plays from his soul as he creates an enchanting evening of music in the tasting room.  Contemporary tunes on the grand piano. 5-7:00pm.
URL:https://powine.com/event/piano-with-bob-beadling-23/
LOCATION:Pend d’Oreille Winery\, 301 Cedar Street\, Sandpoint\, ID\, United States
CATEGORIES:Music
END:VEVENT
BEGIN:VEVENT
DTSTART;TZID=America/Los_Angeles:20260113T170000
DTEND;TZID=America/Los_Angeles:20260113T190000
DTSTAMP:20260421T075634
CREATED:20251226T212228Z
LAST-MODIFIED:20251226T212228Z
UID:10002328-1768323600-1768330800@powine.com
SUMMARY:Piano with Jennifer Stoehner
DESCRIPTION:Jennifer plays traditional\, inspirational\, and contemporary songs on the grand piano. Vocal accompaniment.  5-7:00pm.
URL:https://powine.com/event/piano-with-jennifer-stoehner-20/
LOCATION:Pend d’Oreille Winery\, 301 Cedar Street\, Sandpoint\, ID\, United States
CATEGORIES:Music
END:VEVENT
BEGIN:VEVENT
DTSTART;TZID=America/Los_Angeles:20260110T170000
DTEND;TZID=America/Los_Angeles:20260110T200000
DTSTAMP:20260421T075634
CREATED:20251226T205407Z
LAST-MODIFIED:20251226T205407Z
UID:10002327-1768064400-1768075200@powine.com
SUMMARY:Live Music with The Cole Show
DESCRIPTION:The Cole Show is one man with a full band sound!  Loop pedal\, pop\, easy rock. 5-8:00pm.
URL:https://powine.com/event/live-music-with-the-cole-show-8/
LOCATION:Pend d’Oreille Winery\, 301 Cedar Street\, Sandpoint\, ID\, United States
CATEGORIES:Music
END:VEVENT
BEGIN:VEVENT
DTSTART;TZID=America/Los_Angeles:20260109T170000
DTEND;TZID=America/Los_Angeles:20260109T200000
DTSTAMP:20260421T075634
CREATED:20251226T205303Z
LAST-MODIFIED:20251230T234825Z
UID:10002326-1767978000-1767988800@powine.com
SUMMARY:Live Music with Mike Wagoner & Jaco
DESCRIPTION:Mike Wagoner with Jack Purdie. This duo plays Classic Rock\, Pop\, and Folk\, engaging and invigorating every time.  Join us for a handcrafted pizza and glass of wine. 5-8:00pm.
URL:https://powine.com/event/live-music-with-mike-and-sadie-4/
LOCATION:Pend d’Oreille Winery\, 301 Cedar Street\, Sandpoint\, ID\, United States
CATEGORIES:Music
END:VEVENT
BEGIN:VEVENT
DTSTART;TZID=America/Los_Angeles:20260107T160000
DTEND;TZID=America/Los_Angeles:20260107T190000
DTSTAMP:20260421T075634
CREATED:20251226T205201Z
LAST-MODIFIED:20251226T205201Z
UID:10002325-1767801600-1767812400@powine.com
SUMMARY:Piano with Dwayne Parsons
DESCRIPTION:Dwayne Parsons fills the winery with original songs on the grand piano. Every performance is a musical story. 4-7:00pm.
URL:https://powine.com/event/piano-with-dwayne-parsons-31/
LOCATION:Pend d’Oreille Winery\, 301 Cedar Street\, Sandpoint\, ID\, United States
CATEGORIES:Music
END:VEVENT
BEGIN:VEVENT
DTSTART;TZID=America/Los_Angeles:20260103T170000
DTEND;TZID=America/Los_Angeles:20260103T200000
DTSTAMP:20260421T075634
CREATED:20251226T205000Z
LAST-MODIFIED:20251226T205000Z
UID:10002323-1767459600-1767470400@powine.com
SUMMARY:Live Music with Ian Newbill
DESCRIPTION:Ian’s performance brings a casual warmth to the winery. Rock\, country. 5-8:00pm.
URL:https://powine.com/event/live-music-with-ian-newbill-16/
LOCATION:Pend d’Oreille Winery\, 301 Cedar Street\, Sandpoint\, ID\, United States
CATEGORIES:Music
END:VEVENT
BEGIN:VEVENT
DTSTART;TZID=America/Los_Angeles:20260102T170000
DTEND;TZID=America/Los_Angeles:20260102T200000
DTSTAMP:20260421T075634
CREATED:20251226T205039Z
LAST-MODIFIED:20251226T205039Z
UID:10002324-1767373200-1767384000@powine.com
SUMMARY:Live Music with Ron Keiper Trio
DESCRIPTION:Modern and professional jazz performance.
URL:https://powine.com/event/live-music-with-ron-keiper-trio-5/
LOCATION:Pend d’Oreille Winery\, 301 Cedar Street\, Sandpoint\, ID\, United States
CATEGORIES:Music
END:VEVENT
BEGIN:VEVENT
DTSTART;TZID=America/Los_Angeles:20251231T170000
DTEND;TZID=America/Los_Angeles:20251231T200000
DTSTAMP:20260421T075634
CREATED:20251126T222547Z
LAST-MODIFIED:20251126T222547Z
UID:10002319-1767200400-1767211200@powine.com
SUMMARY:Live Music with Bakerwood Brothers
DESCRIPTION:Ben Baker and Sheldon Packwood present a night of lively rock and country as we approach the New Year! This duo is a great way to kick off your night! 5-8:00pm.
URL:https://powine.com/event/live-music-with-bakerwood-brothers/
LOCATION:Pend d’Oreille Winery\, 301 Cedar Street\, Sandpoint\, ID\, United States
CATEGORIES:Music
END:VEVENT
BEGIN:VEVENT
DTSTART;TZID=America/Los_Angeles:20251227T170000
DTEND;TZID=America/Los_Angeles:20251227T200000
DTSTAMP:20260421T075634
CREATED:20251126T222434Z
LAST-MODIFIED:20251126T222434Z
UID:10002318-1766854800-1766865600@powine.com
SUMMARY:Live Music with Brian Jacobs
DESCRIPTION:Brian Jacobs draws a crowd at the winery as he plays current favorites with his own swoon-worthy style. Pop\, Indie\, Rock. 5-8:00pm.
URL:https://powine.com/event/live-music-with-brian-jacobs-22/
LOCATION:Pend d’Oreille Winery\, 301 Cedar Street\, Sandpoint\, ID\, United States
CATEGORIES:Music
END:VEVENT
BEGIN:VEVENT
DTSTART;TZID=America/Los_Angeles:20251226T170000
DTEND;TZID=America/Los_Angeles:20251226T200000
DTSTAMP:20260421T075634
CREATED:20251223T211947Z
LAST-MODIFIED:20251223T211947Z
UID:10002322-1766768400-1766779200@powine.com
SUMMARY:Live Music with Andru Gomez
DESCRIPTION:Singer-songwriter\, Andru Gomez\, delivers style and swagger with an Americana\, folk performance. 5-8:00pm.
URL:https://powine.com/event/live-music-with-andru-gomez-5/
LOCATION:Pend d’Oreille Winery\, 301 Cedar Street\, Sandpoint\, ID\, United States
CATEGORIES:Music
END:VEVENT
BEGIN:VEVENT
DTSTART;VALUE=DATE:20251225
DTEND;VALUE=DATE:20251226
DTSTAMP:20260421T075634
CREATED:20251126T222658Z
LAST-MODIFIED:20251126T222658Z
UID:10002320-1766620800-1766707199@powine.com
SUMMARY:Merry Christmas!
DESCRIPTION:WINERY CLOSED
URL:https://powine.com/event/merry-christmas/
LOCATION:ID
END:VEVENT
BEGIN:VEVENT
DTSTART;TZID=America/Los_Angeles:20251224T120000
DTEND;TZID=America/Los_Angeles:20251224T150000
DTSTAMP:20260421T075634
CREATED:20251126T222805Z
LAST-MODIFIED:20251126T222805Z
UID:10002321-1766577600-1766588400@powine.com
SUMMARY:Christmas Eve- Closing at 3:00pm.
DESCRIPTION:We are open until 3:00pm for last minute gifts\, wine for the table\, stocking stuffers\, and lunch!
URL:https://powine.com/event/christmas-eve-closing-at-300pm/
LOCATION:ID
END:VEVENT
BEGIN:VEVENT
DTSTART;TZID=America/Los_Angeles:20251223T170000
DTEND;TZID=America/Los_Angeles:20251223T190000
DTSTAMP:20260421T075634
CREATED:20251126T222307Z
LAST-MODIFIED:20251126T222307Z
UID:10002316-1766509200-1766516400@powine.com
SUMMARY:Holiday Music with Zach Simms
DESCRIPTION:We are delighted to welcome Zach Simms as he prepares us for the holiday with a special evening of music and warmth. 5-7:00pm.
URL:https://powine.com/event/holiday-music-with-zach-simms/
LOCATION:Pend d’Oreille Winery\, 301 Cedar Street\, Sandpoint\, ID\, United States
CATEGORIES:Music
END:VEVENT
BEGIN:VEVENT
DTSTART;TZID=America/Los_Angeles:20251221T130000
DTEND;TZID=America/Los_Angeles:20251221T150000
DTSTAMP:20260421T075634
CREATED:20251126T222141Z
LAST-MODIFIED:20251126T222141Z
UID:10002315-1766322000-1766329200@powine.com
SUMMARY:Special Music Holiday Party with Bob Beadling
DESCRIPTION:The Pend d’ Oreille Winery invites our community to join us for a Sunday afternoon of holiday cheer! Bob Beadling on piano with guest vocals. Santa will visit with treats for all the kids! Welcome the warmth of the season with a glass of mulled wine and pizza. Hot cocoa\, cider\, and cookies for the kids! 1-3:00pm.
URL:https://powine.com/event/special-music-holiday-party-with-bob-beadling/
LOCATION:Pend d’Oreille Winery\, 301 Cedar Street\, Sandpoint\, ID\, United States
CATEGORIES:Music
END:VEVENT
BEGIN:VEVENT
DTSTART;TZID=America/Los_Angeles:20251220T170000
DTEND;TZID=America/Los_Angeles:20251220T200000
DTSTAMP:20260421T075634
CREATED:20251126T214626Z
LAST-MODIFIED:20251126T214626Z
UID:10002314-1766250000-1766260800@powine.com
SUMMARY:Live Music with Tucker James
DESCRIPTION:TJ is quickly becoming a winery favorite. Loop pedal and a broad setlist\, Tucker presents a perfect Saturday night. 5-8:00pm.
URL:https://powine.com/event/live-music-with-tucker-james-4/
LOCATION:Pend d’Oreille Winery\, 301 Cedar Street\, Sandpoint\, ID\, United States
CATEGORIES:Music
END:VEVENT
BEGIN:VEVENT
DTSTART;TZID=America/Los_Angeles:20251219T170000
DTEND;TZID=America/Los_Angeles:20251219T200000
DTSTAMP:20260421T075634
CREATED:20251126T214430Z
LAST-MODIFIED:20251126T214430Z
UID:10002313-1766163600-1766174400@powine.com
SUMMARY:Live Music with Mike and Sadie
DESCRIPTION:Father-Daughter Duo\, Mike and Sadie fill the winery with style\, charm\, and soaring vocals. Classic rock\, pop\, folk. 5-8:00pm. Arrive early to get a seat and your favorite glass of wine.
URL:https://powine.com/event/live-music-with-mike-and-sadie-3/
LOCATION:Pend d’Oreille Winery\, 301 Cedar Street\, Sandpoint\, ID\, United States
CATEGORIES:Music
END:VEVENT
BEGIN:VEVENT
DTSTART;TZID=America/Los_Angeles:20251213T170000
DTEND;TZID=America/Los_Angeles:20251213T200000
DTSTAMP:20260421T075634
CREATED:20251126T213916Z
LAST-MODIFIED:20251126T213916Z
UID:10002309-1765645200-1765656000@powine.com
SUMMARY:Live Music with Ian Newbill
DESCRIPTION:Ian Newbill brings a casual rockstar vibe and a great performance every time. Rock\, blues\, country. 5-8:00pm.
URL:https://powine.com/event/live-music-with-ian-newbill-15/
LOCATION:Pend d’Oreille Winery\, 301 Cedar Street\, Sandpoint\, ID\, United States
CATEGORIES:Music
END:VEVENT
BEGIN:VEVENT
DTSTART;TZID=America/Los_Angeles:20251212T170000
DTEND;TZID=America/Los_Angeles:20251212T210000
DTSTAMP:20260421T075634
CREATED:20251126T214231Z
LAST-MODIFIED:20251126T221729Z
UID:10002311-1765558800-1765573200@powine.com
SUMMARY:Sandpoint Ladies Night!
DESCRIPTION:This is our favorite night of the year! Gather your friends and shop Sandpoint! Join us at the Pend d’ Oreille Winery for unique gifts\, a glass of wine\, a handcrafted pizza and live music! To make the evening more festive\, try our Ladies’ Night Spritz. Stay for the grand prize drawing of a $500 shopping spree in Sandpoint! The winner will be announced at 8:00pm. Put on your shopping shoes! \n 
URL:https://powine.com/event/sandpoint-ladies-night/
LOCATION:ID
CATEGORIES:PDO Event
END:VEVENT
BEGIN:VEVENT
DTSTART;TZID=America/Los_Angeles:20251212T170000
DTEND;TZID=America/Los_Angeles:20251212T200000
DTSTAMP:20260421T075634
CREATED:20251126T213749Z
LAST-MODIFIED:20251126T213749Z
UID:10002308-1765558800-1765569600@powine.com
SUMMARY:Live Music with Wiebe Jammin'
DESCRIPTION:Wiebe Jammin’ brings a full-band sound with loop pedal and vocals. Lively pop and rock. 5-8:00pm.
URL:https://powine.com/event/live-music-with-wiebe-jammin-2/
LOCATION:Pend d’Oreille Winery\, 301 Cedar Street\, Sandpoint\, ID\, United States
CATEGORIES:Music
END:VEVENT
BEGIN:VEVENT
DTSTART;TZID=America/Los_Angeles:20251211T170000
DTEND;TZID=America/Los_Angeles:20251211T190000
DTSTAMP:20260421T075634
CREATED:20251126T214037Z
LAST-MODIFIED:20251126T214037Z
UID:10002310-1765472400-1765479600@powine.com
SUMMARY:Artist Reception for Jenny and Christian Benoit
DESCRIPTION:We invite you to pause for a glass of wine and take a few moments to meet our December Artists of the month\, Jenny and Christian Benoit. Please appreciate these different\, but complimentary\, styles. Take home a new piece of artwork. 5-7:00pm. \n 
URL:https://powine.com/event/artist-reception-for-jenny-and-christian-benoit/
LOCATION:Pend d’Oreille Winery\, 301 Cedar Street\, Sandpoint\, ID\, United States
CATEGORIES:Artist Reception
END:VEVENT
BEGIN:VEVENT
DTSTART;TZID=America/Los_Angeles:20251210T170000
DTEND;TZID=America/Los_Angeles:20251210T190000
DTSTAMP:20260421T075634
CREATED:20251126T212929Z
LAST-MODIFIED:20251126T212929Z
UID:10002307-1765386000-1765393200@powine.com
SUMMARY:Piano with Peter Lucht
DESCRIPTION:Join us for an evening of contemporary and jazz piano. 5-7:00pm \n 
URL:https://powine.com/event/piano-with-peter-lucht-22/
LOCATION:Pend d’Oreille Winery\, 301 Cedar Street\, Sandpoint\, ID\, United States
CATEGORIES:Music
END:VEVENT
END:VCALENDAR