BEGIN:VCALENDAR
VERSION:2.0
PRODID:-//Pend Oreille Winery in Sandpoint, Idaho - ECPv6.15.20//NONSGML v1.0//EN
CALSCALE:GREGORIAN
METHOD:PUBLISH
X-ORIGINAL-URL:https://powine.com
X-WR-CALDESC:Events for Pend Oreille Winery in Sandpoint, Idaho
REFRESH-INTERVAL;VALUE=DURATION:PT1H
X-Robots-Tag:noindex
X-PUBLISHED-TTL:PT1H
BEGIN:VTIMEZONE
TZID:America/Los_Angeles
BEGIN:DAYLIGHT
TZOFFSETFROM:-0800
TZOFFSETTO:-0700
TZNAME:PDT
DTSTART:20220313T100000
END:DAYLIGHT
BEGIN:STANDARD
TZOFFSETFROM:-0700
TZOFFSETTO:-0800
TZNAME:PST
DTSTART:20221106T090000
END:STANDARD
BEGIN:DAYLIGHT
TZOFFSETFROM:-0800
TZOFFSETTO:-0700
TZNAME:PDT
DTSTART:20230312T100000
END:DAYLIGHT
BEGIN:STANDARD
TZOFFSETFROM:-0700
TZOFFSETTO:-0800
TZNAME:PST
DTSTART:20231105T090000
END:STANDARD
BEGIN:DAYLIGHT
TZOFFSETFROM:-0800
TZOFFSETTO:-0700
TZNAME:PDT
DTSTART:20240310T100000
END:DAYLIGHT
BEGIN:STANDARD
TZOFFSETFROM:-0700
TZOFFSETTO:-0800
TZNAME:PST
DTSTART:20241103T090000
END:STANDARD
END:VTIMEZONE
BEGIN:VEVENT
DTSTART;TZID=America/Los_Angeles:20230901T170000
DTEND;TZID=America/Los_Angeles:20230901T200000
DTSTAMP:20260422T134606
CREATED:20230829T212945Z
LAST-MODIFIED:20230829T212945Z
UID:10001830-1693587600-1693598400@powine.com
SUMMARY:Live Music with the Mike Wagoner Trio
DESCRIPTION:Vocalist and guitarist Mike Wagoner fills the room every time.  Folk\, classic rock\, country performed in original style.  5-8:00pm.
URL:https://powine.com/event/live-music-with-the-mike-wagoner-trio-3/
LOCATION:Pend d’Oreille Winery\, 301 Cedar Street\, Sandpoint\, ID\, United States
CATEGORIES:Music
END:VEVENT
BEGIN:VEVENT
DTSTART;TZID=America/Los_Angeles:20230902T170000
DTEND;TZID=America/Los_Angeles:20230902T200000
DTSTAMP:20260422T134606
CREATED:20230829T213041Z
LAST-MODIFIED:20230829T213041Z
UID:10001831-1693674000-1693684800@powine.com
SUMMARY:Live Music with Larsen Gardens
DESCRIPTION:Singer-songwriter Sarah Edmonds has an unforgettable voice\, lyrical talent\, and charm.  Americana\, Indie\, original. 5-8:00pm.
URL:https://powine.com/event/live-music-with-larsen-gardens/
LOCATION:Pend d’Oreille Winery\, 301 Cedar Street\, Sandpoint\, ID\, United States
CATEGORIES:Music
END:VEVENT
BEGIN:VEVENT
DTSTART;TZID=America/Los_Angeles:20230906T170000
DTEND;TZID=America/Los_Angeles:20230906T190000
DTSTAMP:20260422T134606
CREATED:20230829T213200Z
LAST-MODIFIED:20230829T213200Z
UID:10001832-1694019600-1694026800@powine.com
SUMMARY:Live Piano with Dwayne Parsons
DESCRIPTION:Dwayne Parsons returns to continue his story on the Grand Piano.  Dwayne will charm you with his original tunes.  5-7:00pm.
URL:https://powine.com/event/live-piano-with-dwayne-parsons-11/
LOCATION:Pend d’Oreille Winery\, 301 Cedar Street\, Sandpoint\, ID\, United States
CATEGORIES:Music
END:VEVENT
BEGIN:VEVENT
DTSTART;TZID=America/Los_Angeles:20230907T170000
DTEND;TZID=America/Los_Angeles:20230907T190000
DTSTAMP:20260422T134606
CREATED:20230829T213512Z
LAST-MODIFIED:20230829T213512Z
UID:10001834-1694106000-1694113200@powine.com
SUMMARY:Artist Reception for Teascarlet
DESCRIPTION:Join us in welcoming Teascarlet to the Pend d’Oreille winery.  Meet the artist\, take a moment to appreciate the artwork and enjoy a glass of Petite Sirah. 5-7:00pm
URL:https://powine.com/event/artist-reception-for-teascarlet/
LOCATION:Pend d’Oreille Winery\, 301 Cedar Street\, Sandpoint\, ID\, United States
CATEGORIES:Artist Reception
END:VEVENT
BEGIN:VEVENT
DTSTART;TZID=America/Los_Angeles:20230907T170000
DTEND;TZID=America/Los_Angeles:20230907T200000
DTSTAMP:20260422T134606
CREATED:20230829T213425Z
LAST-MODIFIED:20230829T213425Z
UID:10001833-1694106000-1694116800@powine.com
SUMMARY:Special Music with Rachel Cole
DESCRIPTION:We are thrilled to welcome Nashville native singer-songwriter\, Rachel Cole\, for a special night of music at the Pend d ’Oreille Winery!  Acoustic guitar and banjo\, vocals\, bluesy\, groovy\, enchanting. 5-8:00pm.
URL:https://powine.com/event/special-music-with-rachel-cole/
LOCATION:Pend d’Oreille Winery\, 301 Cedar Street\, Sandpoint\, ID\, United States
CATEGORIES:Music
END:VEVENT
BEGIN:VEVENT
DTSTART;TZID=America/Los_Angeles:20230908T170000
DTEND;TZID=America/Los_Angeles:20230908T200000
DTSTAMP:20260422T134606
CREATED:20230829T213605Z
LAST-MODIFIED:20230829T213605Z
UID:10001835-1694192400-1694203200@powine.com
SUMMARY:Live Music with Oak Street Connection
DESCRIPTION:Sam and Crystal return to the winery with their diverse musical style.  Lounge\, rhythm\, rock\, and sway.  5-8:00pm.
URL:https://powine.com/event/live-music-with-oak-street-connection-3/
LOCATION:Pend d’Oreille Winery\, 301 Cedar Street\, Sandpoint\, ID\, United States
CATEGORIES:Music
END:VEVENT
BEGIN:VEVENT
DTSTART;TZID=America/Los_Angeles:20230909T170000
DTEND;TZID=America/Los_Angeles:20230909T200000
DTSTAMP:20260422T134606
CREATED:20230829T213654Z
LAST-MODIFIED:20230829T213654Z
UID:10001836-1694278800-1694289600@powine.com
SUMMARY:Live Music with Weibe Jammin’
DESCRIPTION:Nick Weibe of Weibe Jammin returns to his growing crowd of fans at the winery!  Rock\, looping sound\, pop\, friendly jams.  5-8:00pm.
URL:https://powine.com/event/live-music-with-weibe-jammin-5/
LOCATION:ID
CATEGORIES:Music
END:VEVENT
BEGIN:VEVENT
DTSTART;TZID=America/Los_Angeles:20230912T160000
DTEND;TZID=America/Los_Angeles:20230912T200000
DTSTAMP:20260422T134606
CREATED:20230829T213805Z
LAST-MODIFIED:20230829T213805Z
UID:10001837-1694534400-1694548800@powine.com
SUMMARY:Sip and Shop for Sandpoint Strikers Soccer Team
DESCRIPTION:Please join us in supporting the U11 Striker Girls! Stop in for a glass of wine\, pizza and chance to win a wine barrel! Silent auction and raffle. \nA percentage of proceed will be donated to the girls soccer team.  4-8:00pm.
URL:https://powine.com/event/sip-and-shop-for-sandpoint-strikers-soccer-team/
LOCATION:Pend d’Oreille Winery\, 301 Cedar Street\, Sandpoint\, ID\, United States
CATEGORIES:Sip and Shop
END:VEVENT
BEGIN:VEVENT
DTSTART;TZID=America/Los_Angeles:20230913T170000
DTEND;TZID=America/Los_Angeles:20230913T190000
DTSTAMP:20260422T134606
CREATED:20230829T215234Z
LAST-MODIFIED:20230829T215234Z
UID:10001838-1694624400-1694631600@powine.com
SUMMARY:Live Piano with Bob Beadling
DESCRIPTION:Bob Beadling pours style\, talent\, and extensive experience into his Grand Piano performance at the Pend d ‘Oreille Winery.  Enjoy a glass of Petite Sirah and an evening of contemporary piano from 5-7:00pm.
URL:https://powine.com/event/live-piano-with-bob-beadling-10/
LOCATION:Pend d’Oreille Winery\, 301 Cedar Street\, Sandpoint\, ID\, United States
CATEGORIES:Music
END:VEVENT
BEGIN:VEVENT
DTSTART;TZID=America/Los_Angeles:20230915T170000
DTEND;TZID=America/Los_Angeles:20230915T200000
DTSTAMP:20260422T134606
CREATED:20230829T215328Z
LAST-MODIFIED:20230829T215328Z
UID:10001839-1694797200-1694808000@powine.com
SUMMARY:Live Music with Ian Newbill
DESCRIPTION:Ian Newbill presents favorite rock and pop songs in ways that stir the dance floor.  5-8:00pm.
URL:https://powine.com/event/live-music-with-ian-newbill-3/
LOCATION:Pend d’Oreille Winery\, 301 Cedar Street\, Sandpoint\, ID\, United States
CATEGORIES:Music
END:VEVENT
BEGIN:VEVENT
DTSTART;TZID=America/Los_Angeles:20230916T170000
DTEND;TZID=America/Los_Angeles:20230916T200000
DTSTAMP:20260422T134606
CREATED:20230829T215438Z
LAST-MODIFIED:20230829T215438Z
UID:10001840-1694883600-1694894400@powine.com
SUMMARY:Live Music with Paul Cataldo Duo
DESCRIPTION:Paul Cataldo and friends present a fun night of bluegrass at the winery.  5-8:00pm.
URL:https://powine.com/event/live-music-with-paul-cataldo-duo/
LOCATION:Pend d’Oreille Winery\, 301 Cedar Street\, Sandpoint\, ID\, United States
CATEGORIES:Music
END:VEVENT
BEGIN:VEVENT
DTSTART;TZID=America/Los_Angeles:20230920T080000
DTEND;TZID=America/Los_Angeles:20230920T170000
DTSTAMP:20260422T134606
CREATED:20230829T215527Z
LAST-MODIFIED:20230829T215527Z
UID:10001841-1695196800-1695229200@powine.com
SUMMARY:Live Piano with Jason Evans
DESCRIPTION:Jason Garret Evans performs contemporary jazz and soul music on the grand piano.  His music connects with the audience in an engaging\, soulful way.  5-7:00 pm.
URL:https://powine.com/event/live-piano-with-jason-evans-5/
LOCATION:Pend d’Oreille Winery\, 301 Cedar Street\, Sandpoint\, ID\, United States
CATEGORIES:Music
END:VEVENT
BEGIN:VEVENT
DTSTART;TZID=America/Los_Angeles:20230922T080000
DTEND;TZID=America/Los_Angeles:20230922T170000
DTSTAMP:20260422T134606
CREATED:20230829T215607Z
LAST-MODIFIED:20230829T215607Z
UID:10001842-1695369600-1695402000@powine.com
SUMMARY:Live Music with Brian Jacobs
DESCRIPTION:Brian Jacobs\, acoustic guitarist\, and vocalist\, presents all the songs you want to hear.  Rock\, pop\, indie. 5-8:00pm.
URL:https://powine.com/event/live-music-with-brian-jacobs-10/
LOCATION:Pend d’Oreille Winery\, 301 Cedar Street\, Sandpoint\, ID\, United States
CATEGORIES:Music
END:VEVENT
BEGIN:VEVENT
DTSTART;TZID=America/Los_Angeles:20230923T170000
DTEND;TZID=America/Los_Angeles:20230923T200000
DTSTAMP:20260422T134606
CREATED:20230829T215846Z
LAST-MODIFIED:20230829T215846Z
UID:10001843-1695488400-1695499200@powine.com
SUMMARY:Live Music with Kosh
DESCRIPTION:We are thrilled to welcome Kosh to the winery again.  Kosh is an entertainer and a musical talent not to be missed.  Rock and pop favorites.  5-8:00pm.
URL:https://powine.com/event/live-music-with-kosh-10/
LOCATION:Pend d’Oreille Winery\, 301 Cedar Street\, Sandpoint\, ID\, United States
CATEGORIES:Music
END:VEVENT
BEGIN:VEVENT
DTSTART;TZID=America/Los_Angeles:20230927T170000
DTEND;TZID=America/Los_Angeles:20230927T190000
DTSTAMP:20260422T134606
CREATED:20230829T215939Z
LAST-MODIFIED:20230829T215939Z
UID:10001844-1695834000-1695841200@powine.com
SUMMARY:Cherokee Flute with Brother Music
DESCRIPTION:Brother Music charms the audience with the traditional Cherokee flute.  Join us for a glass of Petite Sirah and a pleasant evening.  5-7:00pm.
URL:https://powine.com/event/cherokee-flute-with-brother-music-2/
LOCATION:Pend d’Oreille Winery\, 301 Cedar Street\, Sandpoint\, ID\, United States
CATEGORIES:Music
END:VEVENT
BEGIN:VEVENT
DTSTART;TZID=America/Los_Angeles:20230929T170000
DTEND;TZID=America/Los_Angeles:20230929T200000
DTSTAMP:20260422T134606
CREATED:20230829T220031Z
LAST-MODIFIED:20230829T220031Z
UID:10001845-1696006800-1696017600@powine.com
SUMMARY:Live Piano with Ben Vogel
DESCRIPTION:Ben Vogel is a Northwest songwriter/performer with extensive experience playing the guitar\, singing the blues\, and rocking the room.  5-8:00pm.
URL:https://powine.com/event/live-piano-with-ben-vogel/
LOCATION:Pend d’Oreille Winery\, 301 Cedar Street\, Sandpoint\, ID\, United States
CATEGORIES:Music
END:VEVENT
BEGIN:VEVENT
DTSTART;TZID=America/Los_Angeles:20230930T170000
DTEND;TZID=America/Los_Angeles:20230930T200000
DTSTAMP:20260422T134606
CREATED:20230829T220121Z
LAST-MODIFIED:20230829T220121Z
UID:10001846-1696093200-1696104000@powine.com
SUMMARY:Live Music with Tom Catmull
DESCRIPTION:Tom Catmull\, of Missoula\, Montana\, brings the energy of Jerry Jeff Walker and Robert Earle Keen to the winery.  Tom’s sound is alluring\, his performance is refined.  5-8:00pm
URL:https://powine.com/event/live-music-with-tom-catmull-2/
LOCATION:Pend d’Oreille Winery\, 301 Cedar Street\, Sandpoint\, ID\, United States
CATEGORIES:Music
END:VEVENT
BEGIN:VEVENT
DTSTART;VALUE=DATE:20231001
DTEND;VALUE=DATE:20231101
DTSTAMP:20260422T134606
CREATED:20231002T163456Z
LAST-MODIFIED:20231002T163456Z
UID:10001537-1696118400-1698796799@powine.com
SUMMARY:October 2023 Wine of the Month – 2020 Merlot
DESCRIPTION:Red apple\, sour cherry\, and plum aromas\, with hints of milk chocolate\, juicy pomegranate\, star anise\, cranberry\, rounded out with mid-tannin\, and mild tobacco flavors. \nThe 2020 Merlot pairs well with pasta\, roasted vegetables\, grilled meats\, and Mediterranean dishes. \n  \nAll month long 10% off bottles 1 – 5\, 15% off bottles 6 – 11\, and 20% off cases. \nEnjoy $8.50 glass pours through the month of October.
URL:https://powine.com/event/october-2023-wine-of-the-month-2020-merlot/
LOCATION:Pend d’Oreille Winery\, 301 Cedar Street\, Sandpoint\, ID\, United States
END:VEVENT
BEGIN:VEVENT
DTSTART;VALUE=DATE:20231001
DTEND;VALUE=DATE:20231101
DTSTAMP:20260422T134606
CREATED:20231002T163613Z
LAST-MODIFIED:20231002T163613Z
UID:10001539-1696118400-1698796799@powine.com
SUMMARY:October Artists of the Month – Scott Switzer and Francis Switzer
DESCRIPTION:Father and Son\, Scott and Francis Switzer\, are the October Artists of the Month for Pend d’Oreille Winery.  Scott Switzer presents deeply personal and colorful paintings\, inspired by connection with humanity as well as nature.  Francis presents detailed\, realistic paintings of culture\, energy\, and immediate inspirations.  Join us in recognizing and appreciating these two talented and acclaimed artists.  We are honored to welcome Scott and Francis to the Pend d’Oreille Winery.  Artist reception October 12th\, 5:00-7:00pm.
URL:https://powine.com/event/october-artists-of-the-month-scott-switzer-and-francis-switzer/
LOCATION:Pend d’Oreille Winery\, 301 Cedar Street\, Sandpoint\, ID\, United States
END:VEVENT
BEGIN:VEVENT
DTSTART;TZID=America/Los_Angeles:20231004T170000
DTEND;TZID=America/Los_Angeles:20231004T190000
DTSTAMP:20260422T134606
CREATED:20231002T163737Z
LAST-MODIFIED:20231002T163737Z
UID:10001541-1696438800-1696446000@powine.com
SUMMARY:Peter Lucht on the Grand Piano
DESCRIPTION:Peter Lucht brings classy jazz to the Pend d’Oreille Winery.  5-7:00pm.
URL:https://powine.com/event/peter-lucht-on-the-grand-piano/
LOCATION:Pend d’Oreille Winery\, 301 Cedar Street\, Sandpoint\, ID\, United States
CATEGORIES:Music
END:VEVENT
BEGIN:VEVENT
DTSTART;TZID=America/Los_Angeles:20231006T170000
DTEND;TZID=America/Los_Angeles:20231006T200000
DTSTAMP:20260422T134606
CREATED:20231002T163836Z
LAST-MODIFIED:20231002T163836Z
UID:10001543-1696611600-1696622400@powine.com
SUMMARY:Live Music with the Mike Wagoner Trio
DESCRIPTION:The Mike Wagoner Trio fills the winery every time! Arrive early for a seat and a glass of Merlot. Listen to rock and country favorites with a new spin.  5-8:00pm.
URL:https://powine.com/event/live-music-with-the-mike-wagoner-trio-4/
LOCATION:Pend d’Oreille Winery\, 301 Cedar Street\, Sandpoint\, ID\, United States
CATEGORIES:Music
END:VEVENT
BEGIN:VEVENT
DTSTART;TZID=America/Los_Angeles:20231007T170000
DTEND;TZID=America/Los_Angeles:20231007T200000
DTSTAMP:20260422T134606
CREATED:20231002T163933Z
LAST-MODIFIED:20231002T163933Z
UID:10001545-1696698000-1696708800@powine.com
SUMMARY:Live Music with Chris Paradis
DESCRIPTION:Chris Paradis is a vocalist and multi-talented musician on the banjo\, mandolin\, guitar\, and bass.  Chris’ performances are always original and engaging.  5-8:00pm.
URL:https://powine.com/event/live-music-with-chris-paradis-2/
LOCATION:Pend d’Oreille Winery\, 301 Cedar Street\, Sandpoint\, ID\, United States
CATEGORIES:Music
END:VEVENT
BEGIN:VEVENT
DTSTART;TZID=America/Los_Angeles:20231011T170000
DTEND;TZID=America/Los_Angeles:20231011T190000
DTSTAMP:20260422T134606
CREATED:20231002T164023Z
LAST-MODIFIED:20231002T164023Z
UID:10001547-1697043600-1697050800@powine.com
SUMMARY:Piano with Dwayne Parsons
DESCRIPTION:Dwayne Parsons returns to continue his story on the Grand Piano.  Dwayne will charm you with his original tunes.  5-7:00pm.
URL:https://powine.com/event/piano-with-dwayne-parsons-5/
LOCATION:Pend d’Oreille Winery\, 301 Cedar Street\, Sandpoint\, ID\, United States
CATEGORIES:Music
END:VEVENT
BEGIN:VEVENT
DTSTART;TZID=America/Los_Angeles:20231012T170000
DTEND;TZID=America/Los_Angeles:20231012T190000
DTSTAMP:20260422T134606
CREATED:20231002T164144Z
LAST-MODIFIED:20231002T164144Z
UID:10001549-1697130000-1697137200@powine.com
SUMMARY:Artist Reception for Scott and Francis Switzer
DESCRIPTION:Join us in welcoming Scott Switzer and Francis Switzer as our October Artists of the Month.  Take a moment to meet the artists\, appreciate the artwork\, and enjoy a glass of wine.  5-7:00pm.
URL:https://powine.com/event/artist-reception-for-scott-and-francis-switzer/
LOCATION:Pend d’Oreille Winery\, 301 Cedar Street\, Sandpoint\, ID\, United States
CATEGORIES:Artist Reception
END:VEVENT
BEGIN:VEVENT
DTSTART;TZID=America/Los_Angeles:20231013T170000
DTEND;TZID=America/Los_Angeles:20231013T200000
DTSTAMP:20260422T134606
CREATED:20231002T164247Z
LAST-MODIFIED:20231002T164247Z
UID:10001551-1697216400-1697227200@powine.com
SUMMARY:Live Music with Nobody Famous
DESCRIPTION:Nobody Famous returns with an easy-going\, island vibe.  Join us for a glass of Merlot and a lively night of music. 5-8:00pm.
URL:https://powine.com/event/live-music-with-nobody-famous-2/
LOCATION:Pend d’Oreille Winery\, 301 Cedar Street\, Sandpoint\, ID\, United States
CATEGORIES:Music
END:VEVENT
BEGIN:VEVENT
DTSTART;TZID=America/Los_Angeles:20231014T120000
DTEND;TZID=America/Los_Angeles:20231014T180000
DTSTAMP:20260422T134606
CREATED:20231002T164543Z
LAST-MODIFIED:20231002T164543Z
UID:10001555-1697284800-1697306400@powine.com
SUMMARY:Octoberfest at the Granary District
DESCRIPTION:Visit the Pend d’Oreille Winery tent at the Octoberfest celebration! We’ll be there pouring your favorite glasses of wine! Noon-6:00pm.
URL:https://powine.com/event/octoberfest-at-the-granary-district/
LOCATION:Granary District
CATEGORIES:Offsite Event
END:VEVENT
BEGIN:VEVENT
DTSTART;TZID=America/Los_Angeles:20231014T170000
DTEND;TZID=America/Los_Angeles:20231014T200000
DTSTAMP:20260422T134606
CREATED:20231002T164341Z
LAST-MODIFIED:20231002T164341Z
UID:10001553-1697302800-1697313600@powine.com
SUMMARY:Live Music with Jake Robin
DESCRIPTION:Unwind with Jake Robin as he fills the room with smooth vocals and all your favorites through the decades. 5-8:00pm
URL:https://powine.com/event/live-music-with-jake-robin/
LOCATION:Pend d’Oreille Winery\, 301 Cedar Street\, Sandpoint\, ID\, United States
CATEGORIES:Music
END:VEVENT
BEGIN:VEVENT
DTSTART;TZID=America/Los_Angeles:20231018T170000
DTEND;TZID=America/Los_Angeles:20231018T190000
DTSTAMP:20260422T134606
CREATED:20231002T164734Z
LAST-MODIFIED:20231002T164734Z
UID:10001847-1697648400-1697655600@powine.com
SUMMARY:Live Piano with Jason Garret Evans
DESCRIPTION:Jason Evans returns to play contemporary\, modern\, and original tunes on the Grand Piano.  Jason has flair and style.  5-7:00pm.
URL:https://powine.com/event/live-piano-with-jason-garret-evans/
LOCATION:Pend d’Oreille Winery\, 301 Cedar Street\, Sandpoint\, ID\, United States
CATEGORIES:Music
END:VEVENT
BEGIN:VEVENT
DTSTART;TZID=America/Los_Angeles:20231020T170000
DTEND;TZID=America/Los_Angeles:20231020T200000
DTSTAMP:20260422T134606
CREATED:20231002T164842Z
LAST-MODIFIED:20231002T164842Z
UID:10001848-1697821200-1697832000@powine.com
SUMMARY:Live Piano with Bright Moments
DESCRIPTION:Bright Moments fills the winery with eclectic jazz.  5-8:00pm.
URL:https://powine.com/event/live-piano-with-bright-moments/
LOCATION:Pend d’Oreille Winery\, 301 Cedar Street\, Sandpoint\, ID\, United States
CATEGORIES:Music
END:VEVENT
BEGIN:VEVENT
DTSTART;TZID=America/Los_Angeles:20231021T170000
DTEND;TZID=America/Los_Angeles:20231021T200000
DTSTAMP:20260422T134606
CREATED:20231002T164946Z
LAST-MODIFIED:20231002T164946Z
UID:10001849-1697907600-1697918400@powine.com
SUMMARY:Live Music with Jona Gallegos
DESCRIPTION:We welcome singer/songwriter Jona Gallegos for an acoustic set and an easy evening at the Pend d’Oreille Winery. 5-8:00pm.
URL:https://powine.com/event/live-music-with-jona-gallegos-2/
LOCATION:Pend d’Oreille Winery\, 301 Cedar Street\, Sandpoint\, ID\, United States
CATEGORIES:Music
END:VEVENT
END:VCALENDAR