BEGIN:VCALENDAR
VERSION:2.0
PRODID:-//Pend Oreille Winery in Sandpoint, Idaho - ECPv6.15.20//NONSGML v1.0//EN
CALSCALE:GREGORIAN
METHOD:PUBLISH
X-ORIGINAL-URL:https://powine.com
X-WR-CALDESC:Events for Pend Oreille Winery in Sandpoint, Idaho
REFRESH-INTERVAL;VALUE=DURATION:PT1H
X-Robots-Tag:noindex
X-PUBLISHED-TTL:PT1H
BEGIN:VTIMEZONE
TZID:America/Los_Angeles
BEGIN:DAYLIGHT
TZOFFSETFROM:-0800
TZOFFSETTO:-0700
TZNAME:PDT
DTSTART:20220313T100000
END:DAYLIGHT
BEGIN:STANDARD
TZOFFSETFROM:-0700
TZOFFSETTO:-0800
TZNAME:PST
DTSTART:20221106T090000
END:STANDARD
BEGIN:DAYLIGHT
TZOFFSETFROM:-0800
TZOFFSETTO:-0700
TZNAME:PDT
DTSTART:20230312T100000
END:DAYLIGHT
BEGIN:STANDARD
TZOFFSETFROM:-0700
TZOFFSETTO:-0800
TZNAME:PST
DTSTART:20231105T090000
END:STANDARD
BEGIN:DAYLIGHT
TZOFFSETFROM:-0800
TZOFFSETTO:-0700
TZNAME:PDT
DTSTART:20240310T100000
END:DAYLIGHT
BEGIN:STANDARD
TZOFFSETFROM:-0700
TZOFFSETTO:-0800
TZNAME:PST
DTSTART:20241103T090000
END:STANDARD
BEGIN:DAYLIGHT
TZOFFSETFROM:-0800
TZOFFSETTO:-0700
TZNAME:PDT
DTSTART:20250309T100000
END:DAYLIGHT
BEGIN:STANDARD
TZOFFSETFROM:-0700
TZOFFSETTO:-0800
TZNAME:PST
DTSTART:20251102T090000
END:STANDARD
END:VTIMEZONE
BEGIN:VEVENT
DTSTART;TZID=America/Los_Angeles:20231115T160000
DTEND;TZID=America/Los_Angeles:20231115T190000
DTSTAMP:20260423T153448
CREATED:20231031T163138Z
LAST-MODIFIED:20231031T163138Z
UID:10001862-1700064000-1700074800@powine.com
SUMMARY:CASA Purse Party
DESCRIPTION:The annual CASA Purse Party returns to the Pend d’ Oreille Winery.  Support our local CASA organization and provide safe homes and advocates for child victims of abuse.  Shop for a new handbag\, enjoy a glass of wine and support CASA from 4-7:00pm on November 15th. \nThere will be no live piano.
URL:https://powine.com/event/casa-purse-party/
LOCATION:Pend d’Oreille Winery\, 301 Cedar Street\, Sandpoint\, ID\, United States
CATEGORIES:Fundraiser
END:VEVENT
BEGIN:VEVENT
DTSTART;TZID=America/Los_Angeles:20231116T160000
DTEND;TZID=America/Los_Angeles:20231116T200000
DTSTAMP:20260423T153448
CREATED:20231031T163241Z
LAST-MODIFIED:20231031T163241Z
UID:10001863-1700150400-1700164800@powine.com
SUMMARY:Sip and Shop for the Rock Creek Alliance
DESCRIPTION:Join us in supporting the Rock Creek Alliance.  Learn about the Rock Creek Alliance\, stay for a meal and glass of Syrah\, and enjoy the company of friends.  A percentage of proceeds from the evening will be donated to the Rock Creek Alliance. 4-8:00pm.
URL:https://powine.com/event/sip-and-shop-for-the-rock-creek-alliance-2/
LOCATION:Pend d’Oreille Winery\, 301 Cedar Street\, Sandpoint\, ID\, United States
CATEGORIES:Sip and Shop
END:VEVENT
BEGIN:VEVENT
DTSTART;TZID=America/Los_Angeles:20231117T170000
DTEND;TZID=America/Los_Angeles:20231117T200000
DTSTAMP:20260423T153448
CREATED:20231031T163348Z
LAST-MODIFIED:20231031T163348Z
UID:10001864-1700240400-1700251200@powine.com
SUMMARY:Live Music with Mike and Shanna Thompson
DESCRIPTION:We are pleased to welcome Mike and Shanna Thompson to the Pend d’ Oreille Winery. Mike and Shanna are an acoustic duo who create a seamless night of music you won’t want to end.  5-8:00pm.
URL:https://powine.com/event/live-music-with-mike-and-shanna-thompson/
LOCATION:Pend d’Oreille Winery\, 301 Cedar Street\, Sandpoint\, ID\, United States
CATEGORIES:Music
END:VEVENT
BEGIN:VEVENT
DTSTART;TZID=America/Los_Angeles:20231118T170000
DTEND;TZID=America/Los_Angeles:20231118T200000
DTSTAMP:20260423T153448
CREATED:20231031T163458Z
LAST-MODIFIED:20231031T163458Z
UID:10001865-1700326800-1700337600@powine.com
SUMMARY:Live Music with Pamela Bentan
DESCRIPTION:Pamela Benton sets the strings of her electric violin on fire as she performs blues\, indie\, folk\, rock and originals.  5-8:00pm.
URL:https://powine.com/event/live-music-with-pamela-bentan/
LOCATION:Pend d’Oreille Winery\, 301 Cedar Street\, Sandpoint\, ID\, United States
CATEGORIES:Music
END:VEVENT
BEGIN:VEVENT
DTSTART;TZID=America/Los_Angeles:20231122T170000
DTEND;TZID=America/Los_Angeles:20231122T190000
DTSTAMP:20260423T153448
CREATED:20231031T163558Z
LAST-MODIFIED:20231031T163558Z
UID:10001866-1700672400-1700679600@powine.com
SUMMARY:Piano with Bob Beadling
DESCRIPTION:Bob creates a connection with the music and the instrument.  Enjoy favorites performed professionally and beautifully on the grand piano.  5-7:00pm.
URL:https://powine.com/event/piano-with-bob-beadling-2/
LOCATION:Pend d’Oreille Winery\, 301 Cedar Street\, Sandpoint\, ID\, United States
CATEGORIES:Music
END:VEVENT
BEGIN:VEVENT
DTSTART;VALUE=DATE:20231123
DTEND;VALUE=DATE:20231124
DTSTAMP:20260423T153448
CREATED:20231031T163705Z
LAST-MODIFIED:20231031T163705Z
UID:10001867-1700697600-1700783999@powine.com
SUMMARY:Closed for Thanksgiving
DESCRIPTION:Happy Thanksgiving from our family to yours.
URL:https://powine.com/event/closed-for-thanksgiving/
LOCATION:Pend d’Oreille Winery\, 301 Cedar Street\, Sandpoint\, ID\, United States
END:VEVENT
BEGIN:VEVENT
DTSTART;TZID=America/Los_Angeles:20231124T170000
DTEND;TZID=America/Los_Angeles:20231124T200000
DTSTAMP:20260423T153448
CREATED:20231031T163819Z
LAST-MODIFIED:20231031T163819Z
UID:10001868-1700845200-1700856000@powine.com
SUMMARY:Live Music with BTP
DESCRIPTION:Baker\, Thomas\, and Packwood rock the tasting room!  BTP visits rock classics\, oldies\, and unexpected favorites.  Arrive early for a seat and an artisan pizza.  5-8:00pm.
URL:https://powine.com/event/live-music-with-btp-5/
LOCATION:Pend d’Oreille Winery\, 301 Cedar Street\, Sandpoint\, ID\, United States
CATEGORIES:Music
END:VEVENT
BEGIN:VEVENT
DTSTART;TZID=America/Los_Angeles:20231125T170000
DTEND;TZID=America/Los_Angeles:20231125T200000
DTSTAMP:20260423T153448
CREATED:20231031T163915Z
LAST-MODIFIED:20231031T163915Z
UID:10001869-1700931600-1700942400@powine.com
SUMMARY:Live Music with Zach Simms
DESCRIPTION:Zach has become a local favorite with unique vocals and charm.  Zach is an acoustic performer who draws the attention of the room.  Enjoy a glass of Syrah and a professional night of music.  5-8:00pm.
URL:https://powine.com/event/live-music-with-zach-simms-6/
LOCATION:Pend d’Oreille Winery\, 301 Cedar Street\, Sandpoint\, ID\, United States
CATEGORIES:Music
END:VEVENT
BEGIN:VEVENT
DTSTART;TZID=America/Los_Angeles:20231129T170000
DTEND;TZID=America/Los_Angeles:20231129T190000
DTSTAMP:20260423T153448
CREATED:20231031T164015Z
LAST-MODIFIED:20231031T164015Z
UID:10001870-1701277200-1701284400@powine.com
SUMMARY:Piano with Bob Beadling
DESCRIPTION:Bob brings the grand piano to life!   5-7:00pm.
URL:https://powine.com/event/piano-with-jason-garret-evans/
LOCATION:Pend d’Oreille Winery\, 301 Cedar Street\, Sandpoint\, ID\, United States
CATEGORIES:Music
END:VEVENT
BEGIN:VEVENT
DTSTART;TZID=America/Los_Angeles:20231130T160000
DTEND;TZID=America/Los_Angeles:20231130T200000
DTSTAMP:20260423T153448
CREATED:20231031T164124Z
LAST-MODIFIED:20231031T164124Z
UID:10001871-1701360000-1701374400@powine.com
SUMMARY:Private Event
DESCRIPTION:The Pend d’ Oreille Winery will be closed from 4-8:00pm for a Private Event. Please join us for lunch and refills from Noon-4:00pm!
URL:https://powine.com/event/private-event-2/
LOCATION:Pend d’Oreille Winery\, 301 Cedar Street\, Sandpoint\, ID\, United States
END:VEVENT
BEGIN:VEVENT
DTSTART;VALUE=DATE:20231201
DTEND;VALUE=DATE:20240101
DTSTAMP:20260423T153448
CREATED:20231127T234902Z
LAST-MODIFIED:20231127T234902Z
UID:10001872-1701388800-1704067199@powine.com
SUMMARY:December 2023  Wine of the Month – 2021 Cabernet Sauvignon
DESCRIPTION:Ruby color with clove\, violet\, applewood\, and boysenberry aromatics. Cherries from the tree\, charred woodiness\, vanilla\, black plum notes. Balanced tannin structure with bright acidity. Sophisticated\, but very drinkable wine. \nThe 2021 Cabernet Sauvignon pairs well with mushroom dishes infused with rosemary\, steak with blue cheese\, or roasted vegetables. \nAll month long 10% off bottles 1 – 5\, 15% off bottles 6 – 11\, and 20% off cases. \nEnjoy $8.50 glass pours through the month of December
URL:https://powine.com/event/december-2023-wine-of-the-month-2021-cabernet-sauvignon/
LOCATION:Pend d’Oreille Winery\, 301 Cedar Street\, Sandpoint\, ID\, United States
END:VEVENT
BEGIN:VEVENT
DTSTART;TZID=America/Los_Angeles:20231201T080000
DTEND;TZID=America/Los_Angeles:20231231T170000
DTSTAMP:20260423T153448
CREATED:20231127T235014Z
LAST-MODIFIED:20231127T235014Z
UID:10001873-1701417600-1704042000@powine.com
SUMMARY:December Artist of the Month – Delia Nak
DESCRIPTION:Delia’s work is characterized by an ‘outside of the box’ inventiveness\, a rare quality that sets her apart in the art world. Each creation is a vibrant expression of her unique energy\, channeled through an unorthodox perspective. Delia’s pieces embody a fusion of raw creativity and refined technique. These artworks are not just visual treats\, they are an invitation to experience the world through the artist’s eyes. Owning a piece of her collection is more than an acquisition of art; it is an embrace of a philosophy that celebrates the extraordinary in the everyday.  Delia’s pieces combine natural materials\, light\, function\, and aesthetic.
URL:https://powine.com/event/december-artist-of-the-month-delia-nak/
LOCATION:Pend d’Oreille Winery\, 301 Cedar Street\, Sandpoint\, ID\, United States
END:VEVENT
BEGIN:VEVENT
DTSTART;TZID=America/Los_Angeles:20231201T170000
DTEND;TZID=America/Los_Angeles:20231201T200000
DTSTAMP:20260423T153448
CREATED:20231127T235115Z
LAST-MODIFIED:20231127T235115Z
UID:10001874-1701450000-1701460800@powine.com
SUMMARY:Live Music with Bright Moments
DESCRIPTION:Eclectic jazz and groove.
URL:https://powine.com/event/live-music-with-bright-moments-9/
LOCATION:Pend d’Oreille Winery\, 301 Cedar Street\, Sandpoint\, ID\, United States
CATEGORIES:Music
END:VEVENT
BEGIN:VEVENT
DTSTART;TZID=America/Los_Angeles:20231202T170000
DTEND;TZID=America/Los_Angeles:20231202T200000
DTSTAMP:20260423T153448
CREATED:20231127T235219Z
LAST-MODIFIED:20231127T235219Z
UID:10001565-1701536400-1701547200@powine.com
SUMMARY:Live Music with Chris Paradis
DESCRIPTION:Chris Paradis is a multi-talented musician on banjo\, mandolin\, guitar\, bass\, and vocals.  Chris always promises an engaging performance.
URL:https://powine.com/event/live-music-with-chris-paradis-3/
LOCATION:Pend d’Oreille Winery\, 301 Cedar Street\, Sandpoint\, ID\, United States
CATEGORIES:Music
END:VEVENT
BEGIN:VEVENT
DTSTART;TZID=America/Los_Angeles:20231206T170000
DTEND;TZID=America/Los_Angeles:20231206T190000
DTSTAMP:20260423T153448
CREATED:20231127T235317Z
LAST-MODIFIED:20231127T235317Z
UID:10001567-1701882000-1701889200@powine.com
SUMMARY:Piano with Dwayne Parsons
DESCRIPTION:Dwayne Parsons returns to continue his story on the Grand Piano.  Dwayne will charm you with his original tunes.
URL:https://powine.com/event/piano-with-dwayne-parsons-7/
LOCATION:ID
CATEGORIES:Music
END:VEVENT
BEGIN:VEVENT
DTSTART;TZID=America/Los_Angeles:20231207T160000
DTEND;TZID=America/Los_Angeles:20231207T210000
DTSTAMP:20260423T153448
CREATED:20231127T235444Z
LAST-MODIFIED:20231127T235444Z
UID:10001569-1701964800-1701982800@powine.com
SUMMARY:Closing at 4:00pm for a Private Event
DESCRIPTION:Enjoy lunch and get your refills early!
URL:https://powine.com/event/closing-at-400pm-for-a-private-event/
LOCATION:Pend d’Oreille Winery\, 301 Cedar Street\, Sandpoint\, ID\, United States
END:VEVENT
BEGIN:VEVENT
DTSTART;TZID=America/Los_Angeles:20231208T170000
DTEND;TZID=America/Los_Angeles:20231208T210000
DTSTAMP:20260423T153448
CREATED:20231127T235633Z
LAST-MODIFIED:20231127T235633Z
UID:10001571-1702054800-1702069200@powine.com
SUMMARY:Live Music with Ron Keiper and Ladies Shopping Night
DESCRIPTION:Professional and smooth jazz by the Ron Keiper Trio.  Join us for a glass of wine and stay for the prize drawing for Ladies Shopping Night! Retail discounts and festive fun! Must be present to win. Open until 9:00.
URL:https://powine.com/event/live-music-with-ron-keiper-and-ladies-shopping-night/
LOCATION:Pend d’Oreille Winery\, 301 Cedar Street\, Sandpoint\, ID\, United States
CATEGORIES:Music
END:VEVENT
BEGIN:VEVENT
DTSTART;TZID=America/Los_Angeles:20231209T170000
DTEND;TZID=America/Los_Angeles:20231209T200000
DTSTAMP:20260423T153448
CREATED:20231128T001357Z
LAST-MODIFIED:20231128T001357Z
UID:10001573-1702141200-1702152000@powine.com
SUMMARY:Live Music with Pamela Benton
DESCRIPTION:Pamela Benton sets the strings of her electric violin on fire as she performs blues\, indie\, folk\, rock\, and originals.
URL:https://powine.com/event/live-music-with-pamela-benton-2/
LOCATION:Pend d’Oreille Winery\, 301 Cedar Street\, Sandpoint\, ID\, United States
CATEGORIES:Music
END:VEVENT
BEGIN:VEVENT
DTSTART;TZID=America/Los_Angeles:20231213T170000
DTEND;TZID=America/Los_Angeles:20231213T190000
DTSTAMP:20260423T153448
CREATED:20231128T001445Z
LAST-MODIFIED:20231128T001445Z
UID:10001574-1702486800-1702494000@powine.com
SUMMARY:Piano with Athena Crossingham
DESCRIPTION:Classical piano and holiday tunes.  Athena fills the room with energy.
URL:https://powine.com/event/piano-with-jason-evans-4/
LOCATION:Pend d’Oreille Winery\, 301 Cedar Street\, Sandpoint\, ID\, United States
CATEGORIES:Music
END:VEVENT
BEGIN:VEVENT
DTSTART;TZID=America/Los_Angeles:20231214T170000
DTEND;TZID=America/Los_Angeles:20231214T190000
DTSTAMP:20260423T153448
CREATED:20231128T001542Z
LAST-MODIFIED:20231128T001542Z
UID:10001575-1702573200-1702580400@powine.com
SUMMARY:Artist Reception for Delia Nak
DESCRIPTION:Join us in welcoming Delia Nak as our December Artist of the Month.  Enjoy a glass of Cabernet Sauvignon while admiring Delia’s pieces.  Meet the artist and support our local artist community.
URL:https://powine.com/event/artist-reception-for-delia-nak/
LOCATION:Pend d’Oreille Winery\, 301 Cedar Street\, Sandpoint\, ID\, United States
CATEGORIES:Artist Reception
END:VEVENT
BEGIN:VEVENT
DTSTART;TZID=America/Los_Angeles:20231215T170000
DTEND;TZID=America/Los_Angeles:20231215T200000
DTSTAMP:20260423T153448
CREATED:20231128T001649Z
LAST-MODIFIED:20231128T001649Z
UID:10001576-1702659600-1702670400@powine.com
SUMMARY:Live Music with Sheldon Packwood
DESCRIPTION:Sheldon Packwood is an instrumentalist and vocalist.  Sheldon plays a solo show of country\, folk\, and adult contemporary.
URL:https://powine.com/event/live-music-with-sheldon-packwood/
LOCATION:Pend d’Oreille Winery\, 301 Cedar Street\, Sandpoint\, ID\, United States
CATEGORIES:Music
END:VEVENT
BEGIN:VEVENT
DTSTART;TZID=America/Los_Angeles:20231216T080000
DTEND;TZID=America/Los_Angeles:20231216T170000
DTSTAMP:20260423T153448
CREATED:20231128T001728Z
LAST-MODIFIED:20231128T001728Z
UID:10001577-1702713600-1702746000@powine.com
SUMMARY:Live Music with Jona Gallegos
DESCRIPTION:Jona plays the perfect acoustic set of folk\, indie\, and rock to set a good mood at the Pend d’ Oreille Winery.
URL:https://powine.com/event/live-music-with-jona-gallegos-3/
LOCATION:Pend d’Oreille Winery\, 301 Cedar Street\, Sandpoint\, ID\, United States
CATEGORIES:Music
END:VEVENT
BEGIN:VEVENT
DTSTART;TZID=America/Los_Angeles:20231220T153000
DTEND;TZID=America/Los_Angeles:20231220T173000
DTSTAMP:20260423T153448
CREATED:20231128T001830Z
LAST-MODIFIED:20231128T001830Z
UID:10001578-1703086200-1703093400@powine.com
SUMMARY:Holiday Piano with Bob Beadling
DESCRIPTION:Join us for our annual family holiday show! Bob Beadling and the Sandpoint Music Conservatory perform festive holiday favorites.  Children enjoy cookies and holiday punch.  Parents enjoy your favorite glass of wine.  Ho Ho Ho! Santa will stop by to visit the winery as well!
URL:https://powine.com/event/holiday-piano-with-bob-beadling/
LOCATION:Pend d’Oreille Winery\, 301 Cedar Street\, Sandpoint\, ID\, United States
CATEGORIES:Music
END:VEVENT
BEGIN:VEVENT
DTSTART;TZID=America/Los_Angeles:20231222T170000
DTEND;TZID=America/Los_Angeles:20231222T200000
DTSTAMP:20260423T153448
CREATED:20231128T001916Z
LAST-MODIFIED:20231128T001916Z
UID:10001875-1703264400-1703275200@powine.com
SUMMARY:Live Music with Mark Holt
DESCRIPTION:Mark Holt performs Americana rock with a bluesy edge
URL:https://powine.com/event/live-music-with-mark-holt/
LOCATION:Pend d’Oreille Winery\, 301 Cedar Street\, Sandpoint\, ID\, United States
CATEGORIES:Music
END:VEVENT
BEGIN:VEVENT
DTSTART;TZID=America/Los_Angeles:20231223T170000
DTEND;TZID=America/Los_Angeles:20231223T200000
DTSTAMP:20260423T153448
CREATED:20231128T002018Z
LAST-MODIFIED:20231128T002018Z
UID:10001876-1703350800-1703361600@powine.com
SUMMARY:Live Music with Global Gumbo
DESCRIPTION:The Truck Mills trio\, Global Gumbo returns to the winery for a night of global music!  The Global Gumbo band keeps the room alive with blues\, Latin\, and global infusion music.
URL:https://powine.com/event/live-music-with-truck-mills-2/
LOCATION:Pend d’Oreille Winery\, 301 Cedar Street\, Sandpoint\, ID\, United States
CATEGORIES:Music
END:VEVENT
BEGIN:VEVENT
DTSTART;TZID=America/Los_Angeles:20231227T170000
DTEND;TZID=America/Los_Angeles:20231227T190000
DTSTAMP:20260423T153448
CREATED:20231128T002103Z
LAST-MODIFIED:20231128T002103Z
UID:10001877-1703696400-1703703600@powine.com
SUMMARY:Peter Lucht Piano
DESCRIPTION:Peter is a local favorite who knows the grand piano.  Peter will fill the space with jazz favorites
URL:https://powine.com/event/peter-lucht-piano/
LOCATION:Pend d’Oreille Winery\, 301 Cedar Street\, Sandpoint\, ID\, United States
CATEGORIES:Music
END:VEVENT
BEGIN:VEVENT
DTSTART;TZID=America/Los_Angeles:20231229T170000
DTEND;TZID=America/Los_Angeles:20231229T200000
DTSTAMP:20260423T153448
CREATED:20231128T002157Z
LAST-MODIFIED:20231128T002157Z
UID:10001878-1703869200-1703880000@powine.com
SUMMARY:Live Music with Weibe Jammin!
DESCRIPTION:Nick Weibe\, a crowd favorite\, returns with his engaging\, rock\, pop\, looped sound.  Arrive for a glass of holiday cheer and jam with Weibe Jammin!
URL:https://powine.com/event/live-music-with-mike-and-shanna/
LOCATION:Pend d’Oreille Winery\, 301 Cedar Street\, Sandpoint\, ID\, United States
CATEGORIES:Music
END:VEVENT
BEGIN:VEVENT
DTSTART;TZID=America/Los_Angeles:20231230T170000
DTEND;TZID=America/Los_Angeles:20231230T200000
DTSTAMP:20260423T153448
CREATED:20231128T002328Z
LAST-MODIFIED:20231128T002328Z
UID:10001879-1703955600-1703966400@powine.com
SUMMARY:Live Music with Kristy-O Bomshel
DESCRIPTION:We are thrilled to welcome Kristy Osmunson of Bomshel to the Pend d’ Oreille Winery! Kristy\, a Sandpoint native\, moved to Nashville and founded the band Bomshel.  Bomshel has landed on the Country top 40 with several singles.  You won’t want to miss this energetic\, fiddle-infused professional performance by Kristy O!
URL:https://powine.com/event/live-music-with-kristy-o-bomshel/
LOCATION:Pend d’Oreille Winery\, 301 Cedar Street\, Sandpoint\, ID\, United States
CATEGORIES:Music
END:VEVENT
BEGIN:VEVENT
DTSTART;VALUE=DATE:20240101
DTEND;VALUE=DATE:20240201
DTSTAMP:20260423T153448
CREATED:20240102T190754Z
LAST-MODIFIED:20240102T190754Z
UID:10001880-1704067200-1706745599@powine.com
SUMMARY:January 2024 Wine of the Month – 2021 Merlot
DESCRIPTION:The 2021 Merlot represents a balance of Merlot fruit sourced from four vineyards. Red apple\, sour cherry\, and plum blossom aromas followed by notes of clove\, juicy pomegranate\, star anise\, and cranberry.  Bright acidity and assertive tannins establish complexity in the wine.  Rounded finish of milk chocolate and subtle espresso. \nThe 2021 Merlot pairs well with Lasagna\, roasted vegetables\, braised lamb\, and nutty cheeses. \nAll month long 10% off bottles 1 – 5\, 15% off bottles 6 – 11\, and 20% off cases. \nEnjoy $8.50 glass pours through the month of January.
URL:https://powine.com/event/january-2024-wine-of-the-month-2021-merlot/
LOCATION:Pend d’Oreille Winery\, 301 Cedar Street\, Sandpoint\, ID\, United States
END:VEVENT
BEGIN:VEVENT
DTSTART;VALUE=DATE:20240101
DTEND;VALUE=DATE:20240201
DTSTAMP:20260423T153448
CREATED:20240102T190928Z
LAST-MODIFIED:20240102T190928Z
UID:10001881-1704067200-1706745599@powine.com
SUMMARY:January Artists of the Month – Sandpoint High School Art Students
DESCRIPTION:Welcome to our January Art Show\, a celebration of creativity and expression by our talented AP\, Pre-AP\, and Art II students. This eclectic collection showcases the diverse artistic journey of our budding artists\, featuring a spectrum of mediums\, including painting\, drawing\, digital art\, collage\, and block prints. Each piece is a testament to our community’s unique perspectives and artistic voices. As viewers explore the exhibit\, they will witness the transformative power of artistic exploration and the dedication of our students to push the boundaries of traditional and digital art. From vivid brushstrokes to intricate pencil lines and the seamless integration of technology\, this exhibition invites you to immerse yourself in a visual tapestry that reflects our student artists’ passion\, skill\, and individuality.  Join us for an artist reception on January 11th\, 5:00-7:00pm.
URL:https://powine.com/event/january-artists-of-the-month-sandpoint-high-school-art-students/
LOCATION:ID
END:VEVENT
END:VCALENDAR