BEGIN:VCALENDAR
VERSION:2.0
PRODID:-//Pend Oreille Winery in Sandpoint, Idaho - ECPv6.15.20//NONSGML v1.0//EN
CALSCALE:GREGORIAN
METHOD:PUBLISH
X-WR-CALNAME:Pend Oreille Winery in Sandpoint, Idaho
X-ORIGINAL-URL:https://powine.com
X-WR-CALDESC:Events for Pend Oreille Winery in Sandpoint, Idaho
REFRESH-INTERVAL;VALUE=DURATION:PT1H
X-Robots-Tag:noindex
X-PUBLISHED-TTL:PT1H
BEGIN:VTIMEZONE
TZID:America/Los_Angeles
BEGIN:DAYLIGHT
TZOFFSETFROM:-0800
TZOFFSETTO:-0700
TZNAME:PDT
DTSTART:20240310T100000
END:DAYLIGHT
BEGIN:STANDARD
TZOFFSETFROM:-0700
TZOFFSETTO:-0800
TZNAME:PST
DTSTART:20241103T090000
END:STANDARD
BEGIN:DAYLIGHT
TZOFFSETFROM:-0800
TZOFFSETTO:-0700
TZNAME:PDT
DTSTART:20250309T100000
END:DAYLIGHT
BEGIN:STANDARD
TZOFFSETFROM:-0700
TZOFFSETTO:-0800
TZNAME:PST
DTSTART:20251102T090000
END:STANDARD
BEGIN:DAYLIGHT
TZOFFSETFROM:-0800
TZOFFSETTO:-0700
TZNAME:PDT
DTSTART:20260308T100000
END:DAYLIGHT
BEGIN:STANDARD
TZOFFSETFROM:-0700
TZOFFSETTO:-0800
TZNAME:PST
DTSTART:20261101T090000
END:STANDARD
END:VTIMEZONE
BEGIN:VTIMEZONE
TZID:America/Los_Angeles
BEGIN:DAYLIGHT
TZOFFSETFROM:-0800
TZOFFSETTO:-0700
TZNAME:PDT
DTSTART:20240310T100000
END:DAYLIGHT
BEGIN:STANDARD
TZOFFSETFROM:-0700
TZOFFSETTO:-0800
TZNAME:PST
DTSTART:20241103T090000
END:STANDARD
BEGIN:DAYLIGHT
TZOFFSETFROM:-0800
TZOFFSETTO:-0700
TZNAME:PDT
DTSTART:20250309T100000
END:DAYLIGHT
BEGIN:STANDARD
TZOFFSETFROM:-0700
TZOFFSETTO:-0800
TZNAME:PST
DTSTART:20251102T090000
END:STANDARD
BEGIN:DAYLIGHT
TZOFFSETFROM:-0800
TZOFFSETTO:-0700
TZNAME:PDT
DTSTART:20260308T100000
END:DAYLIGHT
BEGIN:STANDARD
TZOFFSETFROM:-0700
TZOFFSETTO:-0800
TZNAME:PST
DTSTART:20261101T090000
END:STANDARD
END:VTIMEZONE
BEGIN:VEVENT
DTSTART;TZID=America/Los_Angeles:20251106T170000
DTEND;TZID=America/Los_Angeles:20251106T190000
DTSTAMP:20260423T040430
CREATED:20251022T002431Z
LAST-MODIFIED:20251022T002431Z
UID:10002280-1762448400-1762455600@powine.com
SUMMARY:Artist Reception for Marsinah Runge
DESCRIPTION:We welcome Marsinah Runge as the artist of the month. Please meet the artist\, take time to appreciate her work\, and enjoy a glass of wine with friends and community. 5-7:00pm \n 
URL:https://powine.com/event/artist-reception-for-marsinah-runge/
LOCATION:Pend d’Oreille Winery\, 301 Cedar Street\, Sandpoint\, ID\, United States
CATEGORIES:Artist Reception
END:VEVENT
BEGIN:VEVENT
DTSTART;TZID=America/Los_Angeles:20251105T160000
DTEND;TZID=America/Los_Angeles:20251105T190000
DTSTAMP:20260423T040430
CREATED:20251022T002011Z
LAST-MODIFIED:20251022T002011Z
UID:10002279-1762358400-1762369200@powine.com
SUMMARY:Piano with Dwayne Parsons
DESCRIPTION:Dwayne Parsons fills the winery with original songs on the grand piano.  Every performance is a musical story. 4-7:00pm.
URL:https://powine.com/event/piano-with-dwayne-parsons-29/
LOCATION:Pend d’Oreille Winery\, 301 Cedar Street\, Sandpoint\, ID\, United States
CATEGORIES:Music
END:VEVENT
BEGIN:VEVENT
DTSTART;TZID=America/Los_Angeles:20251104T170000
DTEND;TZID=America/Los_Angeles:20251104T190000
DTSTAMP:20260423T040430
CREATED:20251022T001905Z
LAST-MODIFIED:20251022T001905Z
UID:10002278-1762275600-1762282800@powine.com
SUMMARY:Acoustic Guitar with Jonathan Nicholson
DESCRIPTION:Join us for an evening of finger-style acoustic guitar and a glass of Merlot. 5-7:00pm
URL:https://powine.com/event/acoustic-guitar-with-jonathan-nicholson-4/
LOCATION:Pend d’Oreille Winery\, 301 Cedar Street\, Sandpoint\, ID\, United States
CATEGORIES:Music
END:VEVENT
BEGIN:VEVENT
DTSTART;TZID=America/Los_Angeles:20251102T130000
DTEND;TZID=America/Los_Angeles:20251102T150000
DTSTAMP:20260423T040430
CREATED:20251022T000543Z
LAST-MODIFIED:20251022T000543Z
UID:10002277-1762088400-1762095600@powine.com
SUMMARY:Piano with Rich and Jenny
DESCRIPTION:Rich and Jenny are a jazz duo with vocal accompaniment. 1-3:00pm.
URL:https://powine.com/event/piano-with-rich-and-jenny-3/
LOCATION:Pend d’Oreille Winery\, 301 Cedar Street\, Sandpoint\, ID\, United States
CATEGORIES:Music
END:VEVENT
BEGIN:VEVENT
DTSTART;TZID=America/Los_Angeles:20251101T170000
DTEND;TZID=America/Los_Angeles:20251101T200000
DTSTAMP:20260423T040430
CREATED:20251022T000409Z
LAST-MODIFIED:20251022T000409Z
UID:10002276-1762016400-1762027200@powine.com
SUMMARY:Live Music with Andru Gomez
DESCRIPTION:Singer-songwriter\, Andru Gomez\, delivers style and swagger with an Americana\, folk performance. 5-8:00pm.
URL:https://powine.com/event/live-music-with-andru-gomez-4/
LOCATION:Pend d’Oreille Winery\, 301 Cedar Street\, Sandpoint\, ID\, United States
CATEGORIES:Music
END:VEVENT
BEGIN:VEVENT
DTSTART;TZID=America/Los_Angeles:20251031T170000
DTEND;TZID=America/Los_Angeles:20251031T200000
DTSTAMP:20260423T040430
CREATED:20250926T204018Z
LAST-MODIFIED:20250926T204018Z
UID:10002271-1761930000-1761940800@powine.com
SUMMARY:Live Music with the Monarch Mountain Band
DESCRIPTION:Happy Halloween! Trick or treat at the winery and settle in for an evening of folk\, Americana\, and old country sound with the Monarch Mountain Band. 5-8:00pm
URL:https://powine.com/event/live-music-with-the-monarch-mountain-band-6/
LOCATION:Pend d’Oreille Winery\, 301 Cedar Street\, Sandpoint\, ID\, United States
CATEGORIES:Music
END:VEVENT
BEGIN:VEVENT
DTSTART;TZID=America/Los_Angeles:20251029T170000
DTEND;TZID=America/Los_Angeles:20251029T190000
DTSTAMP:20260423T040430
CREATED:20250926T203909Z
LAST-MODIFIED:20250926T203909Z
UID:10002270-1761757200-1761764400@powine.com
SUMMARY:Piano with David Speight
DESCRIPTION:Our own musician\, David Speight\, plays contemporary\, improvisational songs on the grand piano. Enjoy a glass of Sangiovese and relax to David’s sound. 5-7:00pm.
URL:https://powine.com/event/piano-with-david-speight-8/
LOCATION:Pend d’Oreille Winery\, 301 Cedar Street\, Sandpoint\, ID\, United States
CATEGORIES:Music
END:VEVENT
BEGIN:VEVENT
DTSTART;TZID=America/Los_Angeles:20251028T170000
DTEND;TZID=America/Los_Angeles:20251028T190000
DTSTAMP:20260423T040430
CREATED:20250926T203751Z
LAST-MODIFIED:20250926T203751Z
UID:10002269-1761670800-1761678000@powine.com
SUMMARY:Piano and vocals with Malachi
DESCRIPTION:Malachi returns with a soulful\, moving performance on the grand piano. Vocal accompaniment. 5-7:00pm.
URL:https://powine.com/event/piano-and-vocals-with-malachi-2/
LOCATION:Pend d’Oreille Winery\, 301 Cedar Street\, Sandpoint\, ID\, United States
CATEGORIES:Music
END:VEVENT
BEGIN:VEVENT
DTSTART;TZID=America/Los_Angeles:20251026T130000
DTEND;TZID=America/Los_Angeles:20251026T150000
DTSTAMP:20260423T040430
CREATED:20251007T211323Z
LAST-MODIFIED:20251007T211323Z
UID:10002274-1761483600-1761490800@powine.com
SUMMARY:Piano with Dwayne Parsons
DESCRIPTION:Original\, improvisational piano.  Enjoy an afternoon of musical storytelling. 1-3:00pm.
URL:https://powine.com/event/piano-with-dwayne-parsons-28/
LOCATION:Pend d’Oreille Winery\, 301 Cedar Street\, Sandpoint\, ID\, United States
CATEGORIES:Music
END:VEVENT
BEGIN:VEVENT
DTSTART;TZID=America/Los_Angeles:20251025T170000
DTEND;TZID=America/Los_Angeles:20251025T200000
DTSTAMP:20260423T040430
CREATED:20250926T203636Z
LAST-MODIFIED:20250926T203636Z
UID:10002268-1761411600-1761422400@powine.com
SUMMARY:Live Music with Oak Street Connection
DESCRIPTION:We welcome Oak Street Connection again for a night of lively\, something-for-everyone music. Oak Street Connection plays a creative variety of slow rock\, lounge\, jazz\, and groovy tunes. 5-8:00pm.
URL:https://powine.com/event/live-music-with-oak-street-connection-8/
LOCATION:Pend d’Oreille Winery\, 301 Cedar Street\, Sandpoint\, ID\, United States
CATEGORIES:Music
END:VEVENT
BEGIN:VEVENT
DTSTART;TZID=America/Los_Angeles:20251024T170000
DTEND;TZID=America/Los_Angeles:20251024T200000
DTSTAMP:20260423T040430
CREATED:20250926T203516Z
LAST-MODIFIED:20250926T204755Z
UID:10002267-1761325200-1761336000@powine.com
SUMMARY:Live Music with Nobody Famous
DESCRIPTION:Nobody Famous is an entertaining\, talented duo. A folksy feel to traditional favorites across the generations. 5-8:00pm.
URL:https://powine.com/event/live-music-with-nobody-famous-12/
LOCATION:Pend d’Oreille Winery\, 301 Cedar Street\, Sandpoint\, ID\, United States
CATEGORIES:Music
END:VEVENT
BEGIN:VEVENT
DTSTART;TZID=America/Los_Angeles:20251022T170000
DTEND;TZID=America/Los_Angeles:20251022T190000
DTSTAMP:20260423T040430
CREATED:20250926T203353Z
LAST-MODIFIED:20250926T203353Z
UID:10002266-1761152400-1761159600@powine.com
SUMMARY:Piano with Bob Beadling
DESCRIPTION:Bob Beadling plays from his soul as he creates an enchanting evening of music at the tasting room.  Contemporary tunes on the grand piano. 5-7:00pm.
URL:https://powine.com/event/piano-with-bob-beadling-21/
LOCATION:Pend d’Oreille Winery\, 301 Cedar Street\, Sandpoint\, ID\, United States
CATEGORIES:Music
END:VEVENT
BEGIN:VEVENT
DTSTART;TZID=America/Los_Angeles:20251021T170000
DTEND;TZID=America/Los_Angeles:20251021T190000
DTSTAMP:20260423T040430
CREATED:20250926T203144Z
LAST-MODIFIED:20250926T203144Z
UID:10002265-1761066000-1761073200@powine.com
SUMMARY:Acoustic Guitar with John Firshi
DESCRIPTION:John Firshi presents ambient\, acoustic guitar originals in continuous sound. John creates the most pleasant evening at the tasting room. 5-7:00pm.
URL:https://powine.com/event/acoustic-guitar-with-john-firshi-5/
LOCATION:Pend d’Oreille Winery\, 301 Cedar Street\, Sandpoint\, ID\, United States
END:VEVENT
BEGIN:VEVENT
DTSTART;TZID=America/Los_Angeles:20251019T130000
DTEND;TZID=America/Los_Angeles:20251019T150000
DTSTAMP:20260423T040430
CREATED:20251015T192351Z
LAST-MODIFIED:20251015T192351Z
UID:10002275-1760878800-1760886000@powine.com
SUMMARY:Piano with Peter Lucht
DESCRIPTION:Jazz and contemporary pianist. \n 
URL:https://powine.com/event/piano-with-peter-lucht-20/
LOCATION:Pend d’Oreille Winery\, 301 Cedar Street\, Sandpoint\, ID\, United States
CATEGORIES:Music
END:VEVENT
BEGIN:VEVENT
DTSTART;TZID=America/Los_Angeles:20251018T170000
DTEND;TZID=America/Los_Angeles:20251018T200000
DTSTAMP:20260423T040430
CREATED:20250926T203030Z
LAST-MODIFIED:20250926T203030Z
UID:10002264-1760806800-1760817600@powine.com
SUMMARY:Live Music with Tucker James
DESCRIPTION:Tucker James is a one-man instrumentalist and vocalist who creates a full band sound. Loop pedal entertainment. Pop\, blues\, rock. 5-8:00pm
URL:https://powine.com/event/live-music-with-tucker-james-2/
LOCATION:Pend d’Oreille Winery\, 301 Cedar Street\, Sandpoint\, ID\, United States
CATEGORIES:Music
END:VEVENT
BEGIN:VEVENT
DTSTART;TZID=America/Los_Angeles:20251017T170000
DTEND;TZID=America/Los_Angeles:20251017T200000
DTSTAMP:20260423T040430
CREATED:20250926T202909Z
LAST-MODIFIED:20250926T202909Z
UID:10002263-1760720400-1760731200@powine.com
SUMMARY:Live Music with Pamela Benton
DESCRIPTION:Pamela Benton returns with her electric violin and an evening of rock and country. Arrive early for a seat and an artisan pizza. 5-8:00pm.
URL:https://powine.com/event/live-music-with-pamela-benton-9/
LOCATION:Pend d’Oreille Winery\, 301 Cedar Street\, Sandpoint\, ID\, United States
CATEGORIES:Music
END:VEVENT
BEGIN:VEVENT
DTSTART;TZID=America/Los_Angeles:20251016T170000
DTEND;TZID=America/Los_Angeles:20251016T190000
DTSTAMP:20260423T040430
CREATED:20250926T202754Z
LAST-MODIFIED:20251015T192131Z
UID:10002262-1760634000-1760641200@powine.com
SUMMARY:Piano with Jennifer Stoehner
DESCRIPTION:Jennifer plays traditional\, inspirational\, and contemporary songs on the grand piano. Vocal accompaniment. 5-7:00pm.
URL:https://powine.com/event/piano-with-jennifer-stoehner-17/
LOCATION:Pend d’Oreille Winery\, 301 Cedar Street\, Sandpoint\, ID\, United States
CATEGORIES:Music
END:VEVENT
BEGIN:VEVENT
DTSTART;TZID=America/Los_Angeles:20251014T170000
DTEND;TZID=America/Los_Angeles:20251014T190000
DTSTAMP:20260423T040430
CREATED:20250926T202640Z
LAST-MODIFIED:20250926T202640Z
UID:10002261-1760461200-1760468400@powine.com
SUMMARY:Piano with Rich and Jenny
DESCRIPTION:Rich and Jenny are a piano jazz duo. Vocal accompaniment. 5-7:00pm.
URL:https://powine.com/event/piano-with-rich-and-jenny-2/
LOCATION:Pend d’Oreille Winery\, 301 Cedar Street\, Sandpoint\, ID\, United States
CATEGORIES:Music
END:VEVENT
BEGIN:VEVENT
DTSTART;TZID=America/Los_Angeles:20251012T130000
DTEND;TZID=America/Los_Angeles:20251012T150000
DTSTAMP:20260423T040430
CREATED:20251007T210508Z
LAST-MODIFIED:20251007T210508Z
UID:10002272-1760274000-1760281200@powine.com
SUMMARY:Piano with Jack Purdie
DESCRIPTION:Jazz and contemporary piano.  Enjoy pizza\, a glass of wine\, and a pleasant afternoon at the winery! 1-3:00pm
URL:https://powine.com/event/piano-with-jack-purdie-10/
LOCATION:Pend d’Oreille Winery\, 301 Cedar Street\, Sandpoint\, ID\, United States
CATEGORIES:Music
END:VEVENT
BEGIN:VEVENT
DTSTART;TZID=America/Los_Angeles:20251011T170000
DTEND;TZID=America/Los_Angeles:20251011T200000
DTSTAMP:20260423T040430
CREATED:20250925T222615Z
LAST-MODIFIED:20250925T222615Z
UID:10002260-1760202000-1760212800@powine.com
SUMMARY:Live Music with Mike Wagoner and Sadie Sicilia
DESCRIPTION:Father-Daughter duo\, Mike Wagoner and Sadie Sicilia\, fill the winery every time. Arrive early for a seat and stay for a night of rock and roll\, Americana\, and breathtaking vocals. 5-8:00pm.
URL:https://powine.com/event/live-music-with-mike-wagoner-and-sadie-sicilia-6/
LOCATION:Pend d’Oreille Winery\, 301 Cedar Street\, Sandpoint\, ID\, United States
CATEGORIES:Music
END:VEVENT
BEGIN:VEVENT
DTSTART;TZID=America/Los_Angeles:20251010T170000
DTEND;TZID=America/Los_Angeles:20251010T200000
DTSTAMP:20260423T040431
CREATED:20250925T221301Z
LAST-MODIFIED:20250930T214649Z
UID:10002259-1760115600-1760126400@powine.com
SUMMARY:Live Music with Wiebe Jammin'
DESCRIPTION:Nick Weibe\, of Wiebe Jammin\, is consistently creative\, energetic\, and a winery favorite! Weibe Jammin performs rock and pop songs with a loop pedal sound. 5-8:00pm.
URL:https://powine.com/event/live-music-with-wiebe-jammin-16/
LOCATION:Pend d’Oreille Winery\, 301 Cedar Street\, Sandpoint\, ID\, United States
CATEGORIES:Music
END:VEVENT
BEGIN:VEVENT
DTSTART;TZID=America/Los_Angeles:20251009T170000
DTEND;TZID=America/Los_Angeles:20251009T190000
DTSTAMP:20260423T040431
CREATED:20250925T221102Z
LAST-MODIFIED:20250925T221102Z
UID:10002258-1760029200-1760036400@powine.com
SUMMARY:Artist Reception for Kristina Ludwig with piano accompaniment
DESCRIPTION:Join us in supporting Kristina Ludwig\, our October artist of the month. Bring a friend and enjoy a glass of wine as you walk through the space and appreciate Kristina’s original sculptures designed from natural materials. Dwayne Parsons will accompany the art show with an evening of original songs on the grand piano. 5-7:00pm
URL:https://powine.com/event/artist-reception-for-kristina-ludwig-with-piano-accompaniment/
LOCATION:Pend d’Oreille Winery\, 301 Cedar Street\, Sandpoint\, ID\, United States
CATEGORIES:Artist Reception
END:VEVENT
BEGIN:VEVENT
DTSTART;TZID=America/Los_Angeles:20251008T170000
DTEND;TZID=America/Los_Angeles:20251008T190000
DTSTAMP:20260423T040431
CREATED:20250925T220830Z
LAST-MODIFIED:20250925T220905Z
UID:10002257-1759942800-1759950000@powine.com
SUMMARY:Piano with Peter Lucht
DESCRIPTION:Peter is pure talent\, presenting an evening of jazz and contemporary tunes on the grand piano. 5-7:00pm. \n 
URL:https://powine.com/event/piano-with-peter-lucht-19/
LOCATION:Pend d’Oreille Winery\, 301 Cedar Street\, Sandpoint\, ID\, United States
CATEGORIES:Music
END:VEVENT
BEGIN:VEVENT
DTSTART;TZID=America/Los_Angeles:20251007T170000
DTEND;TZID=America/Los_Angeles:20251007T190000
DTSTAMP:20260423T040431
CREATED:20250925T220712Z
LAST-MODIFIED:20250925T220712Z
UID:10002256-1759856400-1759863600@powine.com
SUMMARY:Acoustic Guitar with Jonathan Nicholson
DESCRIPTION:Jonathan is a solo\, finger-style acoustic guitarist. Enjoy a glass of Sangiovese and a pleasant evening of ambient guitar. 5-7:00pm.
URL:https://powine.com/event/acoustic-guitar-with-jonathan-nicholson-3/
LOCATION:Pend d’Oreille Winery\, 301 Cedar Street\, Sandpoint\, ID\, United States
CATEGORIES:Music
END:VEVENT
BEGIN:VEVENT
DTSTART;TZID=America/Los_Angeles:20251004T170000
DTEND;TZID=America/Los_Angeles:20251004T200000
DTSTAMP:20260423T040431
CREATED:20250925T220534Z
LAST-MODIFIED:20250925T220534Z
UID:10002255-1759597200-1759608000@powine.com
SUMMARY:Live Music with Ian Newbill
DESCRIPTION:Ian Newbill generates warm\, fun\, energy with rock\, indie\, and folk songs. 5-8:00pm.
URL:https://powine.com/event/live-music-with-ian-newbill-13/
LOCATION:Pend d’Oreille Winery\, 301 Cedar Street\, Sandpoint\, ID\, United States
CATEGORIES:Music
END:VEVENT
BEGIN:VEVENT
DTSTART;TZID=America/Los_Angeles:20251003T170000
DTEND;TZID=America/Los_Angeles:20251003T200000
DTSTAMP:20260423T040431
CREATED:20250925T220324Z
LAST-MODIFIED:20250925T220324Z
UID:10002254-1759510800-1759521600@powine.com
SUMMARY:Live Music with Ron Keiper Trio
DESCRIPTION:The Ron Keiper Trio presents refined\, classy jazz. 5-8:00pm
URL:https://powine.com/event/live-music-with-ron-keiper-trio-3/
LOCATION:Pend d’Oreille Winery\, 301 Cedar Street\, Sandpoint\, ID\, United States
CATEGORIES:Music
END:VEVENT
BEGIN:VEVENT
DTSTART;TZID=America/Los_Angeles:20251001T160000
DTEND;TZID=America/Los_Angeles:20251001T190000
DTSTAMP:20260423T040431
CREATED:20250925T220059Z
LAST-MODIFIED:20250925T220059Z
UID:10002253-1759334400-1759345200@powine.com
SUMMARY:Piano with Dwayne Parsons
DESCRIPTION:Dwayne Parsons fills the winery with original songs on the grand piano.  Every performance is a musical story. 4-7:00pm.
URL:https://powine.com/event/piano-with-dwayne-parsons-27/
LOCATION:Pend d’Oreille Winery\, 301 Cedar Street\, Sandpoint\, ID\, United States
CATEGORIES:Music
END:VEVENT
BEGIN:VEVENT
DTSTART;TZID=America/Los_Angeles:20250930T170000
DTEND;TZID=America/Los_Angeles:20250930T190000
DTSTAMP:20260423T040431
CREATED:20250829T205236Z
LAST-MODIFIED:20250829T205236Z
UID:10002251-1759251600-1759258800@powine.com
SUMMARY:Acoustic Guitar with John Firshi
DESCRIPTION:John Firshi takes us with him as he plays originals throughout a two-hour set.  John eases the room with his incredible talent. 5-7:00pm.
URL:https://powine.com/event/acoustic-guitar-with-john-firshi-4/
LOCATION:Pend d’Oreille Winery\, 301 Cedar Street\, Sandpoint\, ID\, United States
END:VEVENT
BEGIN:VEVENT
DTSTART;TZID=America/Los_Angeles:20250927T170000
DTEND;TZID=America/Los_Angeles:20250927T200000
DTSTAMP:20260423T040431
CREATED:20250829T205050Z
LAST-MODIFIED:20250829T205050Z
UID:10002250-1758992400-1759003200@powine.com
SUMMARY:Live Music with Kosh
DESCRIPTION:Kosh has an extensive musical background as he brings his experience\, style\, and full performance to the winery! Arrive early for a seat.  Rock\, pop\, soft rock. 5-8:00pm.
URL:https://powine.com/event/live-music-with-kosh-20/
LOCATION:Pend d’Oreille Winery\, 301 Cedar Street\, Sandpoint\, ID\, United States
CATEGORIES:Music
END:VEVENT
BEGIN:VEVENT
DTSTART;TZID=America/Los_Angeles:20250926T170000
DTEND;TZID=America/Los_Angeles:20250926T200000
DTSTAMP:20260423T040431
CREATED:20250829T204911Z
LAST-MODIFIED:20250829T204911Z
UID:10002249-1758906000-1758916800@powine.com
SUMMARY:Live Music with Suspicious PKG
DESCRIPTION:The Suspicious PKG Trio engages the crowd and keeps the room swaying to rock and pop favorites. 5-8:00pm.
URL:https://powine.com/event/live-music-with-suspicious-pkg-2/
LOCATION:Pend d’Oreille Winery\, 301 Cedar Street\, Sandpoint\, ID\, United States
CATEGORIES:Music
END:VEVENT
END:VCALENDAR