BEGIN:VCALENDAR
VERSION:2.0
PRODID:-//Pend Oreille Winery in Sandpoint, Idaho - ECPv6.15.20//NONSGML v1.0//EN
CALSCALE:GREGORIAN
METHOD:PUBLISH
X-ORIGINAL-URL:https://powine.com
X-WR-CALDESC:Events for Pend Oreille Winery in Sandpoint, Idaho
REFRESH-INTERVAL;VALUE=DURATION:PT1H
X-Robots-Tag:noindex
X-PUBLISHED-TTL:PT1H
BEGIN:VTIMEZONE
TZID:America/Los_Angeles
BEGIN:DAYLIGHT
TZOFFSETFROM:-0800
TZOFFSETTO:-0700
TZNAME:PDT
DTSTART:20200308T100000
END:DAYLIGHT
BEGIN:STANDARD
TZOFFSETFROM:-0700
TZOFFSETTO:-0800
TZNAME:PST
DTSTART:20201101T090000
END:STANDARD
BEGIN:DAYLIGHT
TZOFFSETFROM:-0800
TZOFFSETTO:-0700
TZNAME:PDT
DTSTART:20210314T100000
END:DAYLIGHT
BEGIN:STANDARD
TZOFFSETFROM:-0700
TZOFFSETTO:-0800
TZNAME:PST
DTSTART:20211107T090000
END:STANDARD
BEGIN:DAYLIGHT
TZOFFSETFROM:-0800
TZOFFSETTO:-0700
TZNAME:PDT
DTSTART:20220313T100000
END:DAYLIGHT
BEGIN:STANDARD
TZOFFSETFROM:-0700
TZOFFSETTO:-0800
TZNAME:PST
DTSTART:20221106T090000
END:STANDARD
END:VTIMEZONE
BEGIN:VEVENT
DTSTART;TZID=America/Los_Angeles:20210611T170000
DTEND;TZID=America/Los_Angeles:20210611T200000
DTSTAMP:20260424T012835
CREATED:20210512T215308Z
LAST-MODIFIED:20210512T215308Z
UID:10001540-1623430800-1623441600@powine.com
SUMMARY:Mike Wagoner Trio at the Pend d'Oreille Winery
DESCRIPTION:The wait is over! The Mike Wagoner Trio will be back at the Pend d’Oreille winery once again. It has been a long year + without many of our local favorites. Join us in welcoming back longtime winery favorites The Mike Wagoner Trio consisting of Mike Wagoner\, Utah John and Jack-O. Come early to get your seat. Music is from 5-8pm.
URL:https://powine.com/event/mike-wagoner-trio-at-the-pend-doreille-winery/
LOCATION:Pend d’Oreille Winery\, 301 Cedar Street\, Sandpoint\, ID\, United States
CATEGORIES:Music
END:VEVENT
BEGIN:VEVENT
DTSTART;TZID=America/Los_Angeles:20210612T170000
DTEND;TZID=America/Los_Angeles:20210612T200000
DTSTAMP:20260424T012835
CREATED:20210512T215904Z
LAST-MODIFIED:20210512T215904Z
UID:10001542-1623517200-1623528000@powine.com
SUMMARY:Daniel Hall at the Pend d'Oreille Winery
DESCRIPTION:Daniel Hall will display his talents on Saturday night playing an acoustic set ranging from rock\, folk\, pop and blues with all of your favorites from across the generations.  The songs you can sing or sway along to will have the tasting room a fun place to be on Saturday night.  Music is from 5-8pm
URL:https://powine.com/event/daniel-hall-at-the-pend-doreille-winery-2/
LOCATION:Pend d’Oreille Winery\, 301 Cedar Street\, Sandpoint\, ID\, United States
CATEGORIES:Music
END:VEVENT
BEGIN:VEVENT
DTSTART;TZID=America/Los_Angeles:20210613T150000
DTEND;TZID=America/Los_Angeles:20210613T170000
DTSTAMP:20260424T012835
CREATED:20210607T171631Z
LAST-MODIFIED:20210607T171631Z
UID:10001272-1623596400-1623603600@powine.com
SUMMARY:Sunday Music Sessions with Cellist Bianca Prado
DESCRIPTION:This summer we are starting Sunday Music Sessions with a rotation of solo musicians each Sunday afternoon offering a variety of Sunday entertainment.  This Sunday we will be able to enjoy the beautiful music from cellist Bianca Prado\, Instructor/Head of the Cello Program at the Suzuki String Academy\, here in Sandpoint\, Idaho.  She will be mixing in some classical music\, movie soundtracks\, Brazilian Bossa Nova\, and some other pop/rock songs to add some variety. Please join us for a lovely afternoon and enjoy a glass a refreshing Bistro Blanc our wine of the month.  Stick around for BINGO! \n \n 
URL:https://powine.com/event/sunday-music-sessions-with-cellist-bianca-prado/
LOCATION:Pend d’Oreille Winery\, 301 Cedar Street\, Sandpoint\, ID\, United States
CATEGORIES:Music
END:VEVENT
BEGIN:VEVENT
DTSTART;TZID=America/Los_Angeles:20210613T180000
DTEND;TZID=America/Los_Angeles:20210613T193000
DTSTAMP:20260424T012835
CREATED:20210414T223117Z
LAST-MODIFIED:20210414T223117Z
UID:10001546-1623607200-1623612600@powine.com
SUMMARY:BINGO at the Pend d'Oreille Winery
DESCRIPTION:BINGO!:  Join us for interactive Bingo from 6-7:30.  Bring a group of friends\, order dinner and wine\, and win prizes! \nBingo (5)
URL:https://powine.com/event/bingo-at-the-pend-doreille-winery-2/
LOCATION:Pend d’Oreille Winery\, 301 Cedar Street\, Sandpoint\, ID\, United States
CATEGORIES:Bingo
END:VEVENT
BEGIN:VEVENT
DTSTART;TZID=America/Los_Angeles:20210615T173000
DTEND;TZID=America/Los_Angeles:20210615T193000
DTSTAMP:20260424T012835
CREATED:20210607T172537Z
LAST-MODIFIED:20210607T172537Z
UID:10001273-1623778200-1623785400@powine.com
SUMMARY:Paint & Sip with Holly Walker
DESCRIPTION:We welcome you to a fun evening of creativity at our June Paint & Sip. Holly Walker will be back hosting this month’s Paint & Sip on June 15th. The class is from 5:30-7:30 and includes supplies\, instruction and a glass of house red or house white wine. $35+ tax per person. This class is sure to fill up fast\, call to sign up today! 208.265.8545
URL:https://powine.com/event/paint-sip-with-holly-walker/
LOCATION:Pend d’Oreille Winery\, 301 Cedar Street\, Sandpoint\, ID\, United States
CATEGORIES:Sip and Paint
END:VEVENT
END:VCALENDAR