BEGIN:VCALENDAR
VERSION:2.0
PRODID:-//Pend Oreille Winery in Sandpoint, Idaho - ECPv6.15.20//NONSGML v1.0//EN
CALSCALE:GREGORIAN
METHOD:PUBLISH
X-ORIGINAL-URL:https://powine.com
X-WR-CALDESC:Events for Pend Oreille Winery in Sandpoint, Idaho
REFRESH-INTERVAL;VALUE=DURATION:PT1H
X-Robots-Tag:noindex
X-PUBLISHED-TTL:PT1H
BEGIN:VTIMEZONE
TZID:America/Los_Angeles
BEGIN:DAYLIGHT
TZOFFSETFROM:-0800
TZOFFSETTO:-0700
TZNAME:PDT
DTSTART:20200308T100000
END:DAYLIGHT
BEGIN:STANDARD
TZOFFSETFROM:-0700
TZOFFSETTO:-0800
TZNAME:PST
DTSTART:20201101T090000
END:STANDARD
BEGIN:DAYLIGHT
TZOFFSETFROM:-0800
TZOFFSETTO:-0700
TZNAME:PDT
DTSTART:20210314T100000
END:DAYLIGHT
BEGIN:STANDARD
TZOFFSETFROM:-0700
TZOFFSETTO:-0800
TZNAME:PST
DTSTART:20211107T090000
END:STANDARD
BEGIN:DAYLIGHT
TZOFFSETFROM:-0800
TZOFFSETTO:-0700
TZNAME:PDT
DTSTART:20220313T100000
END:DAYLIGHT
BEGIN:STANDARD
TZOFFSETFROM:-0700
TZOFFSETTO:-0800
TZNAME:PST
DTSTART:20221106T090000
END:STANDARD
END:VTIMEZONE
BEGIN:VEVENT
DTSTART;TZID=America/Los_Angeles:20210820T080000
DTEND;TZID=America/Los_Angeles:20210820T170000
DTSTAMP:20260423T182801
CREATED:20210820T200411Z
LAST-MODIFIED:20210820T200411Z
UID:10001277-1629446400-1629478800@powine.com
SUMMARY:Brian Jacobs & Chris Lynch at the Pend d'Oreille Winery
DESCRIPTION:Brian Jacobs and Chris Lynch always bring an amazing performance to the Pend d’Oreille Winery. With Brian playing guitar and Chris on the Keyboard this combo of talent is sure to be a crowd pleaser. \n 
URL:https://powine.com/event/brian-jacobs-chris-lynch-at-the-pend-doreille-winery/
LOCATION:Pend d’Oreille Winery\, 301 Cedar Street\, Sandpoint\, ID\, United States
CATEGORIES:Music
END:VEVENT
BEGIN:VEVENT
DTSTART;TZID=America/Los_Angeles:20210821T170000
DTEND;TZID=America/Los_Angeles:20210821T200000
DTSTAMP:20260423T182801
CREATED:20210820T201115Z
LAST-MODIFIED:20210820T201115Z
UID:10001279-1629565200-1629576000@powine.com
SUMMARY:KOSH at the Pend d'Oreille Winery
DESCRIPTION:KOSH has become a favorite here and the winery he is a solo performer not to miss. Enjoy his Rock and Pop music from across generations. Come early for a seat and a glass of wine! \n 
URL:https://powine.com/event/kosh-at-the-pend-doreille-winery-3/
LOCATION:Pend d’Oreille Winery\, 301 Cedar Street\, Sandpoint\, ID\, United States
CATEGORIES:Music
END:VEVENT
END:VCALENDAR