BEGIN:VCALENDAR
VERSION:2.0
PRODID:-//Pend Oreille Winery in Sandpoint, Idaho - ECPv6.15.20//NONSGML v1.0//EN
CALSCALE:GREGORIAN
METHOD:PUBLISH
X-WR-CALNAME:Pend Oreille Winery in Sandpoint, Idaho
X-ORIGINAL-URL:https://powine.com
X-WR-CALDESC:Events for Pend Oreille Winery in Sandpoint, Idaho
REFRESH-INTERVAL;VALUE=DURATION:PT1H
X-Robots-Tag:noindex
X-PUBLISHED-TTL:PT1H
BEGIN:VTIMEZONE
TZID:America/Los_Angeles
BEGIN:DAYLIGHT
TZOFFSETFROM:-0800
TZOFFSETTO:-0700
TZNAME:PDT
DTSTART:20200308T100000
END:DAYLIGHT
BEGIN:STANDARD
TZOFFSETFROM:-0700
TZOFFSETTO:-0800
TZNAME:PST
DTSTART:20201101T090000
END:STANDARD
BEGIN:DAYLIGHT
TZOFFSETFROM:-0800
TZOFFSETTO:-0700
TZNAME:PDT
DTSTART:20210314T100000
END:DAYLIGHT
BEGIN:STANDARD
TZOFFSETFROM:-0700
TZOFFSETTO:-0800
TZNAME:PST
DTSTART:20211107T090000
END:STANDARD
BEGIN:DAYLIGHT
TZOFFSETFROM:-0800
TZOFFSETTO:-0700
TZNAME:PDT
DTSTART:20220313T100000
END:DAYLIGHT
BEGIN:STANDARD
TZOFFSETFROM:-0700
TZOFFSETTO:-0800
TZNAME:PST
DTSTART:20221106T090000
END:STANDARD
END:VTIMEZONE
BEGIN:VEVENT
DTSTART;TZID=America/Los_Angeles:20210904T170000
DTEND;TZID=America/Los_Angeles:20210904T200000
DTSTAMP:20260421T171640
CREATED:20210903T165942Z
LAST-MODIFIED:20210903T165942Z
UID:10001281-1630774800-1630785600@powine.com
SUMMARY:Sadie Sicilia and Mike Wagoner
DESCRIPTION:A show not to miss! Sadie and Mike a favorite Father Daughter duo is coming back to the Winery. This will be a packed night so arrive early for a seat and enjoy a glass of Syrah\, our September Wine of the Month.
URL:https://powine.com/event/sadie-sicilia-and-mike-wagoner/
LOCATION:Pend d’Oreille Winery\, 301 Cedar Street\, Sandpoint\, ID\, United States
CATEGORIES:Music
END:VEVENT
BEGIN:VEVENT
DTSTART;TZID=America/Los_Angeles:20210924T170000
DTEND;TZID=America/Los_Angeles:20210924T200000
DTSTAMP:20260421T171640
CREATED:20210924T194700Z
LAST-MODIFIED:20210924T194700Z
UID:10001283-1632502800-1632513600@powine.com
SUMMARY:Brad Keeler at the Pend d'Oreille Winery
DESCRIPTION:From the former band Fancee That! Brad Keeler will be playing all of the favorites. With jammin’ acoustics and a great voice he will have everyone swaying with the songs and enjoying an evening of wine and entertainment.
URL:https://powine.com/event/brad-keeler-at-the-pend-doreille-winery-2/
LOCATION:Pend d’Oreille Winery\, 301 Cedar Street\, Sandpoint\, ID\, United States
CATEGORIES:Music
END:VEVENT
BEGIN:VEVENT
DTSTART;TZID=America/Los_Angeles:20210928T080000
DTEND;TZID=America/Los_Angeles:20210928T170000
DTSTAMP:20260421T171640
CREATED:20210929T012123Z
LAST-MODIFIED:20210929T012123Z
UID:10001548-1632816000-1632848400@powine.com
SUMMARY:Ponderay Paradox at the Pend d'Oreille Winery
DESCRIPTION:Blending together Acoustic Folk\, Rock\, Blues and more this locally based duo performing their first time at the Pend d’Oreille Winery will have you swaying in your seats.  Fun\, entertaining and talented\, come early to grab your seat!
URL:https://powine.com/event/ponderay-paradox-at-the-pend-doreille-winery/
LOCATION:ID
CATEGORIES:Music
END:VEVENT
BEGIN:VEVENT
DTSTART;TZID=America/Los_Angeles:20210928T170000
DTEND;TZID=America/Los_Angeles:20210928T200000
DTSTAMP:20260421T171640
CREATED:20210929T010141Z
LAST-MODIFIED:20210929T010141Z
UID:10001287-1632848400-1632859200@powine.com
SUMMARY:Ben Vogel at the Pend d'Oreille Winery
DESCRIPTION:Ben Vogel will be playing a mixture of Rock with a little bit of Pop mixed in. . Always in search of the ideal pop song\, Ben walks an incredibly fine line; sophisticated but never pretentious\, precise but never overproduced\, familiar but never derivative. Come enjoy!
URL:https://powine.com/event/ben-vogel-at-the-pend-doreille-winery-2/
LOCATION:Pend d’Oreille Winery\, 301 Cedar Street\, Sandpoint\, ID\, United States
CATEGORIES:Music
END:VEVENT
END:VCALENDAR