BEGIN:VCALENDAR
VERSION:2.0
PRODID:-//Pend Oreille Winery in Sandpoint, Idaho - ECPv6.15.20//NONSGML v1.0//EN
CALSCALE:GREGORIAN
METHOD:PUBLISH
X-ORIGINAL-URL:https://powine.com
X-WR-CALDESC:Events for Pend Oreille Winery in Sandpoint, Idaho
REFRESH-INTERVAL;VALUE=DURATION:PT1H
X-Robots-Tag:noindex
X-PUBLISHED-TTL:PT1H
BEGIN:VTIMEZONE
TZID:America/Los_Angeles
BEGIN:DAYLIGHT
TZOFFSETFROM:-0800
TZOFFSETTO:-0700
TZNAME:PDT
DTSTART:20200308T100000
END:DAYLIGHT
BEGIN:STANDARD
TZOFFSETFROM:-0700
TZOFFSETTO:-0800
TZNAME:PST
DTSTART:20201101T090000
END:STANDARD
BEGIN:DAYLIGHT
TZOFFSETFROM:-0800
TZOFFSETTO:-0700
TZNAME:PDT
DTSTART:20210314T100000
END:DAYLIGHT
BEGIN:STANDARD
TZOFFSETFROM:-0700
TZOFFSETTO:-0800
TZNAME:PST
DTSTART:20211107T090000
END:STANDARD
BEGIN:DAYLIGHT
TZOFFSETFROM:-0800
TZOFFSETTO:-0700
TZNAME:PDT
DTSTART:20220313T100000
END:DAYLIGHT
BEGIN:STANDARD
TZOFFSETFROM:-0700
TZOFFSETTO:-0800
TZNAME:PST
DTSTART:20221106T090000
END:STANDARD
END:VTIMEZONE
BEGIN:VEVENT
DTSTART;TZID=America/Los_Angeles:20211105T160000
DTEND;TZID=America/Los_Angeles:20211105T190000
DTSTAMP:20260421T082131
CREATED:20211022T211614Z
LAST-MODIFIED:20211022T211614Z
UID:10001563-1636128000-1636138800@powine.com
SUMMARY:Artist Reception for Jim Howard and Lori Salisbury
DESCRIPTION:Join us in welcoming Jim Howard and Lori Salisbury as our November Artists of the Month.\nMeet the artists\, enjoy a glass of wine and appetizers\, and take a moment to appreciate their\ncomplex\, diverse pieces. \n 
URL:https://powine.com/event/artist-reception-for-jim-howard-and-lori-salisbury/
LOCATION:ID
CATEGORIES:Artist Reception
END:VEVENT
BEGIN:VEVENT
DTSTART;TZID=America/Los_Angeles:20211105T170000
DTEND;TZID=America/Los_Angeles:20211105T200000
DTSTAMP:20260421T082131
CREATED:20211022T210302Z
LAST-MODIFIED:20211022T210302Z
UID:10001562-1636131600-1636142400@powine.com
SUMMARY:Live Music with Steve Rush and Scott Taylor
DESCRIPTION:Steve Rush and Scott Taylor will be jammin’ at the Winery on Friday night! This duo combines\nguitar harmonies\, banjo\, and multiple instruments! An entertaining night not to miss! Arrive\nearly for a seat and glass of 2019 Bistro Rouge. \n 
URL:https://powine.com/event/live-music-with-steve-rush-and-scott-taylor/
LOCATION:ID
CATEGORIES:Music
END:VEVENT
BEGIN:VEVENT
DTSTART;TZID=America/Los_Angeles:20211106T170000
DTEND;TZID=America/Los_Angeles:20211106T200000
DTSTAMP:20260421T082131
CREATED:20211022T212456Z
LAST-MODIFIED:20211022T212456Z
UID:10001564-1636218000-1636228800@powine.com
SUMMARY:Live Music with Daniel Hall
DESCRIPTION:Daniel Hall is an extremely talented performer. With his guitar by his side he can play about any classic rock tune you can imagine. Join us for wine\, pizza\, and fun on Saturday. Free and Open to the Public. \n 
URL:https://powine.com/event/live-music-with-daniel-hall/
LOCATION:ID
CATEGORIES:Music
END:VEVENT
BEGIN:VEVENT
DTSTART;TZID=America/Los_Angeles:20211109T173000
DTEND;TZID=America/Los_Angeles:20211109T193000
DTSTAMP:20260421T082131
CREATED:20211022T213040Z
LAST-MODIFIED:20211022T213040Z
UID:10001566-1636479000-1636486200@powine.com
SUMMARY:Paint and Sip with Lori Salisbury
DESCRIPTION:We welcome you to a fun evening of creativity at our November Paint & Sip. Lori Salisbury\, one of our featured artists for November\,  will be hosting this month’s Paint & Sip on the 9th. The class includes supplies\, instruction and a glass of house red or house white wine. $45+ tax per person. This class is sure to fill up fast\, call to sign up today! 208.265.8545 \n  \n \n 
URL:https://powine.com/event/paint-and-sip-with-lori-salisbury-2/
LOCATION:ID
CATEGORIES:Sip and Paint
END:VEVENT
BEGIN:VEVENT
DTSTART;TZID=America/Los_Angeles:20211112T170000
DTEND;TZID=America/Los_Angeles:20211112T200000
DTSTAMP:20260421T082131
CREATED:20211022T213431Z
LAST-MODIFIED:20211022T213431Z
UID:10001568-1636736400-1636747200@powine.com
SUMMARY:Live Music with Truck Mills and Global Gumbo
DESCRIPTION:Truck Mills is a creative\, exciting musician and instrumentalist. Truck’s music has been described as “Afro-Latin influenced barrelhouse blues being played by Irish immigrants in a Turkish restaurant on Bourbon Street.” Join us to listen to Truck Mills with special guests\, Global Gumbo. 
URL:https://powine.com/event/live-music-with-truck-mills-and-global-gumbo/
LOCATION:ID
CATEGORIES:Music
END:VEVENT
BEGIN:VEVENT
DTSTART;TZID=America/Los_Angeles:20211113T170000
DTEND;TZID=America/Los_Angeles:20211113T200000
DTSTAMP:20260421T082131
CREATED:20211022T213648Z
LAST-MODIFIED:20211022T213648Z
UID:10001570-1636822800-1636833600@powine.com
SUMMARY:Live Music with Maya and Alex
DESCRIPTION:Maya and Alex met only a year ago\, and have been performing consistently together since. The duo’s strength lies in their luscious harmonies and opposing natures. Maya writes original music with a whimsical yet powerful feel while Alex is a force of nature that lures the audience in with her voice and theatric presence. The unsuspecting duo has grown immensely this year and looks forward to reaching greater audiences as well as incorporating a rhythm section into upcoming gigs.
URL:https://powine.com/event/live-music-with-pamela-benton/
LOCATION:ID
CATEGORIES:Music
END:VEVENT
BEGIN:VEVENT
DTSTART;TZID=America/Los_Angeles:20211118T160000
DTEND;TZID=America/Los_Angeles:20211118T190000
DTSTAMP:20260421T082131
CREATED:20211022T213953Z
LAST-MODIFIED:20211022T213953Z
UID:10001572-1637251200-1637262000@powine.com
SUMMARY:CASA Annual Purse Party
DESCRIPTION:Join us for our annual Purse Party- a favorite way to support CASA (Court Appointed Special Advocate) for the ladies of Bonner County. Want to DONATE slightly loved handbags to this event? Look for Purse Drop locations around town. All proceeds go to our Bonner County CASA association.
URL:https://powine.com/event/casa-annual-purse-party/
LOCATION:ID
CATEGORIES:Fundraiser
END:VEVENT
BEGIN:VEVENT
DTSTART;TZID=America/Los_Angeles:20211119T170000
DTEND;TZID=America/Los_Angeles:20211119T200000
DTSTAMP:20260421T082131
CREATED:20211022T214303Z
LAST-MODIFIED:20211022T214303Z
UID:10001589-1637341200-1637352000@powine.com
SUMMARY:Live Music with Okay Honey Duo
DESCRIPTION:Okay\, Honey is an alternative folk duo consisting of guitar\, fiddle and dynamic harmonies.  Enjoy a glass of Friday night wine and great music! 
URL:https://powine.com/event/live-music-with-okay-honey-duo/
LOCATION:ID
CATEGORIES:Music
END:VEVENT
BEGIN:VEVENT
DTSTART;TZID=America/Los_Angeles:20211120T170000
DTEND;TZID=America/Los_Angeles:20211120T200000
DTSTAMP:20260421T082131
CREATED:20211022T214447Z
LAST-MODIFIED:20211022T214447Z
UID:10001590-1637427600-1637438400@powine.com
SUMMARY:Live Music with Son of Brad
DESCRIPTION:At live engagements Son Of Brad performs hundreds of favorites from every decade\, including the hits of the 1950s to present\, peppering in original songs. He utilizes the guitar with a vocabulary honed by decades of study\, discipline\, and professional experience. This will be a night not to miss!
URL:https://powine.com/event/live-music-with-son-of-brad/
LOCATION:ID
CATEGORIES:Music
END:VEVENT
BEGIN:VEVENT
DTSTART;TZID=America/Los_Angeles:20211126T170000
DTEND;TZID=America/Los_Angeles:20211126T200000
DTSTAMP:20260421T082131
CREATED:20211022T214642Z
LAST-MODIFIED:20211022T214642Z
UID:10001591-1637946000-1637956800@powine.com
SUMMARY:Live Music with Bright Moments Trio
DESCRIPTION:The Bright Moments trio will be back at the Pend d’Oreille Winery on Friday night. Enjoy good friends\, fun music\, and great wines! The trio will be playing a mix of jazz and easy listening. Free and Open to the public. 
URL:https://powine.com/event/live-music-with-bright-moments-trio/
LOCATION:ID
CATEGORIES:Music
END:VEVENT
BEGIN:VEVENT
DTSTART;TZID=America/Los_Angeles:20211127T170000
DTEND;TZID=America/Los_Angeles:20211127T200000
DTSTAMP:20260421T082131
CREATED:20211022T214811Z
LAST-MODIFIED:20211022T214811Z
UID:10001592-1638032400-1638043200@powine.com
SUMMARY:Live Music with Kosh
DESCRIPTION:KOSH has become a favorite at the winery. Enjoy his contemporary and classic  music from across generations.  Kosh is an acoustic vocalist/soloist with an enchanting style. Come early for a seat and a glass of Bistro Rouge! You don’t want to miss this evening of music!
URL:https://powine.com/event/live-music-with-kosh/
LOCATION:ID
CATEGORIES:Music
END:VEVENT
END:VCALENDAR