BEGIN:VCALENDAR
VERSION:2.0
PRODID:-//Pend Oreille Winery in Sandpoint, Idaho - ECPv6.15.20//NONSGML v1.0//EN
CALSCALE:GREGORIAN
METHOD:PUBLISH
X-WR-CALNAME:Pend Oreille Winery in Sandpoint, Idaho
X-ORIGINAL-URL:https://powine.com
X-WR-CALDESC:Events for Pend Oreille Winery in Sandpoint, Idaho
REFRESH-INTERVAL;VALUE=DURATION:PT1H
X-Robots-Tag:noindex
X-PUBLISHED-TTL:PT1H
BEGIN:VTIMEZONE
TZID:America/Los_Angeles
BEGIN:DAYLIGHT
TZOFFSETFROM:-0800
TZOFFSETTO:-0700
TZNAME:PDT
DTSTART:20200308T100000
END:DAYLIGHT
BEGIN:STANDARD
TZOFFSETFROM:-0700
TZOFFSETTO:-0800
TZNAME:PST
DTSTART:20201101T090000
END:STANDARD
BEGIN:DAYLIGHT
TZOFFSETFROM:-0800
TZOFFSETTO:-0700
TZNAME:PDT
DTSTART:20210314T100000
END:DAYLIGHT
BEGIN:STANDARD
TZOFFSETFROM:-0700
TZOFFSETTO:-0800
TZNAME:PST
DTSTART:20211107T090000
END:STANDARD
BEGIN:DAYLIGHT
TZOFFSETFROM:-0800
TZOFFSETTO:-0700
TZNAME:PDT
DTSTART:20220313T100000
END:DAYLIGHT
BEGIN:STANDARD
TZOFFSETFROM:-0700
TZOFFSETTO:-0800
TZNAME:PST
DTSTART:20221106T090000
END:STANDARD
END:VTIMEZONE
BEGIN:VEVENT
DTSTART;TZID=America/Los_Angeles:20211203T160000
DTEND;TZID=America/Los_Angeles:20211203T190000
DTSTAMP:20260419T103824
CREATED:20211120T213251Z
LAST-MODIFIED:20211120T213251Z
UID:10001594-1638547200-1638558000@powine.com
SUMMARY:Artist Reception for Lynne Campbell and Ladies Night!
DESCRIPTION:Join us in welcoming Lynne Campbell as our December Artist of the Month. Meet with Lynne\nand take a moment to appreciate her photographs and giclee prints on canvas. This will be a\nfun evening of lovely art and holiday spirit as Sandpoint Shopping District hosts Ladies Night!\nExplore our unique gifts and receive 15% for Ladies Night. Pizza and wine specials as well.
URL:https://powine.com/event/artist-reception-for-lynne-campbell-and-ladies-night/
LOCATION:ID
CATEGORIES:Artist Reception
END:VEVENT
BEGIN:VEVENT
DTSTART;TZID=America/Los_Angeles:20211203T170000
DTEND;TZID=America/Los_Angeles:20211203T200000
DTSTAMP:20260419T103824
CREATED:20211120T212311Z
LAST-MODIFIED:20211120T212311Z
UID:10001593-1638550800-1638561600@powine.com
SUMMARY:Live Music with Zach Simms
DESCRIPTION:Hailing from Kansas City and one of Idaho’s new musical residents\, Zachary Simms is a\nsinger/songwriter with over 20 years of experience creating melodic folk rock\, pulling\ninspiration from classic to modern artists.
URL:https://powine.com/event/live-music-with-zach-simms/
LOCATION:ID
CATEGORIES:Music
END:VEVENT
BEGIN:VEVENT
DTSTART;TZID=America/Los_Angeles:20211204T170000
DTEND;TZID=America/Los_Angeles:20211204T200000
DTSTAMP:20260419T103824
CREATED:20211120T213617Z
LAST-MODIFIED:20211120T213617Z
UID:10001595-1638637200-1638648000@powine.com
SUMMARY:Live Music with Justin Lantrip
DESCRIPTION:We are thrilled to welcome back Justin Lantrip to the Pend d’Oreille Winery.  Justin is a deeply talented singer-songwriter.  He plays his original works as well as familiar indie/alternative songs. Arrive early for a seat and a glass of Cabernet Sauvignon. 
URL:https://powine.com/event/live-music-with-justin-lantrip/
LOCATION:ID
CATEGORIES:Music
END:VEVENT
BEGIN:VEVENT
DTSTART;TZID=America/Los_Angeles:20211207T173000
DTEND;TZID=America/Los_Angeles:20211207T193000
DTSTAMP:20260419T103824
CREATED:20211120T213817Z
LAST-MODIFIED:20211120T213817Z
UID:10001596-1638898200-1638905400@powine.com
SUMMARY:Paint and Sip with Lori Salisbury
DESCRIPTION:We welcome you to a fun evening of creativity at our December Paint & Sip. Lori Salisbury returns to paint a cozy winter cabin scene with you.  The class includes supplies\, instruction and a glass of house red or house white wine. $45+ tax per person. This class is sure to fill up fast\, call to sign up today! 208.265.8545
URL:https://powine.com/event/paint-and-sip-with-lori-salisbury-3/
LOCATION:ID
CATEGORIES:Sip and Paint
END:VEVENT
BEGIN:VEVENT
DTSTART;TZID=America/Los_Angeles:20211210T170000
DTEND;TZID=America/Los_Angeles:20211210T200000
DTSTAMP:20260419T103824
CREATED:20211120T214015Z
LAST-MODIFIED:20211120T214015Z
UID:10001597-1639155600-1639166400@powine.com
SUMMARY:Live Music with Mike Wagoner Duo
DESCRIPTION:Mike Wagoner packs the house! Mike has an unforgettable voice and style as he plays our favorites in new ways. You will want to sit close or dance to classic rock tunes and familiar folk songs. These are the songs you feel. \nMike Wagoner
URL:https://powine.com/event/live-music-with-mike-wagoner-duo/
LOCATION:ID
CATEGORIES:Music
END:VEVENT
BEGIN:VEVENT
DTSTART;TZID=America/Los_Angeles:20211211T170000
DTEND;TZID=America/Los_Angeles:20211211T200000
DTSTAMP:20260419T103824
CREATED:20211120T214532Z
LAST-MODIFIED:20211120T214532Z
UID:10001598-1639242000-1639252800@powine.com
SUMMARY:Live Music with Jason Evans
DESCRIPTION:Jason Garrett Evans brings the soul to the Pend d’Oreille Winery.  We are excited to welcome Jason as he performs passionate\, complex soul-hop blends\, harmonious and rich.
URL:https://powine.com/event/live-music-with-jason-evans/
LOCATION:ID
CATEGORIES:Music
END:VEVENT
BEGIN:VEVENT
DTSTART;TZID=America/Los_Angeles:20211215T150000
DTEND;TZID=America/Los_Angeles:20211215T173000
DTSTAMP:20260419T103824
CREATED:20211120T214733Z
LAST-MODIFIED:20211120T214733Z
UID:10001300-1639580400-1639589400@powine.com
SUMMARY:Piano Music with Dwayne Parsons
DESCRIPTION:Join us for an afternoon of music on the Grand Piano played by Dwayne Parsons. Dwayne tells a story through the piano keys as he introduces us to his original songs.  This is the perfect way to get into the holiday spirit. Stay for a glass of wine and dinner! 
URL:https://powine.com/event/piano-music-with-dwayne-parsons/
LOCATION:ID
CATEGORIES:Music
END:VEVENT
BEGIN:VEVENT
DTSTART;TZID=America/Los_Angeles:20211217T170000
DTEND;TZID=America/Los_Angeles:20211217T200000
DTSTAMP:20260419T103824
CREATED:20211120T214900Z
LAST-MODIFIED:20211120T214900Z
UID:10001302-1639760400-1639771200@powine.com
SUMMARY:Live Music with Bright Moments
DESCRIPTION:The Bright Moments trio will be back at the Pend d’Oreille Winery on Friday night. Enjoy good friends\, fun music\, and great wines! The trio will be playing a mix of jazz and easy listening. Free and Open to the public. 
URL:https://powine.com/event/live-music-with-bright-moments/
LOCATION:ID
CATEGORIES:Music
END:VEVENT
BEGIN:VEVENT
DTSTART;TZID=America/Los_Angeles:20211218T170000
DTEND;TZID=America/Los_Angeles:20211218T200000
DTSTAMP:20260419T103824
CREATED:20211120T215023Z
LAST-MODIFIED:20211120T215023Z
UID:10001304-1639846800-1639857600@powine.com
SUMMARY:Live Music with Nick Wiebe
DESCRIPTION:Wiebe Jammin is passionate about arranging music & performing songs that appeal to a wide range of listening tastes. Nick blends a unique mix of musical flavors with the skillful use of the acoustic guitar & loop pedal for a full-sound live music experience. Welcome back to the Winery Weibe Jammin! \nNick Wiebe
URL:https://powine.com/event/live-music-with-nick-wiebe/
LOCATION:ID
CATEGORIES:Music
END:VEVENT
BEGIN:VEVENT
DTSTART;TZID=America/Los_Angeles:20211223T120000
DTEND;TZID=America/Los_Angeles:20211223T200000
DTSTAMP:20260419T103824
CREATED:20211120T215901Z
LAST-MODIFIED:20211120T215901Z
UID:10001306-1640260800-1640289600@powine.com
SUMMARY:Are you Yeti for Christmas?
DESCRIPTION:Join us for mulled wine and cookies as you finish your last minute shopping.  15% off retail items. We will put together festive boxes of wine and Christmas Cheer! \n 
URL:https://powine.com/event/are-you-yeti-for-christmas/
LOCATION:ID
END:VEVENT
BEGIN:VEVENT
DTSTART;TZID=America/Los_Angeles:20211224T120000
DTEND;TZID=America/Los_Angeles:20211224T150000
DTSTAMP:20260419T103824
CREATED:20211120T220056Z
LAST-MODIFIED:20211120T220056Z
UID:10001308-1640347200-1640358000@powine.com
SUMMARY:Closing Early for Christmas Eve
DESCRIPTION:Get your holiday wine early. We will be closing at 3:00pm on Christmas Eve.
URL:https://powine.com/event/closing-early-for-christmas-eve/
LOCATION:ID
END:VEVENT
BEGIN:VEVENT
DTSTART;TZID=America/Los_Angeles:20211231T080000
DTEND;TZID=America/Los_Angeles:20211231T170000
DTSTAMP:20260419T103824
CREATED:20220101T011258Z
LAST-MODIFIED:20220101T011258Z
UID:10001600-1640937600-1640970000@powine.com
SUMMARY:Paint and Sip with Nicole Black
DESCRIPTION:We welcome you to a fun evening of creativity at our January Paint & Sip. Nicole Black returns\nto paint a warm island scene with you\, layered in color and detail. The class is from 5:30-\n7:30pm and includes supplies\, instruction and a glass of house red or house white wine. $45+\ntax per person. This class is sure to fill up fast\, call to sign up today! 208.265.8545
URL:https://powine.com/event/paint-and-sip-with-nicole-black/
LOCATION:ID
CATEGORIES:Sip and Paint
END:VEVENT
BEGIN:VEVENT
DTSTART;TZID=America/Los_Angeles:20211231T170000
DTEND;TZID=America/Los_Angeles:20211231T200000
DTSTAMP:20260419T103824
CREATED:20211120T220321Z
LAST-MODIFIED:20211120T220321Z
UID:10001310-1640970000-1640980800@powine.com
SUMMARY:Live Music with BTP- Baker\, Thomas and Packard
DESCRIPTION:Happy New Year!! Benny Baker\, Ali Thomas\, and Sheldon Packard are going to help us ring in the New Year!  BTP will start your night off right!  Enjoy a glass of Cabernet Sauvignon\, pizza\, and a great night of music!  Arrive early for a seat! 
URL:https://powine.com/event/live-music-with-btp-baker-thomas-and-packard/
LOCATION:ID
CATEGORIES:Music
END:VEVENT
END:VCALENDAR