BEGIN:VCALENDAR
VERSION:2.0
PRODID:-//Pend Oreille Winery in Sandpoint, Idaho - ECPv6.15.20//NONSGML v1.0//EN
CALSCALE:GREGORIAN
METHOD:PUBLISH
X-ORIGINAL-URL:https://powine.com
X-WR-CALDESC:Events for Pend Oreille Winery in Sandpoint, Idaho
REFRESH-INTERVAL;VALUE=DURATION:PT1H
X-Robots-Tag:noindex
X-PUBLISHED-TTL:PT1H
BEGIN:VTIMEZONE
TZID:America/Los_Angeles
BEGIN:DAYLIGHT
TZOFFSETFROM:-0800
TZOFFSETTO:-0700
TZNAME:PDT
DTSTART:20170312T100000
END:DAYLIGHT
BEGIN:STANDARD
TZOFFSETFROM:-0700
TZOFFSETTO:-0800
TZNAME:PST
DTSTART:20171105T090000
END:STANDARD
BEGIN:DAYLIGHT
TZOFFSETFROM:-0800
TZOFFSETTO:-0700
TZNAME:PDT
DTSTART:20180311T100000
END:DAYLIGHT
BEGIN:STANDARD
TZOFFSETFROM:-0700
TZOFFSETTO:-0800
TZNAME:PST
DTSTART:20181104T090000
END:STANDARD
BEGIN:DAYLIGHT
TZOFFSETFROM:-0800
TZOFFSETTO:-0700
TZNAME:PDT
DTSTART:20190310T100000
END:DAYLIGHT
BEGIN:STANDARD
TZOFFSETFROM:-0700
TZOFFSETTO:-0800
TZNAME:PST
DTSTART:20191103T090000
END:STANDARD
END:VTIMEZONE
BEGIN:VEVENT
DTSTART;TZID=America/Los_Angeles:20180512T090000
DTEND;TZID=America/Los_Angeles:20180512T120000
DTSTAMP:20260424T074302
CREATED:20180424T163608Z
LAST-MODIFIED:20180424T163608Z
UID:10001030-1526115600-1526126400@powine.com
SUMMARY:5K in May Fun Run
DESCRIPTION:5K in May Fun Run\nPend d’Oreille Winery presents the 5K in May Fun Run at Dover Bay Barn! With help from Dover Bay Resort\, Winter Ridge Natural Foods Market and Starbucks we will have coffee\, food\, prizes and Moms will receive a special gift! \nEntry fee is $5. If you’d like to pre-register please call Pend d’Oreille Winery tasting room at (208) 265-8545
URL:https://powine.com/event/5k-may-fun-run/
LOCATION:Dover Bay Barn\, 351-325 ODonnell Dr\, Sandpoint\, ID\, 83864
END:VEVENT
END:VCALENDAR