BEGIN:VCALENDAR
VERSION:2.0
PRODID:-//Pend Oreille Winery in Sandpoint, Idaho - ECPv6.15.20//NONSGML v1.0//EN
CALSCALE:GREGORIAN
METHOD:PUBLISH
X-WR-CALNAME:Pend Oreille Winery in Sandpoint, Idaho
X-ORIGINAL-URL:https://powine.com
X-WR-CALDESC:Events for Pend Oreille Winery in Sandpoint, Idaho
REFRESH-INTERVAL;VALUE=DURATION:PT1H
X-Robots-Tag:noindex
X-PUBLISHED-TTL:PT1H
BEGIN:VTIMEZONE
TZID:America/Los_Angeles
BEGIN:DAYLIGHT
TZOFFSETFROM:-0800
TZOFFSETTO:-0700
TZNAME:PDT
DTSTART:20220313T100000
END:DAYLIGHT
BEGIN:STANDARD
TZOFFSETFROM:-0700
TZOFFSETTO:-0800
TZNAME:PST
DTSTART:20221106T090000
END:STANDARD
BEGIN:DAYLIGHT
TZOFFSETFROM:-0800
TZOFFSETTO:-0700
TZNAME:PDT
DTSTART:20230312T100000
END:DAYLIGHT
BEGIN:STANDARD
TZOFFSETFROM:-0700
TZOFFSETTO:-0800
TZNAME:PST
DTSTART:20231105T090000
END:STANDARD
BEGIN:DAYLIGHT
TZOFFSETFROM:-0800
TZOFFSETTO:-0700
TZNAME:PDT
DTSTART:20240310T100000
END:DAYLIGHT
BEGIN:STANDARD
TZOFFSETFROM:-0700
TZOFFSETTO:-0800
TZNAME:PST
DTSTART:20241103T090000
END:STANDARD
END:VTIMEZONE
BEGIN:VEVENT
DTSTART;TZID=America/Los_Angeles:20230503T170000
DTEND;TZID=America/Los_Angeles:20230503T190000
DTSTAMP:20260421T044837
CREATED:20230427T164121Z
LAST-MODIFIED:20230427T164121Z
UID:10001780-1683133200-1683140400@powine.com
SUMMARY:Artist Reception for Laura Sawaya
DESCRIPTION:Please join us in welcoming Laura Blue art at the Pend d’Oreille Winery.  Laura was formally educated at the San Francisco Art Institute and presents abstract\, landscape and realistic paintings inspired by her movement through the natural world. Laura Blue art reflects moods of light and color in original and captivating ways.  Please take a moment to have a conversation with Laura and learn about her pieces while enjoying a glass of wine and refreshments. 5-7:00pm.
URL:https://powine.com/event/artist-reception-for-laura-sawaya/
LOCATION:Dover Bay Resort\, 351-325 ODonnell Dr\, Sandpoint\, ID\, 83864\, United States
CATEGORIES:Artist Reception
END:VEVENT
END:VCALENDAR